{"text_format":"1","workbook":"xlsx","n_sheets":12,"sheets":["menù","contr.biennio (vedi prima riga)","contr.biennio(vedi prima riga)","integrazione (vedi prima riga)","integrazione(vedi prima riga)","inter.legale (vedi prima riga)","inter.legale(vedi prima riga)","comp.revisore (vedi prima riga)","comp.revisore(vedi prima riga)","calcoli","costo del lavoro","documentazione da verificare"],"not_rendered":{"charts":0,"images":0,"macros":1,"external_links":0,"defined_names":65,"comments":4,"pivot_tables":0},"unopened":[],"bounds":{"document_bytes":16777216,"sheet_cells":100000,"rows_first":2000,"rows_last":500,"rows_between":2000,"halvings":0,"cell_chars":16384,"cell_head_chars":4096},"cells_cut":0,"cells_raw":0,"read":"whole","date_system":"1900"}

{"sheet":"menù","index":0,"n_rows":41,"n_cols":4,"rows_kept":41,"cut":false,"hidden":false,"merged":[[0,0,0,3],[8,0,8,3],[1,0,1,3],[6,1,6,2]]}
["IN TUTTI I FOGLI DI CALCOLO, DIGITARE SOLO LE CELLE BIANCHE"]
["Il calcolo del contributo biennale - e del conseguente compenso spettante ai revisori - viene effettuato sulla base dei seguenti decreti:"]
["­ decreto ministeriale del 3 marzo 2017 per il biennio 2017-2018."]
["­ decreto ministeriale del 20 gennaio 2015 per il biennio 2015-2016."]
["Ragione sociale:","Numero soci (*)","Capitale sociale (*)","Valore della produzione (*)"]
[]
[null,{"$f":"IF(AND(ragionesociale<>\"\",MID(CELL(\"nomefile\",ragionesociale),FIND(\"[\",CELL(\"nomefile\",ragionesociale))-6,6)<>\"Varie\\\",MID(CELL(\"nomefile\",ragionesociale),1,34)=\"C:\\Documenti\\Cooperative associate\"),\"Progressivo \" & MID(CELL(\"nomefile\",ragionesociale),FIND(\"-\",CELL(\"nomefile\",ragionesociale))-3,3),\"\")","v":""}]
["(*) valori riferiti al bilancio al 31/12 dell'esercizio precedente il biennio interessato"]
["FUNZIONI DA ESEGUIRE"]
[null,"CALCOLO:"]
[null,{"$f":"\"- CONTRIBUTO DI REVISIONE BIENNALE PER IL BIENNIO \" & LEFT(RIGHT($A$3,10),9)","v":"- CONTRIBUTO DI REVISIONE BIENNALE PER IL BIENNIO 2017-2018"}]
[null,"     E RELATIVI INTERESSI E SANZIONE;"]
[null,"- CONTRIBUTO AI FONDI MUTUALISTICI (3%) E RELATIVI INTERESSI."]
[]
[null,"CALCOLO:"]
[null,{"$f":"\"- CONTRIBUTO DI REVISIONE BIENNALE PER IL BIENNIO \" & LEFT(RIGHT($A$4,10),9)","v":"- CONTRIBUTO DI REVISIONE BIENNALE PER IL BIENNIO 2015-2016"}]
[null,"     E RELATIVI INTERESSI E SANZIONE;"]
[null,"- CONTRIBUTO AI FONDI MUTUALISTICI (3%) E RELATIVI INTERESSI."]
[]
[null,"CALCOLO COMPENSO PER REVISIONE "]
[null,{"$f":"\"   DOVUTO AI REVISORI PER IL BIENNIO \" & LEFT(RIGHT($A$3,10),9) & \".\"","v":"   DOVUTO AI REVISORI PER IL BIENNIO 2017-2018."}]
[]
[null,"CALCOLO COMPENSO PER REVISIONE "]
[null,{"$f":"\"   DOVUTO AI REVISORI PER IL BIENNIO \" & LEFT(RIGHT($A$4,10),9) & \".\"","v":"   DOVUTO AI REVISORI PER IL BIENNIO 2015-2016."}]
[]
[null,"CALCOLO INTEGRAZIONE DEL CONTRIBUTO VERSATO PER IL"]
[null,{"$f":"\"BIENNIO \" & LEFT(RIGHT($A$3,10),9) & \".\"","v":"BIENNIO 2017-2018."}]
[]
[null,"CALCOLO INTEGRAZIONE DEL CONTRIBUTO VERSATO PER IL"]
[null,{"$f":"\"BIENNIO \" & LEFT(RIGHT($A$4,10),9) & \".\"","v":"BIENNIO 2015-2016."}]
[]
[null,"CALCOLI VARI E DATI SIGNIFICATIVI"]
[]
[null,"CALCOLO COSTO DEL LAVORO"]
[]
[null,"DOCUMENTAZIONE DA VERIFICARE"]
[]
[null,"STAMPA questa pagina"]
[]
[null,"AZZERA contributi cooperativa, compenso revisore, integrazione,"]
[null,"calcoli, costo del lavoro, documentazione da verificare "]

{"sheet":"contr.biennio (vedi prima riga)","index":1,"n_rows":61,"n_cols":10,"rows_kept":61,"cut":false,"hidden":false,"merged":[[0,0,0,9],[60,1,60,4],[2,0,2,1],[55,1,55,3]]}
[{"$f":"\"CONTRIBUTO DI REVISIONE BIENNALE PER IL BIENNIO \" & LEFT(RIGHT(menù!$A$3,10),9)","v":"CONTRIBUTO DI REVISIONE BIENNALE PER IL BIENNIO 2017-2018"}]
["DIGITARE solo i dati nelle celle bianche, esprimendo gli importi in €uro con 2 decimali",null,null,null,null,null,null,null,"Indice fascia","fascia risultante"]
[{"$f":"IF(AND(ragionesociale<>\"\",MID(CELL(\"nomefile\",ragionesociale),FIND(\"[\",CELL(\"nomefile\",ragionesociale))-6,6)<>\"Varie\\\",MID(CELL(\"nomefile\",ragionesociale),1,34)=\"C:\\Documenti\\Cooperative associate\"),\"Progressivo \" & MID(CELL(\"nomefile\",ragionesociale),FIND(\"-\",CELL(\"nomefile\",ragionesociale))-3,3),\"\")","v":""},null,null,"Ragione sociale:",{"$f":"ragionesociale","v":0},null,null,"fascia per n° soci",{"$f":"IF($A$12<>\"\",MATCH($A$12,$B$6:$D$6,1),\"\")","v":""},{"$f":"IF(AND($A$12=\"\",$B$12=\"\",$C$12=\"\"),\"\",IF(AND($A$12<>\"\",$B$12<>\"\",$C$12<>\"\"),INDEX($B$4:$F$4,MAX($I$3:$I$5)),\"Mancano dati\"))","v":""}]
["Fasce:",{"$f":"\"A\"","v":"A"},{"$f":"\"B\"","v":"B"},{"$f":"\"C\"","v":"C"},{"$f":"\"D\"","v":"D"},{"$f":"\"E\"","v":"E"},null,"fascia per capitale",{"$f":"IF($B$12<>\"\",MATCH($B$12,$B$7:$D$7,1),\"\")","v":""}]
[null,"a partire da","a partire da","a partire da","a partire da","a partire da",null,"fascia per fatturato",{"$f":"IF($C$12<>\"\",MATCH($C$12,$B$8:$F$8,1),\"\")","v":""}]
["Numero soci:",0,101,501,501,501,null,null,"contributo base",{"$f":"IF(AND($I$3<>\"\",$I$4<>\"\",$I$5<>\"\"),ROUND(INDEX($B$9:$F$9,MAX($I$3:$I$5)),0),\"\")","v":""}]
["Capitale sociale versato:",0,5160.01,40000.01,40000.01,40000.01]
["Fatturato:",0,75000.009999999995,300000.01,1000000.01,2000000.01]
["Contributo:",280,680,1350,1730,2380]
[null,"P A R A M E T R I    A L   31.12.2014:"]
["Numero soci","Cap.soc.vers.","Valore della produzione:","Fascia"]
[{"$f":"IF(numerosoci=\"\",\"\",numerosoci)","v":""},{"$f":"IF(capitaleversato=\"\",\"\",capitaleversato)","v":""},{"$f":"IF(valoredellaproduzione=\"\",\"\",valoredellaproduzione)","v":""},{"$f":"$J$3","v":""}]
["CONTRIBUTO IN RELAZIONE ALLA FASCIA",null,null,"(a)",{"$f":"IF(AND($D$23<>\"\",$I$30-$D$23>=0),$B$9,$J$6)","v":""}]
["MAGGIORAZIONE in relazione alla tipologia della cooperativa:"]
["DIGITARE uno dei seguenti numeri, a seconda del caso, se ricorre: 1 2 3 4 5",null,null,null,null,null,{"$f":"IF(AND(F15<>1,F15<>2,F15<>3,F15<>4,F15<>5,F15<>\"\"),\"numero errato\",\"\")","v":""}]
["1 - Ispezionabili annualmente per valore della produzione,"]
["      per possesso azioni di controllo su Srl o Spa,"]
["      per dimensione, riserve o prestiti sociali - art.15 L. 59/92."]
["2 - Enti Cooperativi Edilizi non iscritti relativo albo (art. 13 L.59/92)."]
["3 - Ispezionabili annualmente: Enti Cooperativi Edilizi iscritti albo (art. 13 L.59/92) con progr.già avviato o realizzato."]
["4 - Ispezionabili annualmente: Enti Cooperativi Edilizi iscritti albo (art. 13 L.59/92) con programma non ancora avviato."]
["5 - Ispezionabili annualmente: Enti Cooperativi Sociali."]
["Enti Cooperativi in liquidazione dal"]
[{"$f":"IF(OR($F$15=1,$F$15=3),\"Aumento contr.base 50%\",IF($F$15=5,\"Aumento contr.base 30% (Coop.Sociali, ecc.)\",\"\"))","v":""},null,null,{"$f":"IF(OR($F$15=1,$F$15=3),\"(b=a+50%*a)\",IF($F$15=5,\"(b=a+30%*a)\",\"(b)\"))","v":"(b)"},{"$f":"IF(OR($F$15=1,$F$15=3),ROUND($E$13*50%,2),IF($F$15=5,ROUND($E$13*30%,2),0))","v":0}]
["TOTALE parziale (codice tributo: 3010)",null,null,null,{"$f":"\"(c=a+b)\"","v":"(c=a+b)"},{"$f":"IF(SUM($E$13,$E$24)<>0,SUM($E$13,$E$24),0)","v":0}]
["Aumento 10% (coop. Edilizie; codice tributo 3011)",null,null,null,{"$f":"IF(OR($F$15=2,$F$15=3,$F$15=4),\"(d=10%*c)\",\"(d)\")","v":"(d)"},{"$f":"IF(OR($F$15=2,$F$15=3,$F$15=4),$F$25*10%,0)","v":0}]
["TOTALE contributo dovuto",null,null,null,null,{"$f":"IF($G$27<>\"errore\",\"(e=c+d)\",\"\")","v":"(e=c+d)"},{"$f":"SUM($F$25,$F$26)","v":0}]
["INTERESSI e SANZIONE DOVUTI PER IL BIENNIO",null,null,null,null,null,{"$f":"RIGHT($A$1,4)-5 & \"-\" & RIGHT($A$1,4)-4","v":"2013-2014"},{"$f":"RIGHT($A$1,4)-3 & \"-\" & RIGHT($A$1,4)-2","v":"2015-2016"},{"$f":"RIGHT($A$1,9)","v":"2017-2018"}]
[null,"data di pubblicazione D.M. 3 marzo 2017",null,null,null,null,"2013-04-16","2015-03-30","2017-04-11"]
["f1)","termine ultimo per il versam. (90 giorni dopo la pubblicazione del D.M. 0.03.2017)",null,null,null,null,{"$f":"IF(G$29<>\"\",IF(WEEKDAY(G$29+90)=1,G$29+91,IF(WEEKDAY(G$29+90)=7,G$29+92,G$29+90)),\"\")","v":"2013-07-15"},{"$f":"IF(H$29<>\"\",IF(WEEKDAY(H$29+90)=1,H$29+91,IF(WEEKDAY(H$29+90)=7,H$29+92,H$29+90)),\"\")","v":"2015-06-29"},{"$f":"IF(I$29<>\"\",IF(WEEKDAY(I$29+90)=1,I$29+91,IF(WEEKDAY(I$29+90)=7,I$29+92,I$29+90)),\"\")","v":"2017-07-10"}]
["Se cooperativa di nuova costituzione:"]
[null,"data di iscrizione nel Registro delle Imprese"]
["f11)","termine ultimo per il versam. (90 giorni dopo la data di iscrizione nel Registro delle Imprese)",null,null,null,null,{"$f":"IF(G$32<>\"\",IF(WEEKDAY(G$32+90)=1,G$32+91,IF(WEEKDAY(G$32+90)=7,G$32+92,G$32+90)),0)","v":"00:00:00"},{"$f":"IF(H$32<>\"\",IF(WEEKDAY(H$32+90)=1,H$32+91,IF(WEEKDAY(H$32+90)=7,H$32+92,H$32+90)),0)","v":"00:00:00"},{"$f":"IF(I$32<>\"\",IF(WEEKDAY(I$32+90)=1,I$32+91,IF(WEEKDAY(I$32+90)=7,I$32+92,I$32+90)),0)","v":"00:00:00"}]
["g1)","contributo biennale di revisione",null,null,null,null,null,null,{"$f":"G27","v":0}]
["i1)","data versamento"]
["l1)","giorni per calcolo interessi (l1=i1-f1 oppure f11)",null,null,null,null,{"$f":"IF(AND(G$35<>\"\",G$35>MAX(G$30,G$33)),'inter.legale (vedi prima riga)'!E25,\"\")","v":""},{"$f":"IF(AND(H$35<>\"\",H$35>MAX(H$30,H$33)),'inter.legale (vedi prima riga)'!I25,\"\")","v":""},{"$f":"IF(AND(I$35<>\"\",I$35>MAX(I$30,I$33)),'inter.legale (vedi prima riga)'!M25,\"\")","v":""}]
["m1)","inter.su contr.e maggior.(escluso 10% coop.edil.)(m1)",null,null,null,null,{"$f":"IF(G36<>\"\",'inter.legale (vedi prima riga)'!$F$25,0)","v":0},{"$f":"IF(H36<>\"\",'inter.legale (vedi prima riga)'!$J$25,0)","v":0},{"$f":"IF(I36<>\"\",'inter.legale (vedi prima riga)'!$N$25,0)","v":0}]
["n1)","Totale versamento contributo magg.e interessi codice tributo 3010 (n1=g1+l1+m1)",null,null,null,null,{"$f":"IF(G$34<>\"\",SUM(G$34,G$37),0)","v":0},{"$f":"IF(H$34<>\"\",SUM(H$34,H$37),0)","v":0},{"$f":"IF(I$34<>\"\",SUM(I$34,I$37),0)","v":0}]
[null,"Interesse (dietim giornaliero) per ogni giorno successivo alla data di versamento indicata (cod. 3010) ",null,null,null,null,{"$f":"IF(G$36<>\"\",'inter.legale (vedi prima riga)'!$F$26,0)","v":0},{"$f":"IF(H$36<>\"\",'inter.legale (vedi prima riga)'!$J$26,0)","v":0},{"$f":"IF(I$36<>\"\",'inter.legale (vedi prima riga)'!$N$26,0)","v":0}]
["o1)","maggiorazione 10% dovute dalle cooperative edilizie",null,null,null,null,null,null,{"$f":"IF($F$26<>0,$F$26,0)","v":0}]
["p1)","interessi sulla maggiorazione 10% (p1)",null,null,null,null,{"$f":"IF(G$34<>0,G$37/G$34*G$40,0)","v":0},{"$f":"IF(H$34<>0,H$37/H$34*H$40,0)","v":0},{"$f":"IF(I$34<>0,I$37/I$34*I$40,0)","v":0}]
["q1)","Totale versam.maggior.10% coop.edil.e inter.codice tributo 3011 (q1=o1+p1)",null,null,null,null,{"$f":"IF(G$40<>0,SUM(G$40,G$41),0)","v":0},{"$f":"IF(H$40<>0,SUM(H$40,H$41),0)","v":0},{"$f":"IF(I$40<>0,SUM(I$40,I$41),0)","v":0}]
[null,"Interesse dovuto (cod. 3011) per ogni giorno successivo alla data di versamento indicata",null,null,null,null,{"$f":"IF(G$40<>0,G$40*G$39/G$34,0)","v":0},{"$f":"IF(H$40<>0,H$40*H$39/H$34,0)","v":0},{"$f":"IF(I$40<>0,I$40*I$39/I$34,0)","v":0}]
["r1)","sanzione rel.cod.trib. 3010 e 3011: 5% cod.trib. 3014 (pagamento entro 30 gg)",null,null,null,null,{"$f":"IF(AND(G$34<>0,G$35<>\"\"),IF(AND(G$35-IF(G$32<>\"\",G$33,G$30)<=30,G$35-IF(G$32<>\"\",G$33,G$30)>0),5%*(G$34+G$40),0),0)","v":0},{"$f":"IF(AND(H$34<>0,H$35<>\"\"),IF(AND(H$35-IF(H$32<>\"\",H$33,H$30)<=30,H$35-IF(H$32<>\"\",H$33,H$30)>0),5%*(H$34+H$40),0),0)","v":0},{"$f":"IF(AND(I$34<>0,I$35<>\"\"),IF(AND(I$35-IF(I$32<>\"\",I$33,I$30)<=30,I$35-IF(I$32<>\"\",I$33,I$30)>0),5%*(I$34+I$40),0),0)","v":0}]
["s1)","sanzione rel.cod.trib. 3010 e 3011: 15% cod.trib. 3014 (pagamento dopo 30 gg)",null,null,null,null,{"$f":"IF(AND(G$34<>0,G$35<>\"\"),IF(AND(G$35-IF(G$32<>\"\",G$33,G$30)>30,G$35-IF(G$32<>\"\",G$33,G$30)>0),15%*(G$34+G$40),0),0)","v":0},{"$f":"IF(AND(H$34<>0,H$35<>\"\"),IF(AND(H$35-IF(H$32<>\"\",H$33,H$30)>30,H$35-IF(H$32<>\"\",H$33,H$30)>0),15%*(H$34+H$40),0),0)","v":0},{"$f":"IF(AND(I$34<>0,I$35<>\"\"),IF(AND(I$35-IF(I$32<>\"\",I$33,I$30)>30,I$35-IF(I$32<>\"\",I$33,I$30)>0),15%*(I$34+I$40),0),0)","v":0}]
["t1)","Totale versamento (t1=n1+q1+r1+s1)",null,null,null,null,{"$f":"IF(G$27<>0,SUM(G$38,G$42:G$45),0)","v":0},{"$f":"IF(G$27<>0,SUM(H$38,H$42:H$45),0)","v":0},{"$f":"IF(G$27<>0,SUM(I$38,I$42:I$45),0)","v":0}]
["CONTRIBUTO 3% DOVUTO (L. 59/1992 art. 11)",null,null,null,null,{"$f":"G47-1","v":2013},{"$f":"H47-1","v":2014},{"$f":"I47-1","v":2015},{"$f":"J47-1","v":2016},{"$f":"RIGHT($A$1,4)-1","v":2017}]
["a2)","risultato dell'esercizio"]
["b2)","eventuali preaccantonamenti a riserva indivisibile"]
["c2)","eventuali preaccantonamenti art. 11 L. n° 59"]
["d2)","eventuali perdite di esercizio"]
["e2)","eventuali ristorni"]
["f2)","Totale imponibile [f2=3%*(a2+b2+c2-d2-e2)]",null,null,null,{"$f":"IF(AND(OR(F48<>\"\",F49<>\"\",F50<>\"\",F51<>\"\",F52<>\"\"),SUM(F48:F50)-F51-F52>0),SUM(F48:F50)-F51-F52,0)","v":0},0,0,{"$f":"IF(AND(OR(I48<>\"\",I49<>\"\",I50<>\"\",I51<>\"\",I52<>\"\"),SUM(I48:I50)-I51-I52>0),SUM(I48:I50)-I51-I52,0)","v":0},{"$f":"IF(AND(OR(J48<>\"\",J49<>\"\",J50<>\"\",J51<>\"\",J52<>\"\"),SUM(J48:J50)-J51-J52>0),SUM(J48:J50)-J51-J52,0)","v":0}]
["g2)","Contributo dovuto ai fondi mutualistici (g2=3%*f2)",null,null,null,{"$f":"IF(F53<>0,3%*F53,0)","v":0},{"$f":"IF(G53<>0,3%*G53,0)","v":0},{"$f":"IF(H53<>0,3%*H53,0)","v":0},{"$f":"IF(I53>0,3%*I53,0)","v":0},{"$f":"IF(J53>0,3%*J53,0)","v":0}]
[null,"data di approvazione del bilancio d'esercizio"]
["h2)","data ultima per vers.(1=30/10 oppure 2=300 giorni, vedi nota)",null,null,null,{"$f":"IF(F55<>\"\",IF($E56=1,DATE(YEAR(F55),10,30),IF($E56=2,F55+300,\"comunicato dato errato nella cella bianca a sinistra\")),0)","v":"00:00:00"},{"$f":"IF(G55<>\"\",IF($E56=1,DATE(YEAR(G55),10,30),IF($E56=2,G55+300,\"comunicato dato errato nella cella bianca a sinistra\")),0)","v":"00:00:00"},{"$f":"IF(H55<>\"\",IF($E56=1,DATE(YEAR(H55),10,30),IF($E56=2,H55+300,\"comunicato dato errato nella cella bianca a sinistra\")),0)","v":"00:00:00"},{"$f":"IF(I55<>\"\",IF($E56=1,DATE(YEAR(I55),10,30),IF($E56=2,I55+300,\"comunicato dato errato nella cella bianca a sinistra\")),0)","v":"00:00:00"},{"$f":"IF(J55<>\"\",IF($E56=1,DATE(YEAR(J55),10,30),IF($E56=2,J55+300,\"comunicato dato errato nella cella bianca a sinistra\")),0)","v":"00:00:00"}]
["i2)","data versamento"]
["l2)","giorni per calcolo interessi (l2=i2-h2)",null,null,null,{"$f":"IF(F57-F56<=0,0,F57-F56)","v":0},{"$f":"IF(G57-G56<=0,0,G57-G56)","v":0},{"$f":"IF(H57-H56<=0,0,H57-H56)","v":0},{"$f":"IF(I57-I56<=0,0,I57-I56)","v":0},{"$f":"IF(J57-J56<=0,0,J57-J56)","v":0}]
["m2)","interessi",null,null,null,{"$f":"'inter.legale (vedi prima riga)'!$R$25","v":0},{"$f":"'inter.legale (vedi prima riga)'!$V$25","v":0},{"$f":"'inter.legale (vedi prima riga)'!$Z$25","v":0},{"$f":"'inter.legale (vedi prima riga)'!$AD$25","v":0},{"$f":"'inter.legale (vedi prima riga)'!$AH$25","v":0}]
["n2)","Totale versam.contrib.e interessi cod.trib.3012 (n2=g2+m2)",null,null,null,{"$f":"IF(F$54<>0,SUM(F$54,F$59),0)","v":0},{"$f":"IF(G$54<>0,SUM(G$54,G$59),0)","v":0},{"$f":"IF(H$54<>0,SUM(H$54,H$59),0)","v":0},{"$f":"IF(I$54<>0,SUM(I$54,I$59),0)","v":0},{"$f":"IF(J$54<>0,SUM(J$54,J$59),0)","v":0}]
[null,"Interesse (dietim giornaliero) per ogni giorno successivo alla data di versamento indicata (cod. 3010) ",null,null,null,{"$f":"'inter.legale (vedi prima riga)'!$R$26","v":0},{"$f":"'inter.legale (vedi prima riga)'!$V$26","v":0},{"$f":"'inter.legale (vedi prima riga)'!$Z$26","v":0},{"$f":"'inter.legale (vedi prima riga)'!$AD$26","v":0},{"$f":"'inter.legale (vedi prima riga)'!$AH$26","v":0}]

{"sheet":"contr.biennio(vedi prima riga)","index":2,"n_rows":61,"n_cols":10,"rows_kept":61,"cut":false,"hidden":false,"merged":[[0,0,0,9],[60,1,60,4],[2,0,2,1],[55,1,55,3]]}
[{"$f":"\"CONTRIBUTO DI REVISIONE BIENNALE PER IL BIENNIO \" & LEFT(RIGHT(menù!$A$4,10),9)","v":"CONTRIBUTO DI REVISIONE BIENNALE PER IL BIENNIO 2015-2016"}]
["DIGITARE solo i dati nelle celle bianche, esprimendo gli importi in €uro con 2 decimali",null,null,null,null,null,null,null,"Indice fascia","fascia risultante"]
[{"$f":"IF(AND(ragionesociale<>\"\",MID(CELL(\"nomefile\",ragionesociale),FIND(\"[\",CELL(\"nomefile\",ragionesociale))-6,6)<>\"Varie\\\",MID(CELL(\"nomefile\",ragionesociale),1,34)=\"C:\\Documenti\\Cooperative associate\"),\"Progressivo \" & MID(CELL(\"nomefile\",ragionesociale),FIND(\"-\",CELL(\"nomefile\",ragionesociale))-3,3),\"\")","v":""},null,null,"Ragione sociale:",{"$f":"ragionesociale","v":0},null,null,"fascia per n° soci",{"$f":"IF($A$12<>\"\",MATCH($A$12,$B$6:$D$6,1),\"\")","v":1},{"$f":"IF(AND($A$12=\"\",$B$12=\"\",$C$12=\"\"),\"\",IF(AND($A$12<>\"\",$B$12<>\"\",$C$12<>\"\"),INDEX($B$4:$F$4,MAX($I$3:$I$5)),\"Mancano dati\"))","v":"A"}]
["Fasce:",{"$f":"\"A\"","v":"A"},{"$f":"\"B\"","v":"B"},{"$f":"\"C\"","v":"C"},{"$f":"\"D\"","v":"D"},{"$f":"\"E\"","v":"E"},null,"fascia per capitale",{"$f":"IF($B$12<>\"\",MATCH($B$12,$B$7:$D$7,1),\"\")","v":1}]
[null,"a partire da","a partire da","a partire da","a partire da","a partire da",null,"fascia per fatturato",{"$f":"IF($C$12<>\"\",MATCH($C$12,$B$8:$F$8,1),\"\")","v":1}]
["Numero soci:",0,101,501,501,501,null,null,"contributo base",{"$f":"IF(AND($I$3<>\"\",$I$4<>\"\",$I$5<>\"\"),ROUND(INDEX($B$9:$F$9,MAX($I$3:$I$5)),0),\"\")","v":280}]
["Capitale sociale versato:",0,5160.01,40000.01,40000.01,40000.01]
["Fatturato:",0,75000.009999999995,300000.01,1000000.01,2000000.01]
["Contributo:",280,680,1350,1730,2380]
[null,"P A R A M E T R I    A L   31.12.2012:"]
["Numero soci","Cap.soc.vers.","Valore della produzione:","Fascia"]
[10,1000,10000,{"$f":"$J$3","v":"A"}]
["CONTRIBUTO IN RELAZIONE ALLA FASCIA",null,null,"(a)",{"$f":"IF(AND($D$23<>\"\",$I$30-$D$23>=0),$B$9,$J$6)","v":280}]
["MAGGIORAZIONE in relazione alla tipologia della cooperativa:"]
["DIGITARE uno dei seguenti numeri, a seconda del caso, se ricorre: 1 2 3 4 5",null,null,null,null,null,{"$f":"IF(AND(F15<>1,F15<>2,F15<>3,F15<>4,F15<>5,F15<>\"\"),\"numero errato\",\"\")","v":""}]
["1 - Ispezionabili annualmente per valore della produzione,"]
["      per possesso azioni di controllo su Srl o Spa,"]
["      per dimensione, riserve o prestiti sociali - art.15 L. 59/92."]
["2 - Enti Cooperativi Edilizi non iscritti relativo albo (art. 13 L.59/92)."]
["3 - Ispezionabili annualmente: Enti Cooperativi Edilizi iscritti albo (art. 13 L.59/92) con progr.già avviato o realizzato."]
["4 - Ispezionabili annualmente: Enti Cooperativi Edilizi iscritti albo (art. 13 L.59/92) con programma non ancora avviato."]
["5 - Ispezionabili annualmente: Enti Cooperativi Sociali."]
["Enti Cooperativi in liquidazione dal"]
[{"$f":"IF(OR($F$15=1,$F$15=3),\"Aumento contr.base 50%\",IF($F$15=5,\"Aumento contr.base 30% (Coop.Sociali, ecc.)\",\"\"))","v":""},null,null,{"$f":"IF(OR($F$15=1,$F$15=3),\"(b=a+50%*a)\",IF($F$15=5,\"(b=a+30%*a)\",\"(b)\"))","v":"(b)"},{"$f":"IF(OR($F$15=1,$F$15=3),ROUND($E$13*50%,2),IF($F$15=5,ROUND($E$13*30%,2),0))","v":0}]
["TOTALE parziale (codice tributo: 3010)",null,null,null,{"$f":"\"(c=a+b)\"","v":"(c=a+b)"},{"$f":"IF(SUM($E$13,$E$24)<>0,SUM($E$13,$E$24),0)","v":280}]
["Aumento 10% (coop. Edilizie; codice tributo 3011)",null,null,null,{"$f":"IF(OR($F$15=2,$F$15=3,$F$15=4),\"(d=10%*c)\",\"(d)\")","v":"(d)"},{"$f":"IF(OR($F$15=2,$F$15=3,$F$15=4),$F$25*10%,0)","v":0}]
["TOTALE contributo dovuto",null,null,null,null,{"$f":"IF($G$27<>\"errore\",\"(e=c+d)\",\"\")","v":"(e=c+d)"},{"$f":"SUM($F$25,$F$26)","v":280}]
["INTERESSI e SANZIONE DOVUTI PER IL BIENNIO",null,null,null,null,null,{"$f":"RIGHT($A$1,4)-5 & \"-\" & RIGHT($A$1,4)-4","v":"2011-2012"},{"$f":"RIGHT($A$1,4)-3 & \"-\" & RIGHT($A$1,4)-2","v":"2013-2014"},{"$f":"RIGHT($A$1,9)","v":"2015-2016"}]
[null,"data di pubblicazione D.M. 20 gennaio 2015",null,null,null,null,"2011-04-11","2013-04-16","2015-03-30"]
["f1)","termine ultimo per il versam. (90 giorni dopo la pubblicazione del D.M. 07.02.2013)",null,null,null,null,{"$f":"IF(WEEKDAY(G$29+90)=1,G$29+91,IF(WEEKDAY(G$29+90)=7,G$29+92,G$29+90))","v":"2011-07-11"},{"$f":"IF(WEEKDAY(H$29+90)=1,H$29+91,IF(WEEKDAY(H$29+90)=7,H$29+92,H$29+90))","v":"2013-07-15"},{"$f":"IF(I$29<>\"\",IF(WEEKDAY(I$29+90)=1,I$29+91,IF(WEEKDAY(I$29+90)=7,I$29+92,I$29+90)),\"\")","v":"2015-06-29"}]
["Se cooperativa di nuova costituzione:"]
[null,"data di iscrizione nel Registro delle Imprese"]
["f11)","termine ultimo per il versam. (90 giorni dopo la data di iscrizione nel Registro delle Imprese)",null,null,null,null,{"$f":"IF(G$32<>\"\",IF(WEEKDAY(G$32+90)=1,G$32+91,IF(WEEKDAY(G$32+90)=7,G$32+92,G$32+90)),0)","v":"00:00:00"},{"$f":"IF(H$32<>\"\",IF(WEEKDAY(H$32+90)=1,H$32+91,IF(WEEKDAY(H$32+90)=7,H$32+92,H$32+90)),0)","v":"00:00:00"},{"$f":"IF(I$32<>\"\",IF(WEEKDAY(I$32+90)=1,I$32+91,IF(WEEKDAY(I$32+90)=7,I$32+92,I$32+90)),0)","v":"00:00:00"}]
["g1)","contributo biennale di revisione",null,null,null,null,null,null,{"$f":"G27","v":280}]
["i1)","data versamento"]
["l1)","giorni per calcolo interessi (l1=i1-f1 oppure f11)",null,null,null,null,{"$f":"IF(AND(G$35<>\"\",G$35>MAX(G$30,G$33)),'inter.legale(vedi prima riga)'!E25,\"\")","v":""},{"$f":"IF(AND(H$35<>\"\",H$35>MAX(H$30,H$33)),'inter.legale(vedi prima riga)'!I25,\"\")","v":""},{"$f":"IF(AND(I$35<>\"\",I$35>MAX(I$30,I$33)),'inter.legale(vedi prima riga)'!M25,\"\")","v":""}]
["m1)","inter.su contr.e maggior.(escluso 10% coop.edil.)(m1)",null,null,null,null,{"$f":"IF(G36<>\"\",'inter.legale(vedi prima riga)'!$F$25,0)","v":0},{"$f":"IF(H36<>\"\",'inter.legale(vedi prima riga)'!$J$25,0)","v":0},{"$f":"IF(I36<>\"\",'inter.legale(vedi prima riga)'!$N$25,0)","v":0}]
["n1)","Totale versamento contributo magg.e interessi codice tributo 3010 (n1=g1+l1+m1)",null,null,null,null,{"$f":"IF(G$34<>\"\",SUM(G$34,G$37),0)","v":0},{"$f":"IF(H$34<>\"\",SUM(H$34,H$37),0)","v":0},{"$f":"IF(I$34<>\"\",SUM(I$34,I$37),0)","v":280}]
[null,"Interesse (dietim giornaliero) per ogni giorno successivo alla data di versamento indicata (cod. 3010) ",null,null,null,null,{"$f":"IF(G$36<>\"\",'inter.legale(vedi prima riga)'!$F$26,0)","v":0},{"$f":"IF(H$36<>\"\",'inter.legale(vedi prima riga)'!$J$26,0)","v":0},{"$f":"IF(I$36<>\"\",'inter.legale(vedi prima riga)'!$N$26,0)","v":0}]
["o1)","maggiorazione 10% dovute dalle cooperative edilizie",null,null,null,null,null,null,{"$f":"IF($F$26<>0,$F$26,0)","v":0}]
["p1)","interessi sulla maggiorazione 10% (p1)",null,null,null,null,{"$f":"IF(G$34<>0,G$37/G$34*G$40,0)","v":0},{"$f":"IF(H$34<>0,H$37/H$34*H$40,0)","v":0},{"$f":"IF(I$34<>0,I$37/I$34*I$40,0)","v":0}]
["q1)","Totale versam.maggior.10% coop.edil.e inter.codice tributo 3011 (q1=o1+p1)",null,null,null,null,{"$f":"IF(G$40<>0,SUM(G$40,G$41),0)","v":0},{"$f":"IF(H$40<>0,SUM(H$40,H$41),0)","v":0},{"$f":"IF(I$40<>0,SUM(I$40,I$41),0)","v":0}]
[null,"Interesse dovuto (cod. 3011) per ogni giorno successivo alla data di versamento indicata",null,null,null,null,{"$f":"IF(G$40<>0,G$40*G$39/G$34,0)","v":0},{"$f":"IF(H$40<>0,H$40*H$39/H$34,0)","v":0},{"$f":"IF(I$40<>0,I$40*I$39/I$34,0)","v":0}]
["r1)","sanzione rel.cod.trib. 3010 e 3011: 5% cod.trib. 3014 (pagamento entro 30 gg)",null,null,null,null,{"$f":"IF(AND(G$34<>0,G$35<>\"\"),IF(AND(G$35-IF(G$32<>\"\",G$33,G$30)<=30,G$35-IF(G$32<>\"\",G$33,G$30)>0),5%*(G$34+G$40),0),0)","v":0},{"$f":"IF(AND(H$34<>0,H$35<>\"\"),IF(AND(H$35-IF(H$32<>\"\",H$33,H$30)<=30,H$35-IF(H$32<>\"\",H$33,H$30)>0),5%*(H$34+H$40),0),0)","v":0},{"$f":"IF(AND(I$34<>0,I$35<>\"\"),IF(AND(I$35-IF(I$32<>\"\",I$33,I$30)<=30,I$35-IF(I$32<>\"\",I$33,I$30)>0),5%*(I$34+I$40),0),0)","v":0}]
["s1)","sanzione rel.cod.trib. 3010 e 3011: 15% cod.trib. 3014 (pagamento dopo 30 gg)",null,null,null,null,{"$f":"IF(AND(G$34<>0,G$35<>\"\"),IF(AND(G$35-IF(G$32<>\"\",G$33,G$30)>30,G$35-IF(G$32<>\"\",G$33,G$30)>0),15%*(G$34+G$40),0),0)","v":0},{"$f":"IF(AND(H$34<>0,H$35<>\"\"),IF(AND(H$35-IF(H$32<>\"\",H$33,H$30)>30,H$35-IF(H$32<>\"\",H$33,H$30)>0),15%*(H$34+H$40),0),0)","v":0},{"$f":"IF(AND(I$34<>0,I$35<>\"\"),IF(AND(I$35-IF(I$32<>\"\",I$33,I$30)>30,I$35-IF(I$32<>\"\",I$33,I$30)>0),15%*(I$34+I$40),0),0)","v":0}]
["t1)","Totale versamento (t1=n1+q1+r1+s1)",null,null,null,null,{"$f":"IF(G$27<>0,SUM(G$38,G$42:G$45),0)","v":0},{"$f":"IF(G$27<>0,SUM(H$38,H$42:H$45),0)","v":0},{"$f":"IF(G$27<>0,SUM(I$38,I$42:I$45),0)","v":280}]
["CONTRIBUTO 3% DOVUTO (L. 59/1992 art. 11)",null,null,null,null,{"$f":"G47-1","v":2011},{"$f":"H47-1","v":2012},{"$f":"I47-1","v":2013},{"$f":"J47-1","v":2014},{"$f":"RIGHT($A$1,4)-1","v":2015}]
["a2)","risultato dell'esercizio"]
["b2)","eventuali preaccantonamenti a riserva indivisibile"]
["c2)","eventuali preaccantonamenti art. 11 L. n° 59"]
["d2)","eventuali perdite di esercizio"]
["e2)","eventuali ristorni"]
["f2)","Totale imponibile [f2=3%*(a2+b2+c2-d2-e2)]",null,null,null,{"$f":"IF(AND(OR(F48<>\"\",F49<>\"\",F50<>\"\",F51<>\"\",F52<>\"\"),SUM(F48:F50)-F51-F52>0),SUM(F48:F50)-F51-F52,0)","v":0},0,0,{"$f":"IF(AND(OR(I48<>\"\",I49<>\"\",I50<>\"\",I51<>\"\",I52<>\"\"),SUM(I48:I50)-I51-I52>0),SUM(I48:I50)-I51-I52,0)","v":0},{"$f":"IF(AND(OR(J48<>\"\",J49<>\"\",J50<>\"\",J51<>\"\",J52<>\"\"),SUM(J48:J50)-J51-J52>0),SUM(J48:J50)-J51-J52,0)","v":0}]
["g2)","Contributo dovuto ai fondi mutualistici (g2=3%*f2)",null,null,null,{"$f":"IF(F53<>0,3%*F53,0)","v":0},{"$f":"IF(G53<>0,3%*G53,0)","v":0},{"$f":"IF(H53<>0,3%*H53,0)","v":0},{"$f":"IF(I53>0,3%*I53,0)","v":0},{"$f":"IF(J53>0,3%*J53,0)","v":0}]
[null,"data di approvazione del bilancio d'esercizio"]
["h2)","data ultima per vers.(1=30/10 oppure 2=300 giorni, vedi nota)",null,null,null,{"$f":"IF(F55<>\"\",IF($E56=1,DATE(YEAR(F55),10,30),IF($E56=2,F55+300,\"comunicato dato errato nella cella bianca a sinistra\")),0)","v":"00:00:00"},{"$f":"IF(G55<>\"\",IF($E56=1,DATE(YEAR(G55),10,30),IF($E56=2,G55+300,\"comunicato dato errato nella cella bianca a sinistra\")),0)","v":"00:00:00"},{"$f":"IF(H55<>\"\",IF($E56=1,DATE(YEAR(H55),10,30),IF($E56=2,H55+300,\"comunicato dato errato nella cella bianca a sinistra\")),0)","v":"00:00:00"},{"$f":"IF(I55<>\"\",IF($E56=1,DATE(YEAR(I55),10,30),IF($E56=2,I55+300,\"comunicato dato errato nella cella bianca a sinistra\")),0)","v":"00:00:00"},{"$f":"IF(J55<>\"\",IF($E56=1,DATE(YEAR(J55),10,30),IF($E56=2,J55+300,\"comunicato dato errato nella cella bianca a sinistra\")),0)","v":"00:00:00"}]
["i2)","data versamento"]
["l2)","giorni per calcolo interessi (l2=i2-h2)",null,null,null,{"$f":"IF(F57-F56<=0,0,F57-F56)","v":0},{"$f":"IF(G57-G56<=0,0,G57-G56)","v":0},{"$f":"IF(H57-H56<=0,0,H57-H56)","v":0},{"$f":"IF(I57-I56<=0,0,I57-I56)","v":0},{"$f":"IF(J57-J56<=0,0,J57-J56)","v":0}]
["m2)","interessi",null,null,null,{"$f":"'inter.legale(vedi prima riga)'!$R$25","v":0},{"$f":"'inter.legale(vedi prima riga)'!$V$25","v":0},{"$f":"'inter.legale(vedi prima riga)'!$Z$25","v":0},{"$f":"'inter.legale(vedi prima riga)'!$AD$25","v":0},{"$f":"'inter.legale(vedi prima riga)'!$AH$25","v":0}]
["n2)","Totale versam.contrib.e interessi cod.trib.3012 (n2=g2+m2)",null,null,null,{"$f":"IF(F$54<>0,SUM(F$54,F$59),0)","v":0},{"$f":"IF(G$54<>0,SUM(G$54,G$59),0)","v":0},{"$f":"IF(H$54<>0,SUM(H$54,H$59),0)","v":0},{"$f":"IF(I$54<>0,SUM(I$54,I$59),0)","v":0},{"$f":"IF(J$54<>0,SUM(J$54,J$59),0)","v":0}]
[null,"Interesse (dietim giornaliero) per ogni giorno successivo alla data di versamento indicata (cod. 3010) ",null,null,null,{"$f":"'inter.legale(vedi prima riga)'!$R$26","v":0},{"$f":"'inter.legale(vedi prima riga)'!$V$26","v":0},{"$f":"'inter.legale(vedi prima riga)'!$Z$26","v":0},{"$f":"'inter.legale(vedi prima riga)'!$AD$26","v":0},{"$f":"'inter.legale(vedi prima riga)'!$AH$26","v":0}]

{"sheet":"integrazione (vedi prima riga)","index":3,"n_rows":39,"n_cols":10,"rows_kept":39,"cut":false,"hidden":false,"merged":[[19,0,25,0],[20,1,21,1],[20,3,21,3],[20,7,21,7],[20,8,21,8],[22,1,23,1],[22,3,23,3],[22,7,23,7],[22,8,23,8],[25,1,25,2],[11,0,17,0],[12,1,13,1],[12,3,13,3],[12,7,13,7],[12,8,13,8],[10,1,10,2],[10,7,10,9],[18,1,18,2],[18,7,18,9],[20,9,25,9],[12,9,17,9],[14,1,15,1],[14,3,15,3],[14,7,15,7],[14,8,15,8],[17,1,17,2],[38,0,38,2],[37,8,37,9],[28,0,36,0],[29,3,30,3],[32,3,33,3],[37,0,37,2],[35,3,36,3],[28,1,30,1],[31,1,33,1],[34,1,36,1],[29,9,30,9],[32,9,33,9],[35,9,36,9],[0,6,0,9],[0,0,0,3],[3,0,9,0],[2,1,2,2],[4,1,5,1],[6,7,7,7],[1,0,1,9],[2,7,2,9],[4,7,5,7],[4,3,5,3],[4,8,5,8],[6,1,7,1],[6,3,7,3],[6,8,7,8],[4,9,9,9],[9,1,9,2],[26,0,26,9],[29,8,36,8],[27,7,27,9],[29,7,30,7],[32,7,33,7],[35,7,36,7]]}
[{"$f":"IF(AND(ragionesociale<>\"\",MID(CELL(\"nomefile\",ragionesociale),FIND(\"[\",CELL(\"nomefile\",ragionesociale))-6,6)<>\"Varie\\\",MID(CELL(\"nomefile\",ragionesociale),1,34)=\"C:\\Documenti\\Cooperative associate\"),\"Progressivo \" & MID(CELL(\"nomefile\",ragionesociale),FIND(\"-\",CELL(\"nomefile\",ragionesociale))-3,3),\"\")","v":""},null,null,null,"Ragione sociale:",null,{"$f":"ragionesociale","v":0}]
[{"$f":"\"INTEGRAZIONE CONTRIBUTO BIENNALE PER IL BIENNIO \" & LEFT(RIGHT(menù!$A$3,10),9)","v":"INTEGRAZIONE CONTRIBUTO BIENNALE PER IL BIENNIO 2017-2018"}]
["biennio","tributo",null,"tributi pagati il","tributi dovuti al","differenze dovute al","differenze da versare il","da riportare sul modello F24 (per le coop. non aderenti) o sul bonifico (per le coop. aderenti"]
[{"$f":"IF('contr.biennio (vedi prima riga)'!$I$34<>0,'contr.biennio (vedi prima riga)'!$I$28,\"\")","v":""},"codice",null,{"$f":"IF('contr.biennio (vedi prima riga)'!$I$35<>\"\",'contr.biennio (vedi prima riga)'!$I$35,\"\")","v":""},{"$f":"D4","v":""},{"$f":"D4","v":""},null,"importi","cod.tributo","anno"]
[null,3010,"contributo",null,{"$f":"'contr.biennio (vedi prima riga)'!$I$34","v":0},{"$f":"E5-D5","v":0},{"$f":"IF(AND($F5<>0,G4<>\"\"),ROUND($F5*(1+INDEX('inter.legale (vedi prima riga)'!$B$9:$B$202,MATCH(G4,'inter.legale (vedi prima riga)'!$A$9:$A$202,1))/100/365*(G4-'contr.biennio (vedi prima riga)'!$I$35)),2),0)","v":0},{"$f":"SUM($G5:$G6)","v":0},{"$f":"IF($G5<>0,$B5,\"\")","v":""},{"$f":"IF(OR($G5<>0,$G7<>0,$G9<>0),LEFT($A4,4),\"\")","v":""}]
[null,null,"interessi",null,{"$f":"'contr.biennio (vedi prima riga)'!$I$37","v":0},{"$f":"E6","v":0},{"$f":"F6","v":0}]
[null,3011,"contributo",null,{"$f":"'contr.biennio (vedi prima riga)'!$I$40","v":0},{"$f":"E7-D7","v":0},{"$f":"IF(AND($F7<>0,G4<>\"\"),ROUND($F7*(1+INDEX('inter.legale (vedi prima riga)'!$B$9:$B$202,MATCH(G4,'inter.legale (vedi prima riga)'!$A$9:$A$202,1))/100/365*(G4-'contr.biennio (vedi prima riga)'!$I$35)),2),0)","v":0},{"$f":"SUM($G7:$G8)","v":0},{"$f":"IF($G7<>0,$B7,\"\")","v":""}]
[null,null,"interessi",null,{"$f":"'contr.biennio (vedi prima riga)'!$I$41","v":0},{"$f":"E8","v":0},{"$f":"F8","v":0}]
[null,3014,"sanzione",null,{"$f":"IF('contr.biennio (vedi prima riga)'!$I$44<>0,'contr.biennio (vedi prima riga)'!$I$44,'contr.biennio (vedi prima riga)'!$I$45)","v":0},{"$f":"E9-D9","v":0},{"$f":"IF(AND($F9<>0,G4<>\"\"),ROUND($F9,2),0)","v":0},{"$f":"G9","v":0},{"$f":"IF($G9<>0,$B9,\"\")","v":""}]
[null,"Totali",null,{"$f":"SUM(D$5:D9)","v":0},{"$f":"SUM(E$5:E9)","v":0},{"$f":"SUM(F$5:F9)","v":0},{"$f":"SUM(G$5:G9)","v":0},{"$f":"SUM(H$5:H9)","v":0}]
["biennio","tributo",null,"tributi pagati il","tributi dovuti al","differenze dovute al","differenze da versare il","da riportare sul modello F24 (per le coop. non aderenti) o sul bonifico (per le coop. aderenti"]
[{"$f":"IF('contr.biennio (vedi prima riga)'!$H$34<>\"\",'contr.biennio (vedi prima riga)'!$H$28,\"\")","v":""},"codice",null,{"$f":"IF('contr.biennio (vedi prima riga)'!$H$35<>\"\",'contr.biennio (vedi prima riga)'!$H$35,\"\")","v":""},{"$f":"D12","v":""},{"$f":"D12","v":""},null,"importi","cod.tributo","anno"]
[null,3010,"contributo",null,{"$f":"'contr.biennio (vedi prima riga)'!$H$34","v":0},{"$f":"E13-D13","v":0},{"$f":"IF(AND($F13<>0,G12<>\"\"),ROUND($F13*(1+INDEX('inter.legale (vedi prima riga)'!$B$9:$B$202,MATCH(G12,'inter.legale (vedi prima riga)'!$A$9:$A$202,1))/100/365*(G12-'contr.biennio (vedi prima riga)'!$H$35)),2),0)","v":0},{"$f":"SUM($G13:$G14)","v":0},{"$f":"IF($G13<>0,$B13,\"\")","v":""},{"$f":"IF(OR($G13<>0,$G15<>0,$G17<>0),LEFT($A12,4),\"\")","v":""}]
[null,null,"interessi",null,{"$f":"'contr.biennio (vedi prima riga)'!$H$37","v":0},{"$f":"E14","v":0},{"$f":"F14","v":0}]
[null,3011,"contributo",null,{"$f":"'contr.biennio (vedi prima riga)'!$H$40","v":0},{"$f":"E15-D15","v":0},{"$f":"IF(AND($F15<>0,G12<>\"\"),ROUND($F15*(1+INDEX('inter.legale (vedi prima riga)'!$B$9:$B$202,MATCH(G12,'inter.legale (vedi prima riga)'!$A$9:$A$202,1))/100/365*(G12-'contr.biennio (vedi prima riga)'!$H$35)),2),0)","v":0},{"$f":"SUM($G15:$G16)","v":0},{"$f":"IF($G15<>0,$B15,\"\")","v":""}]
[null,null,"interessi",null,{"$f":"'contr.biennio (vedi prima riga)'!$H$41","v":0},{"$f":"E16","v":0},{"$f":"F16","v":0}]
[null,3014,"sanzione",null,{"$f":"IF('contr.biennio (vedi prima riga)'!$H$44<>0,'contr.biennio (vedi prima riga)'!$H$44,'contr.biennio (vedi prima riga)'!$H$45)","v":0},{"$f":"E17-D17","v":0},{"$f":"IF(AND($F17<>0,G12<>\"\"),ROUND($F17,2),0)","v":0},{"$f":"G17","v":0},{"$f":"IF($G17<>0,$B17,\"\")","v":""}]
[null,"Totali",null,{"$f":"SUM(D$13:D17)","v":0},{"$f":"SUM(E$13:E17)","v":0},{"$f":"SUM(F$13:F17)","v":0},{"$f":"SUM(G$13:G17)","v":0},{"$f":"SUM(H$13:H17)","v":0}]
["biennio","tributo",null,"tributi pagati il","tributi dovuti al","differenze dovute al","differenze da versare il","da riportare sul modello F24 (per le coop. non aderenti) o sul bonifico (per le coop. aderenti"]
[{"$f":"IF('contr.biennio (vedi prima riga)'!$G$34<>\"\",'contr.biennio (vedi prima riga)'!$G$28,\"\")","v":""},"codice",null,{"$f":"IF('contr.biennio (vedi prima riga)'!$G$35<>\"\",'contr.biennio (vedi prima riga)'!$G$35,\"\")","v":""},{"$f":"D20","v":""},{"$f":"D20","v":""},null,"importi","cod.tributo","anno"]
[null,3010,"contributo",null,{"$f":"'contr.biennio (vedi prima riga)'!$G$34","v":0},{"$f":"E21-D21","v":0},{"$f":"IF(AND($F21<>0,G20<>\"\"),ROUND($F21*(1+INDEX('inter.legale (vedi prima riga)'!$B$9:$B$202,MATCH(G20,'inter.legale (vedi prima riga)'!$A$9:$A$202,1))/100/365*(G20-'contr.biennio (vedi prima riga)'!$G$35)),2),0)","v":0},{"$f":"SUM($G21:$G22)","v":0},{"$f":"IF($G21<>0,$B21,\"\")","v":""},{"$f":"IF(OR($G21<>0,$G23<>0,$G25<>0),LEFT($A20,4),\"\")","v":""}]
[null,null,"interessi",null,{"$f":"'contr.biennio (vedi prima riga)'!$G$37","v":0},{"$f":"E22","v":0},{"$f":"F22","v":0}]
[null,3011,"contributo",null,{"$f":"'contr.biennio (vedi prima riga)'!$G$40","v":0},{"$f":"E23-D23","v":0},{"$f":"IF(AND($F23<>0,G20<>\"\"),ROUND($F23*(1+INDEX('inter.legale (vedi prima riga)'!$B$9:$B$202,MATCH(G20,'inter.legale (vedi prima riga)'!$A$9:$A$202,1))/100/365*(G20-'contr.biennio (vedi prima riga)'!$G$35)),2),0)","v":0},{"$f":"SUM($G23:$G24)","v":0},{"$f":"IF($G23<>0,$B23,\"\")","v":""}]
[null,null,"interessi",null,{"$f":"'contr.biennio (vedi prima riga)'!$G$41","v":0},{"$f":"E24","v":0},{"$f":"F24","v":0}]
[null,3014,"sanzione",null,{"$f":"IF('contr.biennio (vedi prima riga)'!$G$44<>0,'contr.biennio (vedi prima riga)'!$G$44,'contr.biennio (vedi prima riga)'!$G$45)","v":0},{"$f":"E25-D25","v":0},{"$f":"IF(AND($F25<>0,G20<>\"\"),ROUND($F25,2),0)","v":0},{"$f":"G25","v":0},{"$f":"IF($G25<>0,$B25,\"\")","v":""}]
[null,"Totali",null,{"$f":"SUM(D$21:D25)","v":0},{"$f":"SUM(E$21:E25)","v":0},{"$f":"SUM(F$21:F25)","v":0},{"$f":"SUM(G$21:G25)","v":0},{"$f":"SUM(H$21:H25)","v":0}]
["INTEGRAZIONE CONTRIBUTO 3%"]
["codice tributo","esercizio",null,"tributi pagati il","tributi dovuti al","differenze dovute al","differenze da versare il","da riportare sul modello F24 (per le coop. non aderenti) o sul bonifico (per le coop. aderenti"]
[3012,{"$f":"IF('contr.biennio (vedi prima riga)'!$H$54<>0,'contr.biennio (vedi prima riga)'!$H$47,\"\")","v":""},null,{"$f":"'contr.biennio (vedi prima riga)'!$H$57","v":"00:00:00"},{"$f":"D29","v":"00:00:00"},{"$f":"D29","v":"00:00:00"},null,"importi","cod.tributo","anno"]
[null,null,"contributo",null,{"$f":"IF(E$29<>\"\",'contr.biennio (vedi prima riga)'!$H$54,0)","v":0},{"$f":"E30-D30","v":0},{"$f":"IF($G$29<>\"\",ROUND($F$30*(1+INDEX('inter.legale (vedi prima riga)'!$B$9:$B$202,MATCH($G$29,'inter.legale (vedi prima riga)'!$A$9:$A$202,1))/100/365*($G$29-'contr.biennio (vedi prima riga)'!$H$57)),2),0)","v":0},{"$f":"SUM(G30:G31)","v":0},{"$f":"IF(OR($G$30<>0,$G$31<>0,$G$33<>0,$G$34<>0,$G$36<>0,$G$37<>0),$A$29,\"\")","v":""},{"$f":"IF(OR($G$30<>0,$G$31<>0),$B$29,\"\")","v":""}]
[null,null,"interessi",null,{"$f":"IF(E$29<>\"\",'contr.biennio (vedi prima riga)'!$H$59,0)","v":0},{"$f":"E31","v":0},{"$f":"F31","v":0}]
[null,{"$f":"IF('contr.biennio (vedi prima riga)'!$I$54<>0,'contr.biennio (vedi prima riga)'!$I$47,\"\")","v":""},null,{"$f":"'contr.biennio (vedi prima riga)'!$I$57","v":"00:00:00"},{"$f":"D32","v":"00:00:00"},{"$f":"D32","v":"00:00:00"}]
[null,null,"contributo",null,{"$f":"IF(E$32<>\"\",'contr.biennio (vedi prima riga)'!$I$54,0)","v":0},{"$f":"E33-D33","v":0},{"$f":"IF($G$29<>\"\",ROUND($F$33*(1+INDEX('inter.legale (vedi prima riga)'!$B$9:$B$202,MATCH($G$29,'inter.legale (vedi prima riga)'!$A$9:$A$202,1))/100/365*($G$29-'contr.biennio (vedi prima riga)'!$I$57)),2),0)","v":0},{"$f":"SUM(G33:G34)","v":0},null,{"$f":"IF(OR($G$33<>0,$G$34<>0),$B$32,\"\")","v":""}]
[null,null,"interessi",null,{"$f":"IF(E$32<>\"\",'contr.biennio (vedi prima riga)'!$I$59,0)","v":0},{"$f":"E34","v":0},{"$f":"F34","v":0}]
[null,{"$f":"IF('contr.biennio (vedi prima riga)'!$J$54<>0,'contr.biennio (vedi prima riga)'!$J$47,\"\")","v":""},null,{"$f":"'contr.biennio (vedi prima riga)'!$J$57","v":"00:00:00"},{"$f":"D35","v":"00:00:00"},{"$f":"D35","v":"00:00:00"}]
[null,null,"contributo",null,{"$f":"IF(E$35<>\"\",'contr.biennio (vedi prima riga)'!$J$54,0)","v":0},{"$f":"E36-D36","v":0},{"$f":"IF($G$29<>\"\",ROUND($F$36*(1+INDEX('inter.legale (vedi prima riga)'!$B$9:$B$202,MATCH($G$29,'inter.legale (vedi prima riga)'!$A$9:$A$202,1))/100/365*($G$29-'contr.biennio (vedi prima riga)'!$J$57)),2),0)","v":0},{"$f":"SUM(G36:G37)","v":0},null,{"$f":"IF(OR($G$36<>0,$G$37<>0),$B$35,\"\")","v":""}]
[null,null,"interessi",null,{"$f":"IF(E$35<>\"\",'contr.biennio (vedi prima riga)'!$J$59,0)","v":0},{"$f":"E37","v":0},{"$f":"F37","v":0}]
["Totale",null,null,{"$f":"SUM(SUM(D$30:D$31),SUM(D$33:D$34),SUM(D$36:D$37))","v":0},{"$f":"SUM(SUM(E$30:E$31),SUM(E$33:E$34),SUM(E$36:E$37))","v":0},{"$f":"SUM(SUM(F$30:F$31),SUM(F$33:F$34),SUM(F$36:F$37))","v":0},{"$f":"SUM(SUM(G$30:G$31),SUM(G$33:G$34),SUM(G$36:G$37))","v":0},{"$f":"SUM(SUM(H$30:H$31),SUM(H$33:H$34),SUM(H$36:H$37))","v":0}]
["Totale complessivo",null,null,{"$f":"SUM(D$10, D$18,D$26,D$38)","v":0},{"$f":"SUM(E$10, E$18,E$26,E$38)","v":0},{"$f":"SUM(F$10, F$18,F$26,F$38)","v":0},{"$f":"SUM(G$10, G$18,G$26,G$38)","v":0},{"$f":"SUM(H$10, H$18,H$26,H$38)","v":0}]

{"sheet":"integrazione(vedi prima riga)","index":4,"n_rows":57,"n_cols":10,"rows_kept":57,"cut":false,"hidden":false,"merged":[[19,0,25,0],[20,1,21,1],[20,3,21,3],[20,7,21,7],[20,8,21,8],[22,1,23,1],[22,3,23,3],[22,7,23,7],[22,8,23,8],[25,1,25,2],[11,0,17,0],[12,1,13,1],[12,3,13,3],[12,7,13,7],[12,8,13,8],[10,1,10,2],[10,7,10,9],[18,1,18,2],[18,7,18,9],[20,9,25,9],[12,9,17,9],[14,1,15,1],[14,3,15,3],[14,7,15,7],[14,8,15,8],[17,1,17,2],[55,0,55,2],[55,8,55,9],[56,0,56,2],[50,7,51,7],[50,9,51,9],[52,1,54,1],[53,3,54,3],[53,7,54,7],[53,9,54,9],[44,0,44,9],[45,7,45,9],[46,0,54,0],[46,1,48,1],[47,3,48,3],[47,7,48,7],[47,8,54,8],[47,9,48,9],[49,1,51,1],[50,3,51,3],[4,9,9,9],[6,1,7,1],[6,3,7,3],[6,7,7,7],[6,8,7,8],[9,1,9,2],[3,0,9,0],[4,1,5,1],[4,3,5,3],[4,7,5,7],[4,8,5,8],[0,0,0,3],[0,6,0,9],[1,0,1,9],[2,1,2,2],[2,7,2,9]]}
[{"$f":"IF(AND(ragionesociale<>\"\",MID(CELL(\"nomefile\",ragionesociale),FIND(\"[\",CELL(\"nomefile\",ragionesociale))-6,6)<>\"Varie\\\",MID(CELL(\"nomefile\",ragionesociale),1,34)=\"C:\\Documenti\\Cooperative associate\"),\"Progressivo \" & MID(CELL(\"nomefile\",ragionesociale),FIND(\"-\",CELL(\"nomefile\",ragionesociale))-3,3),\"\")","v":""},null,null,null,"Ragione sociale:",null,{"$f":"ragionesociale","v":0}]
[{"$f":"\"INTEGRAZIONE CONTRIBUTO BIENNALE PER IL BIENNIO \" & LEFT(RIGHT(menù!$A$4,10),9)","v":"INTEGRAZIONE CONTRIBUTO BIENNALE PER IL BIENNIO 2015-2016"}]
["biennio","tributo",null,"tributi pagati il","tributi dovuti al","differenze dovute al","differenze da versare il","da riportare sul modello F24 (per le coop. non aderenti) o sul bonifico (per le coop. aderenti"]
[{"$f":"IF('contr.biennio(vedi prima riga)'!$I$34<>0,'contr.biennio(vedi prima riga)'!$I$28,\"\")","v":"2015-2016"},"codice",null,{"$f":"IF('contr.biennio(vedi prima riga)'!$I$35<>\"\",'contr.biennio(vedi prima riga)'!$I$35,\"\")","v":""},{"$f":"D4","v":""},{"$f":"D4","v":""},null,"importi","cod.tributo","anno"]
[null,3010,"contributo",null,{"$f":"'contr.biennio(vedi prima riga)'!$I$34","v":280},{"$f":"E5-D5","v":280},{"$f":"IF(AND($F5<>0,G4<>\"\"),ROUND($F5*(1+INDEX('inter.legale (vedi prima riga)'!$B$9:$B$202,MATCH(G4,'inter.legale (vedi prima riga)'!$A$9:$A$202,1))/100/365*(G4-'contr.biennio(vedi prima riga)'!$I$35)),2),0)","v":0},{"$f":"SUM($G5:$G6)","v":0},{"$f":"IF($G5<>0,$B5,\"\")","v":""},{"$f":"IF(OR($G5<>0,$G7<>0,$G9<>0),LEFT($A4,4),\"\")","v":""}]
[null,null,"interessi",null,{"$f":"'contr.biennio(vedi prima riga)'!$I$37","v":0},{"$f":"E6","v":0},{"$f":"F6","v":0}]
[null,3011,"contributo",null,{"$f":"'contr.biennio(vedi prima riga)'!$I$40","v":0},{"$f":"E7-D7","v":0},{"$f":"IF(AND($F7<>0,G4<>\"\"),ROUND($F7*(1+INDEX('inter.legale (vedi prima riga)'!$B$9:$B$202,MATCH(G4,'inter.legale (vedi prima riga)'!$A$9:$A$202,1))/100/365*(G4-'contr.biennio(vedi prima riga)'!$I$35)),2),0)","v":0},{"$f":"SUM($G7:$G8)","v":0},{"$f":"IF($G7<>0,$B7,\"\")","v":""}]
[null,null,"interessi",null,{"$f":"'contr.biennio(vedi prima riga)'!$I$41","v":0},{"$f":"E8","v":0},{"$f":"F8","v":0}]
[null,3014,"sanzione",null,{"$f":"IF('contr.biennio(vedi prima riga)'!$I$44<>0,'contr.biennio(vedi prima riga)'!$I$44,'contr.biennio(vedi prima riga)'!$I$45)","v":0},{"$f":"E9-D9","v":0},{"$f":"IF(AND($F9<>0,G4<>\"\"),ROUND($F9,2),0)","v":0},{"$f":"G9","v":0},{"$f":"IF($G9<>0,$B9,\"\")","v":""}]
[null,"Totali",null,{"$f":"SUM(D$5:D9)","v":0},{"$f":"SUM(E$5:E9)","v":280},{"$f":"SUM(F$5:F9)","v":280},{"$f":"SUM(G$5:G9)","v":0},{"$f":"SUM(H$5:H9)","v":0}]
["biennio","tributo",null,"tributi pagati il","tributi dovuti al","differenze dovute al","differenze da versare il","da riportare sul modello F24 (per le coop. non aderenti) o sul bonifico (per le coop. aderenti"]
[{"$f":"IF('contr.biennio(vedi prima riga)'!$H$34<>\"\",'contr.biennio(vedi prima riga)'!$H$28,\"\")","v":""},"codice",null,{"$f":"IF('contr.biennio(vedi prima riga)'!$H$35<>\"\",'contr.biennio(vedi prima riga)'!$H$35,\"\")","v":""},{"$f":"D12","v":""},{"$f":"D12","v":""},null,"importi","cod.tributo","anno"]
[null,3010,"contributo",null,{"$f":"'contr.biennio(vedi prima riga)'!$H$34","v":0},{"$f":"E13-D13","v":0},{"$f":"IF(AND($F13<>0,G12<>\"\"),ROUND($F13*(1+INDEX('inter.legale (vedi prima riga)'!$B$9:$B$202,MATCH(G12,'inter.legale (vedi prima riga)'!$A$9:$A$202,1))/100/365*(G12-'contr.biennio(vedi prima riga)'!$H$35)),2),0)","v":0},{"$f":"SUM($G13:$G14)","v":0},{"$f":"IF($G13<>0,$B13,\"\")","v":""},{"$f":"IF(OR($G13<>0,$G15<>0,$G17<>0),LEFT($A12,4),\"\")","v":""}]
[null,null,"interessi",null,{"$f":"'contr.biennio(vedi prima riga)'!$H$37","v":0},{"$f":"E14","v":0},{"$f":"F14","v":0}]
[null,3011,"contributo",null,{"$f":"'contr.biennio(vedi prima riga)'!$H$40","v":0},{"$f":"E15-D15","v":0},{"$f":"IF(AND($F15<>0,G12<>\"\"),ROUND($F15*(1+INDEX('inter.legale (vedi prima riga)'!$B$9:$B$202,MATCH(G12,'inter.legale (vedi prima riga)'!$A$9:$A$202,1))/100/365*(G12-'contr.biennio(vedi prima riga)'!$H$35)),2),0)","v":0},{"$f":"SUM($G15:$G16)","v":0},{"$f":"IF($G15<>0,$B15,\"\")","v":""}]
[null,null,"interessi",null,{"$f":"'contr.biennio(vedi prima riga)'!$H$41","v":0},{"$f":"E16","v":0},{"$f":"F16","v":0}]
[null,3014,"sanzione",null,{"$f":"IF('contr.biennio(vedi prima riga)'!$H$44<>0,'contr.biennio(vedi prima riga)'!$H$44,'contr.biennio(vedi prima riga)'!$H$45)","v":0},{"$f":"E17-D17","v":0},{"$f":"IF(AND($F17<>0,G12<>\"\"),ROUND($F17,2),0)","v":0},{"$f":"G17","v":0},{"$f":"IF($G17<>0,$B17,\"\")","v":""}]
[null,"Totali",null,{"$f":"SUM(D$13:D17)","v":0},{"$f":"SUM(E$13:E17)","v":0},{"$f":"SUM(F$13:F17)","v":0},{"$f":"SUM(G$13:G17)","v":0},{"$f":"SUM(H$13:H17)","v":0}]
["biennio","tributo",null,"tributi pagati il","tributi dovuti al","differenze dovute al","differenze da versare il","da riportare sul modello F24 (per le coop. non aderenti) o sul bonifico (per le coop. aderenti"]
[{"$f":"IF('contr.biennio(vedi prima riga)'!$G$34<>\"\",'contr.biennio(vedi prima riga)'!$G$28,\"\")","v":""},"codice",null,{"$f":"IF('contr.biennio(vedi prima riga)'!$G$35<>\"\",'contr.biennio(vedi prima riga)'!$G$35,\"\")","v":""},{"$f":"D20","v":""},{"$f":"D20","v":""},null,"importi","cod.tributo","anno"]
[null,3010,"contributo",null,{"$f":"'contr.biennio(vedi prima riga)'!$G$34","v":0},{"$f":"E21-D21","v":0},{"$f":"IF(AND($F21<>0,G20<>\"\"),ROUND($F21*(1+INDEX('inter.legale (vedi prima riga)'!$B$9:$B$202,MATCH(G20,'inter.legale (vedi prima riga)'!$A$9:$A$202,1))/100/365*(G20-'contr.biennio(vedi prima riga)'!$G$35)),2),0)","v":0},{"$f":"SUM($G21:$G22)","v":0},{"$f":"IF($G21<>0,$B21,\"\")","v":""},{"$f":"IF(OR($G21<>0,$G23<>0,$G25<>0),LEFT($A20,4),\"\")","v":""}]
[null,null,"interessi",null,{"$f":"'contr.biennio(vedi prima riga)'!$G$37","v":0},{"$f":"E22","v":0},{"$f":"F22","v":0}]
[null,3011,"contributo",null,{"$f":"'contr.biennio(vedi prima riga)'!$G$40","v":0},{"$f":"E23-D23","v":0},{"$f":"IF(AND($F23<>0,G20<>\"\"),ROUND($F23*(1+INDEX('inter.legale (vedi prima riga)'!$B$9:$B$202,MATCH(G20,'inter.legale (vedi prima riga)'!$A$9:$A$202,1))/100/365*(G20-'contr.biennio(vedi prima riga)'!$G$35)),2),0)","v":0},{"$f":"SUM($G23:$G24)","v":0},{"$f":"IF($G23<>0,$B23,\"\")","v":""}]
[null,null,"interessi",null,{"$f":"'contr.biennio(vedi prima riga)'!$G$41","v":0},{"$f":"E24","v":0},{"$f":"F24","v":0}]
[null,3014,"sanzione",null,{"$f":"IF('contr.biennio(vedi prima riga)'!$G$44<>0,'contr.biennio(vedi prima riga)'!$G$44,'contr.biennio(vedi prima riga)'!$G$45)","v":0},{"$f":"E25-D25","v":0},{"$f":"IF(AND($F25<>0,G20<>\"\"),ROUND($F25,2),0)","v":0},{"$f":"G25","v":0},{"$f":"IF($G25<>0,$B25,\"\")","v":""}]
[null,"Totali",null,{"$f":"SUM(D$21:D25)","v":0},{"$f":"SUM(E$21:E25)","v":0},{"$f":"SUM(F$21:F25)","v":0},{"$f":"SUM(G$21:G25)","v":0},{"$f":"SUM(H$21:H25)","v":0}]
[]
[]
[]
[]
[]
[]
[]
[]
[]
[]
[]
[]
[]
[]
[]
[]
[]
[]
["INTEGRAZIONE CONTRIBUTO 3%"]
["codice tributo","esercizio",null,"tributi pagati il","tributi dovuti al","differenze dovute al","differenze da versare il","da riportare sul modello F24 (per le coop. non aderenti) o sul bonifico (per le coop. aderenti"]
[3012,{"$f":"IF('contr.biennio(vedi prima riga)'!$H$54<>0,'contr.biennio(vedi prima riga)'!$H$47,\"\")","v":""},null,{"$f":"'contr.biennio(vedi prima riga)'!$H$57","v":"00:00:00"},{"$f":"D47","v":"00:00:00"},{"$f":"D47","v":"00:00:00"},null,"importi","cod.tributo","anno"]
[null,null,"contributo",null,{"$f":"IF(E$47<>\"\",'contr.biennio(vedi prima riga)'!$H$54,0)","v":0},{"$f":"E48-D48","v":0},{"$f":"IF($G$47<>\"\",ROUND($F$48*(1+INDEX('inter.legale(vedi prima riga)'!$B$9:$B$202,MATCH($G$47,'inter.legale(vedi prima riga)'!$A$9:$A$202,1))/100/365*($G$47-'contr.biennio(vedi prima riga)'!$H$57)),2),0)","v":0},{"$f":"SUM(G48:G49)","v":0},{"$f":"IF(OR($G$48<>0,$G$49<>0,$G$51<>0,$G$52<>0,$G$54<>0,$G$55<>0),$A$47,\"\")","v":""},{"$f":"IF(OR($G$48<>0,$G$49<>0),$B$47,\"\")","v":""}]
[null,null,"interessi",null,{"$f":"IF(E$47<>\"\",'contr.biennio(vedi prima riga)'!$H$59,0)","v":0},{"$f":"E49","v":0},{"$f":"F49","v":0}]
[null,{"$f":"IF('contr.biennio(vedi prima riga)'!$I$54<>0,'contr.biennio(vedi prima riga)'!$I$47,\"\")","v":""},null,{"$f":"'contr.biennio(vedi prima riga)'!$I$57","v":"00:00:00"},{"$f":"D50","v":"00:00:00"},{"$f":"D50","v":"00:00:00"}]
[null,null,"contributo",null,{"$f":"IF(E$50<>\"\",'contr.biennio(vedi prima riga)'!$I$54,0)","v":0},{"$f":"E51-D51","v":0},{"$f":"IF($G$47<>\"\",ROUND($F$51*(1+INDEX('inter.legale(vedi prima riga)'!$B$9:$B$202,MATCH($G$47,'inter.legale(vedi prima riga)'!$A$9:$A$202,1))/100/365*($G$47-'contr.biennio(vedi prima riga)'!$I$57)),2),0)","v":0},{"$f":"SUM(G51:G52)","v":0},null,{"$f":"IF(OR($G$51<>0,$G$52<>0),$B$50,\"\")","v":""}]
[null,null,"interessi",null,{"$f":"IF(E$50<>\"\",'contr.biennio(vedi prima riga)'!$I$59,0)","v":0},{"$f":"E52","v":0},{"$f":"F52","v":0}]
[null,{"$f":"IF('contr.biennio(vedi prima riga)'!$J$54<>0,'contr.biennio(vedi prima riga)'!$J$47,\"\")","v":""},null,{"$f":"'contr.biennio(vedi prima riga)'!$J$57","v":"00:00:00"},{"$f":"D53","v":"00:00:00"},{"$f":"D53","v":"00:00:00"}]
[null,null,"contributo",null,{"$f":"IF(E$53<>\"\",'contr.biennio(vedi prima riga)'!$J$54,0)","v":0},{"$f":"E54-D54","v":0},{"$f":"IF($G$47<>\"\",ROUND($F$54*(1+INDEX('inter.legale(vedi prima riga)'!$B$9:$B$202,MATCH($G$47,'inter.legale(vedi prima riga)'!$A$9:$A$202,1))/100/365*($G$47-'contr.biennio(vedi prima riga)'!$J$57)),2),0)","v":0},{"$f":"SUM(G54:G55)","v":0},null,{"$f":"IF(OR($G$54<>0,$G$55<>0),$B$53,\"\")","v":""}]
[null,null,"interessi",null,{"$f":"IF(E$53<>\"\",'contr.biennio(vedi prima riga)'!$J$59,0)","v":0},{"$f":"E55","v":0},{"$f":"F55","v":0}]
["Totale",null,null,{"$f":"SUM(SUM(D$48:D$49),SUM(D$51:D$52),SUM(D$54:D$55))","v":0},{"$f":"SUM(SUM(E$48:E$49),SUM(E$51:E$52),SUM(E$54:E$55))","v":0},{"$f":"SUM(SUM(F$48:F$49),SUM(F$51:F$52),SUM(F$54:F$55))","v":0},{"$f":"SUM(SUM(G$48:G$49),SUM(G$51:G$52),SUM(G$54:G$55))","v":0},{"$f":"SUM(SUM(H$48:H$49),SUM(H$51:H$52),SUM(H$54:H$55))","v":0}]
["Totale complessivo",null,null,{"$f":"SUM(D$10, D$56)","v":0},{"$f":"SUM(E$10, E$56)","v":280},{"$f":"SUM(F$10, F$56)","v":280},{"$f":"SUM(G$10, G$56)","v":0},{"$f":"SUM(H$10, H$56)","v":0}]

{"sheet":"inter.legale (vedi prima riga)","index":5,"n_rows":26,"n_cols":34,"rows_kept":26,"cut":false,"hidden":false,"merged":[[6,14,6,16],[6,18,6,20],[6,22,6,24],[24,26,24,27],[24,30,24,31],[24,14,24,15],[24,18,24,19],[24,22,24,23],[25,26,25,28],[25,30,25,32],[25,14,25,16],[25,18,25,20],[25,22,25,24],[4,33,6,33],[6,26,6,28],[6,30,6,32],[4,9,6,9],[24,0,25,1],[24,2,24,3],[24,6,24,7],[24,10,24,11],[6,2,6,4],[6,6,6,8],[6,10,6,12],[25,2,25,4],[25,6,25,8],[25,10,25,12],[4,25,6,25],[4,29,6,29],[0,0,0,33],[1,0,1,1],[3,0,6,1],[3,2,3,5],[3,6,3,9],[3,10,3,13],[3,14,3,17],[3,18,3,21],[3,22,3,25],[3,26,3,29],[3,30,3,33],[4,5,6,5],[4,13,6,13],[4,17,6,17],[4,21,6,21],[2,4,2,5]]}
[{"$f":"\"INTERESSE LEGALE PER IL BIENNIO \" & LEFT(RIGHT(menù!$A$3,10),9)","v":"INTERESSE LEGALE PER IL BIENNIO 2017-2018"}]
["Cooperativa:"]
[{"$f":"ragionesociale","v":0},null,null,null,{"$f":"IF(AND(ragionesociale<>\"\",MID(CELL(\"nomefile\",ragionesociale),FIND(\"[\",CELL(\"nomefile\",ragionesociale))-6,6)<>\"Varie\\\",MID(CELL(\"nomefile\",ragionesociale),1,34)=\"C:\\Documenti\\Cooperative associate\"),\"Progressivo \" & MID(CELL(\"nomefile\",ragionesociale),FIND(\"-\",CELL(\"nomefile\",ragionesociale))-3,3),\"\")","v":""}]
["L'elaborazione considera l'anno civile (365 giorni), senza calcolare l'anatocismo.",null,{"$f":"\"CALCOLO INTERESSI SUL CONTRIBUTO DI REVISIONE PER IL BIENNIO \" & RIGHT('contr.biennio (vedi prima riga)'!$G$28,9)","v":"CALCOLO INTERESSI SUL CONTRIBUTO DI REVISIONE PER IL BIENNIO 2013-2014"},null,null,null,{"$f":"\"CALCOLO INTERESSI SUL CONTRIBUTO DI REVISIONE PER IL BIENNIO \" &  RIGHT('contr.biennio (vedi prima riga)'!$H$28,9)","v":"CALCOLO INTERESSI SUL CONTRIBUTO DI REVISIONE PER IL BIENNIO 2015-2016"},null,null,null,{"$f":"\"CALCOLO INTERESSI SUL CONTRIBUTO DI REVISIONE PER IL BIENNIO \" &  RIGHT('contr.biennio (vedi prima riga)'!$I$28,9)","v":"CALCOLO INTERESSI SUL CONTRIBUTO DI REVISIONE PER IL BIENNIO 2017-2018"},null,null,null,{"$f":"\"CALCOLO INTERESSI SUL CONTRIBUTO 3% PER L'ESERCIZIO \" &  RIGHT('contr.biennio (vedi prima riga)'!$F$47,9)","v":"CALCOLO INTERESSI SUL CONTRIBUTO 3% PER L'ESERCIZIO 2013"},null,null,null,{"$f":"\"CALCOLO INTERESSI SUL CONTRIBUTO 3% PER L'ESERCIZIO \" &  RIGHT('contr.biennio (vedi prima riga)'!$G$47,9)","v":"CALCOLO INTERESSI SUL CONTRIBUTO 3% PER L'ESERCIZIO 2014"},null,null,null,{"$f":"\"CALCOLO INTERESSI SUL CONTRIBUTO 3% PER L'ESERCIZIO \" &  RIGHT('contr.biennio (vedi prima riga)'!$H$47,9)","v":"CALCOLO INTERESSI SUL CONTRIBUTO 3% PER L'ESERCIZIO 2015"},null,null,null,{"$f":"\"CALCOLO INTERESSI SUL CONTRIBUTO 3% PER L'ESERCIZIO \" &  RIGHT('contr.biennio (vedi prima riga)'!$I$47,9)","v":"CALCOLO INTERESSI SUL CONTRIBUTO 3% PER L'ESERCIZIO 2016"},null,null,null,{"$f":"\"CALCOLO INTERESSI SUL CONTRIBUTO 3% PER L'ESERCIZIO \" &  RIGHT('contr.biennio (vedi prima riga)'!$J$47,9)","v":"CALCOLO INTERESSI SUL CONTRIBUTO 3% PER L'ESERCIZIO 2017"}]
[null,null,"Decorrenza interessi\n(gg.mm.aa)","Termine calcolo interessi\n(gg.mm.aa)","contributo biennale di revisione",null,"Decorrenza interessi\n(gg.mm.aa)","Termine calcolo interessi\n(gg.mm.aa)","contributo biennale di revisione",null,"Decorrenza interessi\n(gg.mm.aa)","Termine calcolo interessi\n(gg.mm.aa)","contributo biennale di revisione",null,"Decorrenza interessi\n(gg.mm.aa)","Termine calcolo interessi\n(gg.mm.aa)","Imponibile",null,"Decorrenza interessi\n(gg.mm.aa)","Termine calcolo interessi\n(gg.mm.aa)","Imponibile",null,"Decorrenza interessi\n(gg.mm.aa)","Termine calcolo interessi\n(gg.mm.aa)","Imponibile",null,"Decorrenza interessi\n(gg.mm.aa)","Termine calcolo interessi\n(gg.mm.aa)","Imponibile",null,"Decorrenza interessi\n(gg.mm.aa)","Termine calcolo interessi\n(gg.mm.aa)","Imponibile"]
[null,null,{"$f":"IF('contr.biennio (vedi prima riga)'!$G$35<>\"\",IF('contr.biennio (vedi prima riga)'!$G$32<>\"\",'contr.biennio (vedi prima riga)'!$G$33,'contr.biennio (vedi prima riga)'!$G$30),\"\")","v":""},{"$f":"IF('contr.biennio (vedi prima riga)'!$G$35<>\"\",'contr.biennio (vedi prima riga)'!$G$35,\"\")","v":""},{"$f":"IF('contr.biennio (vedi prima riga)'!$G$35<>\"\",'contr.biennio (vedi prima riga)'!$G$34,\"\")","v":""},null,{"$f":"IF('contr.biennio (vedi prima riga)'!$H$35<>\"\",IF('contr.biennio (vedi prima riga)'!$H$32<>\"\",'contr.biennio (vedi prima riga)'!$H$33,'contr.biennio (vedi prima riga)'!$H$30),\"\")","v":""},{"$f":"IF('contr.biennio (vedi prima riga)'!$H$35<>\"\",'contr.biennio (vedi prima riga)'!$H$35,\"\")","v":""},{"$f":"IF('contr.biennio (vedi prima riga)'!$H$35<>\"\",'contr.biennio (vedi prima riga)'!$H$34,\"\")","v":""},null,{"$f":"IF('contr.biennio (vedi prima riga)'!$I$35<>\"\",IF('contr.biennio (vedi prima riga)'!$I$32<>\"\",'contr.biennio (vedi prima riga)'!$I$33,'contr.biennio (vedi prima riga)'!$I$30),\"\")","v":""},{"$f":"IF('contr.biennio (vedi prima riga)'!$I$35<>\"\",'contr.biennio (vedi prima riga)'!$I$35,\"\")","v":""},{"$f":"IF('contr.biennio (vedi prima riga)'!$I$35<>\"\",'contr.biennio (vedi prima riga)'!$I$34,\"\")","v":""},null,{"$f":"IF('contr.biennio (vedi prima riga)'!$F$57<>\"\",'contr.biennio (vedi prima riga)'!$F$56,\"\")","v":""},{"$f":"IF('contr.biennio (vedi prima riga)'!$F$57<>\"\",'contr.biennio (vedi prima riga)'!$F$57,\"\")","v":""},{"$f":"'contr.biennio (vedi prima riga)'!$F$54","v":0},null,{"$f":"IF('contr.biennio (vedi prima riga)'!$G$57<>\"\",'contr.biennio (vedi prima riga)'!$G$56,\"\")","v":""},{"$f":"IF('contr.biennio (vedi prima riga)'!$G$57<>\"\",'contr.biennio (vedi prima riga)'!$G$57,\"\")","v":""},{"$f":"'contr.biennio (vedi prima riga)'!$G$54","v":0},null,{"$f":"IF('contr.biennio (vedi prima riga)'!$H$57<>\"\",'contr.biennio (vedi prima riga)'!$H$56,\"\")","v":""},{"$f":"IF('contr.biennio (vedi prima riga)'!$H$57<>\"\",'contr.biennio (vedi prima riga)'!$H$57,\"\")","v":""},{"$f":"'contr.biennio (vedi prima riga)'!$H$54","v":0},null,{"$f":"IF('contr.biennio (vedi prima riga)'!$I$57<>\"\",'contr.biennio (vedi prima riga)'!$I$56,\"\")","v":""},{"$f":"IF('contr.biennio (vedi prima riga)'!$I$57<>\"\",'contr.biennio (vedi prima riga)'!$I$57,\"\")","v":""},{"$f":"'contr.biennio (vedi prima riga)'!$I$54","v":0},null,{"$f":"IF('contr.biennio (vedi prima riga)'!$J$57<>\"\",'contr.biennio (vedi prima riga)'!$J$56,\"\")","v":""},{"$f":"IF('contr.biennio (vedi prima riga)'!$J$57<>\"\",'contr.biennio (vedi prima riga)'!$J$57,\"\")","v":""},{"$f":"'contr.biennio (vedi prima riga)'!$J$54","v":0}]
[null,null,{"$f":"IF(AND(C6=\"\",D6=\"\",E6=\"\"),\"\",IF(AND(C6<>\"\",D6<>\"\",E6<>\"\"),IF(C6<C$9,\"data decorrenza minore data decorrenza minima conosciuta prima colonna\",\"\"),\"data decorrenza o data termine o importo su cui calcolare gli interessi non comunicato\"))","v":""},null,null,null,{"$f":"IF(AND(G6=\"\",H6=\"\",I6=\"\"),\"\",IF(AND(G6<>\"\",H6<>\"\",I6<>\"\"),IF(G6<G$9,\"data decorrenza minore data decorrenza minima conosciuta prima colonna\",\"\"),\"data decorrenza o data termine o importo su cui calcolare gli interessi non comunicato\"))","v":""},null,null,null,{"$f":"IF(AND(K6=\"\",L6=\"\",M6=\"\"),\"\",IF(AND(K6<>\"\",L6<>\"\",M6<>\"\"),IF(K6<K$9,\"data decorrenza minore data decorrenza minima conosciuta prima colonna\",\"\"),\"data decorrenza o data termine o importo su cui calcolare gli interessi non comunicato\"))","v":""},null,null,null,{"$f":"IF(AND(O$6<>0,O$6<$A$9),\"decorrenza antecedente o termine successivo alle date limiti\",\"\")","v":""},null,null,null,{"$f":"IF(AND(S$6<>0,S$6<$A$9),\"decorrenza antecedente o termine successivo alle date limiti\",\"\")","v":""},null,null,null,{"$f":"IF(AND(W$6<>0,W$6<$A$9),\"decorrenza antecedente o termine successivo alle date limiti\",\"\")","v":""},null,null,null,{"$f":"IF(AND(AA$6<>0,AA$6<$A$9),\"decorrenza antecedente o termine successivo alle date limiti\",\"\")","v":""},null,null,null,{"$f":"IF(AND(AE$6<>0,AE$6<$A$9),\"decorrenza antecedente o termine successivo alle date limiti\",\"\")","v":""}]
["Decorrenza\n(gg.mm.aa)","Tasso %","Decorrenza interessi\n(gg.mm.aa)","Termine calcolo interessi\n(gg.mm.aa)","Giorni","Interesse sul contributo biennale di revisione","Decorrenza interessi\n(gg.mm.aa)","Termine calcolo interessi\n(gg.mm.aa)","Giorni","Interesse sul contributo biennale di revisione","Decorrenza interessi\n(gg.mm.aa)","Termine calcolo interessi\n(gg.mm.aa)","Giorni","Interesse sul contributo biennale di revisione","Decorrenza interessi\n(gg.mm.aa)","Termine calcolo interessi\n(gg.mm.aa)","Giorni","Interesse","Decorrenza interessi\n(gg.mm.aa)","Termine calcolo interessi\n(gg.mm.aa)","Giorni","Interesse","Decorrenza interessi\n(gg.mm.aa)","Termine calcolo interessi\n(gg.mm.aa)","Giorni","Interesse","Decorrenza interessi\n(gg.mm.aa)","Termine calcolo interessi\n(gg.mm.aa)","Giorni","Interesse","Decorrenza interessi\n(gg.mm.aa)","Termine calcolo interessi\n(gg.mm.aa)","Giorni","Interesse"]
["1990-01-01",5,{"$f":"IF(OR(MID(C8,1,10)=\"Decorrenza\",C8=0),IF(AND(C$6<$A10,C$6>=$A9),C$6,0),IF(D$6<$A9,0,$A9))","v":"00:00:00"},{"$f":"IF(C9<>0,IF($A10<>\"\",IF(D$6<$A10,D$6,$A10-1),E$6),0)","v":"00:00:00"},{"$f":"IF(OR(C9<>0,D9<>0),IF(YEAR(C9)=YEAR(D9),D9-C9+1,DATE(YEAR(C9),12,31)-C9+1+D9-DATE(YEAR(D9),1,1)+1+365*(YEAR(D9)-YEAR(C9)-1)),0)","v":0},{"$f":"IF(E9<>0,E$6*$B9/100/365*E9,0)","v":0},{"$f":"IF(OR(MID(G8,1,10)=\"Decorrenza\",G8=0),IF(AND(G$6<$A10,G$6>=$A9),G$6,0),IF(H$6<$A9,0,$A9))","v":"00:00:00"},{"$f":"IF(G9<>0,IF($A10<>\"\",IF(H$6<$A10,H$6,$A10-1),I$6),0)","v":"00:00:00"},{"$f":"IF(OR(G9<>0,H9<>0),IF(YEAR(G9)=YEAR(H9),H9-G9+1,DATE(YEAR(G9),12,31)-G9+1+H9-DATE(YEAR(H9),1,1)+1+365*(YEAR(H9)-YEAR(G9)-1)),0)","v":0},{"$f":"IF(I9<>0,I$6*$B9/100/365*I9,0)","v":0},{"$f":"IF(OR(MID(K8,1,10)=\"Decorrenza\",K8=0),IF(AND(K$6<$A10,K$6>=$A9),K$6,0),IF(L$6<$A9,0,$A9))","v":"00:00:00"},{"$f":"IF(K9<>0,IF($A10<>\"\",IF(L$6<$A10,L$6,$A10-1),M$6),0)","v":"00:00:00"},{"$f":"IF(OR(K9<>0,L9<>0),IF(YEAR(K9)=YEAR(L9),L9-K9+1,DATE(YEAR(K9),12,31)-K9+1+L9-DATE(YEAR(L9),1,1)+1+365*(YEAR(L9)-YEAR(K9)-1)),0)","v":0},{"$f":"IF(M9<>0,M$6*$B9/100/365*M9,0)","v":0},{"$f":"IF(OR(MID(O8,1,10)=\"Decorrenza\",O8=0),IF(AND(O$6<$A10,O$6>=$A9),O$6,0),IF(P$6<$A9,0,$A9))","v":"00:00:00"},{"$f":"IF(O9<>0,IF($A10<>\"\",IF(P$6<$A10,P$6,$A10-1),Q$6),0)","v":"00:00:00"},{"$f":"IF(OR(O9<>0,P9<>0),IF(YEAR(O9)=YEAR(P9),P9-O9+1,DATE(YEAR(O9),12,31)-O9+1+P9-DATE(YEAR(P9),1,1)+1+365*(YEAR(P9)-YEAR(O9)-1)),0)","v":0},{"$f":"IF(Q9<>0,Q$6*$B9/100/365*Q9,0)","v":0},{"$f":"IF(OR(MID(S8,1,10)=\"Decorrenza\",S8=0),IF(AND(S$6<$A10,S$6>=$A9),S$6,0),IF(T$6<$A9,0,$A9))","v":"00:00:00"},{"$f":"IF(S9<>0,IF($A10<>\"\",IF(T$6<$A10,T$6,$A10-1),U$6),0)","v":"00:00:00"},{"$f":"IF(OR(S9<>0,T9<>0),IF(YEAR(S9)=YEAR(T9),T9-S9+1,DATE(YEAR(S9),12,31)-S9+1+T9-DATE(YEAR(T9),1,1)+1+365*(YEAR(T9)-YEAR(S9)-1)),0)","v":0},{"$f":"IF(U9<>0,U$6*$B9/100/365*U9,0)","v":0},{"$f":"IF(OR(MID(W8,1,10)=\"Decorrenza\",W8=0),IF(AND(W$6<$A10,W$6>=$A9),W$6,0),IF(X$6<$A9,0,$A9))","v":"00:00:00"},{"$f":"IF(W9<>0,IF($A10<>\"\",IF(X$6<$A10,X$6,$A10-1),Y$6),0)","v":"00:00:00"},{"$f":"IF(OR(W9<>0,X9<>0),IF(YEAR(W9)=YEAR(X9),X9-W9+1,DATE(YEAR(W9),12,31)-W9+1+X9-DATE(YEAR(X9),1,1)+1+365*(YEAR(X9)-YEAR(W9)-1)),0)","v":0},{"$f":"IF(Y9<>0,Y$6*$B9/100/365*Y9,0)","v":0},{"$f":"IF(OR(MID(AA8,1,10)=\"Decorrenza\",AA8=0),IF(AND(AA$6<$A10,AA$6>=$A9),AA$6,0),IF(AB$6<$A9,0,$A9))","v":"00:00:00"},{"$f":"IF(AA9<>0,IF($A10<>\"\",IF(AB$6<$A10,AB$6,$A10-1),AC$6),0)","v":"00:00:00"},{"$f":"IF(OR(AA9<>0,AB9<>0),IF(YEAR(AA9)=YEAR(AB9),AB9-AA9+1,DATE(YEAR(AA9),12,31)-AA9+1+AB9-DATE(YEAR(AB9),1,1)+1+365*(YEAR(AB9)-YEAR(AA9)-1)),0)","v":0},{"$f":"IF(AC9<>0,AC$6*$B9/100/365*AC9,0)","v":0},{"$f":"IF(OR(MID(AE8,1,10)=\"Decorrenza\",AE8=0),IF(AND(AE$6<$A10,AE$6>=$A9),AE$6,0),IF(AF$6<$A9,0,$A9))","v":"00:00:00"},{"$f":"IF(AE9<>0,IF($A10<>\"\",IF(AF$6<$A10,AF$6,$A10-1),AG$6),0)","v":"00:00:00"},{"$f":"IF(OR(AE9<>0,AF9<>0),IF(YEAR(AE9)=YEAR(AF9),AF9-AE9+1,DATE(YEAR(AE9),12,31)-AE9+1+AF9-DATE(YEAR(AF9),1,1)+1+365*(YEAR(AF9)-YEAR(AE9)-1)),0)","v":0},{"$f":"IF(AG9<>0,AG$6*$B9/100/365*AG9,0)","v":0}]
["1990-12-16",10,{"$f":"IF(OR(MID(C9,1,10)=\"Decorrenza\",C9=0),IF(AND(C$6<$A11,C$6>=$A10),C$6,0),IF(D$6<$A10,0,$A10))","v":"00:00:00"},"00:00:00",{"$f":"IF(OR(C10<>0,D10<>0),IF(YEAR(C10)=YEAR(D10),D10-C10+1,DATE(YEAR(C10),12,31)-C10+1+D10-DATE(YEAR(D10),1,1)+1+365*(YEAR(D10)-YEAR(C10)-1)),0)","v":0},{"$f":"IF(E10<>0,E$6*$B10/100/365*E10,0)","v":0},{"$f":"IF(OR(MID(G9,1,10)=\"Decorrenza\",G9=0),IF(AND(G$6<$A11,G$6>=$A10),G$6,0),IF(H$6<$A10,0,$A10))","v":"00:00:00"},"00:00:00",{"$f":"IF(OR(G10<>0,H10<>0),IF(YEAR(G10)=YEAR(H10),H10-G10+1,DATE(YEAR(G10),12,31)-G10+1+H10-DATE(YEAR(H10),1,1)+1+365*(YEAR(H10)-YEAR(G10)-1)),0)","v":0},{"$f":"IF(I10<>0,I$6*$B10/100/365*I10,0)","v":0},{"$f":"IF(OR(MID(K9,1,10)=\"Decorrenza\",K9=0),IF(AND(K$6<$A11,K$6>=$A10),K$6,0),IF(L$6<$A10,0,$A10))","v":"00:00:00"},"00:00:00",{"$f":"IF(OR(K10<>0,L10<>0),IF(YEAR(K10)=YEAR(L10),L10-K10+1,DATE(YEAR(K10),12,31)-K10+1+L10-DATE(YEAR(L10),1,1)+1+365*(YEAR(L10)-YEAR(K10)-1)),0)","v":0},{"$f":"IF(M10<>0,M$6*$B10/100/365*M10,0)","v":0},{"$f":"IF(OR(MID(O9,1,10)=\"Decorrenza\",O9=0),IF(AND(O$6<$A11,O$6>=$A10),O$6,0),IF(P$6<$A10,0,$A10))","v":"00:00:00"},"00:00:00",{"$f":"IF(OR(O10<>0,P10<>0),IF(YEAR(O10)=YEAR(P10),P10-O10+1,DATE(YEAR(O10),12,31)-O10+1+P10-DATE(YEAR(P10),1,1)+1+365*(YEAR(P10)-YEAR(O10)-1)),0)","v":0},{"$f":"IF(Q10<>0,Q$6*$B10/100/365*Q10,0)","v":0},{"$f":"IF(OR(MID(S9,1,10)=\"Decorrenza\",S9=0),IF(AND(S$6<$A11,S$6>=$A10),S$6,0),IF(T$6<$A10,0,$A10))","v":"00:00:00"},"00:00:00",{"$f":"IF(OR(S10<>0,T10<>0),IF(YEAR(S10)=YEAR(T10),T10-S10+1,DATE(YEAR(S10),12,31)-S10+1+T10-DATE(YEAR(T10),1,1)+1+365*(YEAR(T10)-YEAR(S10)-1)),0)","v":0},{"$f":"IF(U10<>0,U$6*$B10/100/365*U10,0)","v":0},{"$f":"IF(OR(MID(W9,1,10)=\"Decorrenza\",W9=0),IF(AND(W$6<$A11,W$6>=$A10),W$6,0),IF(X$6<$A10,0,$A10))","v":"00:00:00"},"00:00:00",{"$f":"IF(OR(W10<>0,X10<>0),IF(YEAR(W10)=YEAR(X10),X10-W10+1,DATE(YEAR(W10),12,31)-W10+1+X10-DATE(YEAR(X10),1,1)+1+365*(YEAR(X10)-YEAR(W10)-1)),0)","v":0},{"$f":"IF(Y10<>0,Y$6*$B10/100/365*Y10,0)","v":0},{"$f":"IF(OR(MID(AA9,1,10)=\"Decorrenza\",AA9=0),IF(AND(AA$6<$A11,AA$6>=$A10),AA$6,0),IF(AB$6<$A10,0,$A10))","v":"00:00:00"},"00:00:00",{"$f":"IF(OR(AA10<>0,AB10<>0),IF(YEAR(AA10)=YEAR(AB10),AB10-AA10+1,DATE(YEAR(AA10),12,31)-AA10+1+AB10-DATE(YEAR(AB10),1,1)+1+365*(YEAR(AB10)-YEAR(AA10)-1)),0)","v":0},{"$f":"IF(AC10<>0,AC$6*$B10/100/365*AC10,0)","v":0},{"$f":"IF(OR(MID(AE9,1,10)=\"Decorrenza\",AE9=0),IF(AND(AE$6<$A11,AE$6>=$A10),AE$6,0),IF(AF$6<$A10,0,$A10))","v":"00:00:00"},"00:00:00",{"$f":"IF(OR(AE10<>0,AF10<>0),IF(YEAR(AE10)=YEAR(AF10),AF10-AE10+1,DATE(YEAR(AE10),12,31)-AE10+1+AF10-DATE(YEAR(AF10),1,1)+1+365*(YEAR(AF10)-YEAR(AE10)-1)),0)","v":0},{"$f":"IF(AG10<>0,AG$6*$B10/100/365*AG10,0)","v":0}]
["1997-01-01",5,"00:00:00","00:00:00",0,0,"00:00:00","00:00:00",0,0,"00:00:00","00:00:00",0,0,"00:00:00","00:00:00",0,0,"00:00:00","00:00:00",0,0,"00:00:00","00:00:00",0,0,"00:00:00","00:00:00",0,0,"00:00:00","00:00:00",0,0]
["1999-01-01",2.5,"00:00:00","00:00:00",0,0,"00:00:00","00:00:00",0,0,"00:00:00","00:00:00",0,0,"00:00:00","00:00:00",0,0,"00:00:00","00:00:00",0,0,"00:00:00","00:00:00",0,0,"00:00:00","00:00:00",0,0,"00:00:00","00:00:00",0,0]
["2001-01-01",3.5,"00:00:00","00:00:00",0,0,"00:00:00","00:00:00",0,0,"00:00:00","00:00:00",0,0,"00:00:00","00:00:00",0,0,"00:00:00","00:00:00",0,0,"00:00:00","00:00:00",0,0,"00:00:00","00:00:00",0,0,"00:00:00","00:00:00",0,0]
["2002-01-01",3,"00:00:00","00:00:00",0,0,"00:00:00","00:00:00",0,0,"00:00:00","00:00:00",0,0,"00:00:00","00:00:00",0,0,"00:00:00","00:00:00",0,0,"00:00:00","00:00:00",0,0,"00:00:00","00:00:00",0,0,"00:00:00","00:00:00",0,0]
["2004-01-01",2.5,"00:00:00","00:00:00",0,0,"00:00:00","00:00:00",0,0,"00:00:00","00:00:00",0,0,"00:00:00","00:00:00",0,0,"00:00:00","00:00:00",0,0,"00:00:00","00:00:00",0,0,"00:00:00","00:00:00",0,0,"00:00:00","00:00:00",0,0]
["2008-01-01",3,"00:00:00","00:00:00",0,0,"00:00:00","00:00:00",0,0,"00:00:00","00:00:00",0,0,"00:00:00","00:00:00",0,0,"00:00:00","00:00:00",0,0,"00:00:00","00:00:00",0,0,"00:00:00","00:00:00",0,0,"00:00:00","00:00:00",0,0]
["2010-01-01",1,"00:00:00","00:00:00",0,0,"00:00:00","00:00:00",0,0,"00:00:00","00:00:00",0,0,"00:00:00","00:00:00",0,0,"00:00:00","00:00:00",0,0,"00:00:00","00:00:00",0,0,"00:00:00","00:00:00",0,0,"00:00:00","00:00:00",0,0]
["2011-01-01",1.5,"00:00:00","00:00:00",0,0,"00:00:00","00:00:00",0,0,"00:00:00","00:00:00",0,0,"00:00:00","00:00:00",0,0,"00:00:00","00:00:00",0,0,"00:00:00","00:00:00",0,0,"00:00:00","00:00:00",0,0,"00:00:00","00:00:00",0,0]
["2012-01-01",2.5,{"$f":"IF(OR(MID(C18,1,10)=\"Decorrenza\",C18=0),IF(AND(C$6<$A20,C$6>=$A19),C$6,0),IF(D$6<$A19,0,$A19))","v":"00:00:00"},{"$f":"IF(C19<>0,IF($A20<>\"\",IF(D$6<$A20,D$6,$A20-1),E$6),0)","v":"00:00:00"},{"$f":"IF(OR(C19<>0,D19<>0),IF(YEAR(C19)=YEAR(D19),D19-C19+1,DATE(YEAR(C19),12,31)-C19+1+D19-DATE(YEAR(D19),1,1)+1+365*(YEAR(D19)-YEAR(C19)-1)),0)","v":0},{"$f":"IF(E19<>0,E$6*$B19/100/365*E19,0)","v":0},{"$f":"IF(OR(MID(G18,1,10)=\"Decorrenza\",G18=0),IF(AND(G$6<$A20,G$6>=$A19),G$6,0),IF(H$6<$A19,0,$A19))","v":"00:00:00"},{"$f":"IF(G19<>0,IF($A20<>\"\",IF(H$6<$A20,H$6,$A20-1),I$6),0)","v":"00:00:00"},{"$f":"IF(OR(G19<>0,H19<>0),IF(YEAR(G19)=YEAR(H19),H19-G19+1,DATE(YEAR(G19),12,31)-G19+1+H19-DATE(YEAR(H19),1,1)+1+365*(YEAR(H19)-YEAR(G19)-1)),0)","v":0},{"$f":"IF(I19<>0,I$6*$B19/100/365*I19,0)","v":0},{"$f":"IF(OR(MID(K18,1,10)=\"Decorrenza\",K18=0),IF(AND(K$6<$A20,K$6>=$A19),K$6,0),IF(L$6<$A19,0,$A19))","v":"00:00:00"},{"$f":"IF(K19<>0,IF($A20<>\"\",IF(L$6<$A20,L$6,$A20-1),M$6),0)","v":"00:00:00"},{"$f":"IF(OR(K19<>0,L19<>0),IF(YEAR(K19)=YEAR(L19),L19-K19+1,DATE(YEAR(K19),12,31)-K19+1+L19-DATE(YEAR(L19),1,1)+1+365*(YEAR(L19)-YEAR(K19)-1)),0)","v":0},{"$f":"IF(M19<>0,M$6*$B19/100/365*M19,0)","v":0},{"$f":"IF(OR(MID(O18,1,10)=\"Decorrenza\",O18=0),IF(AND(O$6<$A20,O$6>=$A19),O$6,0),IF(P$6<$A19,0,$A19))","v":"00:00:00"},{"$f":"IF(O19<>0,IF($A20<>\"\",IF(P$6<$A20,P$6,$A20-1),Q$6),0)","v":"00:00:00"},{"$f":"IF(OR(O19<>0,P19<>0),IF(YEAR(O19)=YEAR(P19),P19-O19+1,DATE(YEAR(O19),12,31)-O19+1+P19-DATE(YEAR(P19),1,1)+1+365*(YEAR(P19)-YEAR(O19)-1)),0)","v":0},{"$f":"IF(Q19<>0,Q$6*$B19/100/365*Q19,0)","v":0},{"$f":"IF(OR(MID(S18,1,10)=\"Decorrenza\",S18=0),IF(AND(S$6<$A20,S$6>=$A19),S$6,0),IF(T$6<$A19,0,$A19))","v":"00:00:00"},{"$f":"IF(S19<>0,IF($A20<>\"\",IF(T$6<$A20,T$6,$A20-1),U$6),0)","v":"00:00:00"},{"$f":"IF(OR(S19<>0,T19<>0),IF(YEAR(S19)=YEAR(T19),T19-S19+1,DATE(YEAR(S19),12,31)-S19+1+T19-DATE(YEAR(T19),1,1)+1+365*(YEAR(T19)-YEAR(S19)-1)),0)","v":0},{"$f":"IF(U19<>0,U$6*$B19/100/365*U19,0)","v":0},{"$f":"IF(OR(MID(W18,1,10)=\"Decorrenza\",W18=0),IF(AND(W$6<$A20,W$6>=$A19),W$6,0),IF(X$6<$A19,0,$A19))","v":"00:00:00"},{"$f":"IF(W19<>0,IF($A20<>\"\",IF(X$6<$A20,X$6,$A20-1),Y$6),0)","v":"00:00:00"},{"$f":"IF(OR(W19<>0,X19<>0),IF(YEAR(W19)=YEAR(X19),X19-W19+1,DATE(YEAR(W19),12,31)-W19+1+X19-DATE(YEAR(X19),1,1)+1+365*(YEAR(X19)-YEAR(W19)-1)),0)","v":0},{"$f":"IF(Y19<>0,Y$6*$B19/100/365*Y19,0)","v":0},{"$f":"IF(OR(MID(AA18,1,10)=\"Decorrenza\",AA18=0),IF(AND(AA$6<$A20,AA$6>=$A19),AA$6,0),IF(AB$6<$A19,0,$A19))","v":"00:00:00"},{"$f":"IF(AA19<>0,IF($A20<>\"\",IF(AB$6<$A20,AB$6,$A20-1),AC$6),0)","v":"00:00:00"},{"$f":"IF(OR(AA19<>0,AB19<>0),IF(YEAR(AA19)=YEAR(AB19),AB19-AA19+1,DATE(YEAR(AA19),12,31)-AA19+1+AB19-DATE(YEAR(AB19),1,1)+1+365*(YEAR(AB19)-YEAR(AA19)-1)),0)","v":0},{"$f":"IF(AC19<>0,AC$6*$B19/100/365*AC19,0)","v":0},{"$f":"IF(OR(MID(AE18,1,10)=\"Decorrenza\",AE18=0),IF(AND(AE$6<$A20,AE$6>=$A19),AE$6,0),IF(AF$6<$A19,0,$A19))","v":"00:00:00"},{"$f":"IF(AE19<>0,IF($A20<>\"\",IF(AF$6<$A20,AF$6,$A20-1),AG$6),0)","v":"00:00:00"},{"$f":"IF(OR(AE19<>0,AF19<>0),IF(YEAR(AE19)=YEAR(AF19),AF19-AE19+1,DATE(YEAR(AE19),12,31)-AE19+1+AF19-DATE(YEAR(AF19),1,1)+1+365*(YEAR(AF19)-YEAR(AE19)-1)),0)","v":0},{"$f":"IF(AG19<>0,AG$6*$B19/100/365*AG19,0)","v":0}]
["2013-01-01",2.5,"00:00:00","00:00:00",0,0,"00:00:00","00:00:00",0,0,"00:00:00","00:00:00",0,0,"00:00:00","00:00:00",0,0,"00:00:00","00:00:00",0,0,"00:00:00","00:00:00",0,0,"00:00:00","00:00:00",0,0,"00:00:00","00:00:00",0,0]
["2014-01-01",1,"00:00:00","00:00:00",0,0,"00:00:00","00:00:00",0,0,"00:00:00","00:00:00",0,0,"00:00:00","00:00:00",0,0,"00:00:00","00:00:00",0,0,"00:00:00","00:00:00",0,0,"00:00:00","00:00:00",0,0,"00:00:00","00:00:00",0,0]
["2015-01-01",0.5,{"$f":"IF(OR(MID(C21,1,10)=\"Decorrenza\",C21=0),IF(AND(C$6<$A23,C$6>=$A22),C$6,0),IF(D$6<$A22,0,$A22))","v":"00:00:00"},{"$f":"IF(C22<>0,IF($A23<>\"\",IF(D$6<$A23,D$6,$A23-1),E$6),0)","v":"00:00:00"},{"$f":"IF(OR(C22<>0,D22<>0),IF(YEAR(C22)=YEAR(D22),D22-C22+1,DATE(YEAR(C22),12,31)-C22+1+D22-DATE(YEAR(D22),1,1)+1+365*(YEAR(D22)-YEAR(C22)-1)),0)","v":0},{"$f":"IF(E22<>0,E$6*$B22/100/365*E22,0)","v":0},{"$f":"IF(OR(MID(G21,1,10)=\"Decorrenza\",G21=0),IF(AND(G$6<$A23,G$6>=$A22),G$6,0),IF(H$6<$A22,0,$A22))","v":"00:00:00"},{"$f":"IF(G22<>0,IF($A23<>\"\",IF(H$6<$A23,H$6,$A23-1),I$6),0)","v":"00:00:00"},{"$f":"IF(OR(G22<>0,H22<>0),IF(YEAR(G22)=YEAR(H22),H22-G22+1,DATE(YEAR(G22),12,31)-G22+1+H22-DATE(YEAR(H22),1,1)+1+365*(YEAR(H22)-YEAR(G22)-1)),0)","v":0},{"$f":"IF(I22<>0,I$6*$B22/100/365*I22,0)","v":0},{"$f":"IF(OR(MID(K21,1,10)=\"Decorrenza\",K21=0),IF(AND(K$6<$A23,K$6>=$A22),K$6,0),IF(L$6<$A22,0,$A22))","v":"00:00:00"},{"$f":"IF(K22<>0,IF($A23<>\"\",IF(L$6<$A23,L$6,$A23-1),M$6),0)","v":"00:00:00"},{"$f":"IF(OR(K22<>0,L22<>0),IF(YEAR(K22)=YEAR(L22),L22-K22+1,DATE(YEAR(K22),12,31)-K22+1+L22-DATE(YEAR(L22),1,1)+1+365*(YEAR(L22)-YEAR(K22)-1)),0)","v":0},{"$f":"IF(M22<>0,M$6*$B22/100/365*M22,0)","v":0},{"$f":"IF(OR(MID(O21,1,10)=\"Decorrenza\",O21=0),IF(AND(O$6<$A23,O$6>=$A22),O$6,0),IF(P$6<$A22,0,$A22))","v":"00:00:00"},{"$f":"IF(O22<>0,IF($A23<>\"\",IF(P$6<$A23,P$6,$A23-1),Q$6),0)","v":"00:00:00"},{"$f":"IF(OR(O22<>0,P22<>0),IF(YEAR(O22)=YEAR(P22),P22-O22+1,DATE(YEAR(O22),12,31)-O22+1+P22-DATE(YEAR(P22),1,1)+1+365*(YEAR(P22)-YEAR(O22)-1)),0)","v":0},{"$f":"IF(Q22<>0,Q$6*$B22/100/365*Q22,0)","v":0},{"$f":"IF(OR(MID(S21,1,10)=\"Decorrenza\",S21=0),IF(AND(S$6<$A23,S$6>=$A22),S$6,0),IF(T$6<$A22,0,$A22))","v":"00:00:00"},{"$f":"IF(S22<>0,IF($A23<>\"\",IF(T$6<$A23,T$6,$A23-1),U$6),0)","v":"00:00:00"},{"$f":"IF(OR(S22<>0,T22<>0),IF(YEAR(S22)=YEAR(T22),T22-S22+1,DATE(YEAR(S22),12,31)-S22+1+T22-DATE(YEAR(T22),1,1)+1+365*(YEAR(T22)-YEAR(S22)-1)),0)","v":0},{"$f":"IF(U22<>0,U$6*$B22/100/365*U22,0)","v":0},{"$f":"IF(OR(MID(W21,1,10)=\"Decorrenza\",W21=0),IF(AND(W$6<$A23,W$6>=$A22),W$6,0),IF(X$6<$A22,0,$A22))","v":"00:00:00"},{"$f":"IF(W22<>0,IF($A23<>\"\",IF(X$6<$A23,X$6,$A23-1),Y$6),0)","v":"00:00:00"},{"$f":"IF(OR(W22<>0,X22<>0),IF(YEAR(W22)=YEAR(X22),X22-W22+1,DATE(YEAR(W22),12,31)-W22+1+X22-DATE(YEAR(X22),1,1)+1+365*(YEAR(X22)-YEAR(W22)-1)),0)","v":0},{"$f":"IF(Y22<>0,Y$6*$B22/100/365*Y22,0)","v":0},{"$f":"IF(OR(MID(AA21,1,10)=\"Decorrenza\",AA21=0),IF(AND(AA$6<$A23,AA$6>=$A22),AA$6,0),IF(AB$6<$A22,0,$A22))","v":"00:00:00"},{"$f":"IF(AA22<>0,IF($A23<>\"\",IF(AB$6<$A23,AB$6,$A23-1),AC$6),0)","v":"00:00:00"},{"$f":"IF(OR(AA22<>0,AB22<>0),IF(YEAR(AA22)=YEAR(AB22),AB22-AA22+1,DATE(YEAR(AA22),12,31)-AA22+1+AB22-DATE(YEAR(AB22),1,1)+1+365*(YEAR(AB22)-YEAR(AA22)-1)),0)","v":0},{"$f":"IF(AC22<>0,AC$6*$B22/100/365*AC22,0)","v":0},{"$f":"IF(OR(MID(AE21,1,10)=\"Decorrenza\",AE21=0),IF(AND(AE$6<$A23,AE$6>=$A22),AE$6,0),IF(AF$6<$A22,0,$A22))","v":"00:00:00"},{"$f":"IF(AE22<>0,IF($A23<>\"\",IF(AF$6<$A23,AF$6,$A23-1),AG$6),0)","v":"00:00:00"},{"$f":"IF(OR(AE22<>0,AF22<>0),IF(YEAR(AE22)=YEAR(AF22),AF22-AE22+1,DATE(YEAR(AE22),12,31)-AE22+1+AF22-DATE(YEAR(AF22),1,1)+1+365*(YEAR(AF22)-YEAR(AE22)-1)),0)","v":0},{"$f":"IF(AG22<>0,AG$6*$B22/100/365*AG22,0)","v":0}]
["2016-01-01",0.2,"00:00:00","00:00:00",0,0,"00:00:00","00:00:00",0,0,"00:00:00","00:00:00",0,0,"00:00:00","00:00:00",0,0,"00:00:00","00:00:00",0,0,"00:00:00","00:00:00",0,0,"00:00:00","00:00:00",0,0,"00:00:00","00:00:00",0,0]
["2017-01-01",0.1,"00:00:00","00:00:00",0,0,"00:00:00","00:00:00",0,0,"00:00:00","00:00:00",0,0,"00:00:00","00:00:00",0,0,"00:00:00","00:00:00",0,0,"00:00:00","00:00:00",0,0,"00:00:00","00:00:00",0,0,"00:00:00","00:00:00",0,0]
[73050,null,"TOTALI",null,{"$f":"SUM(E$9:E24)","v":0},{"$f":"ROUND(SUM(F$9:F24),2)","v":0},"TOTALI",null,{"$f":"SUM(I$9:I24)","v":0},{"$f":"ROUND(SUM(J$9:J24),2)","v":0},"TOTALI",null,{"$f":"SUM(M$9:M24)","v":0},{"$f":"ROUND(SUM(N$9:N24),2)","v":0},"TOTALI",null,{"$f":"SUM(Q$9:Q24)","v":0},{"$f":"ROUND(SUM(R$9:R24),2)","v":0},"TOTALI",null,{"$f":"SUM(U$9:U24)","v":0},{"$f":"ROUND(SUM(V$9:V24),2)","v":0},"TOTALI",null,{"$f":"SUM(Y$9:Y24)","v":0},{"$f":"ROUND(SUM(Z$9:Z24),2)","v":0},"TOTALI",null,{"$f":"SUM(AC$9:AC24)","v":0},{"$f":"ROUND(SUM(AD$9:AD24),2)","v":0},"TOTALI",null,{"$f":"SUM(AG$9:AG24)","v":0},{"$f":"ROUND(SUM(AH$9:AH24),2)","v":0}]
[null,null,"L'interesse dovuto per ogni giorno successivo alla data di \"Termine calcolo interessi\" è pari a:",null,null,{"$f":"IF(F25<>0,E$6*INDEX($B$9:$B$102,MATCH(D$6,$A$9:$A$102,1))/100/365,0)","v":0},"L'interesse dovuto per ogni giorno successivo alla data di \"Termine calcolo interessi\" è pari a:",null,null,{"$f":"IF(J25<>0,I$6*INDEX($B$9:$B$102,MATCH(H$6,$A$9:$A$102,1))/100/365,0)","v":0},"L'interesse dovuto per ogni giorno successivo alla data di \"Termine calcolo interessi\" è pari a:",null,null,{"$f":"IF(N25<>0,M$6*INDEX($B$9:$B$102,MATCH(L$6,$A$9:$A$102,1))/100/365,0)","v":0},"L'interesse dovuto per ogni giorno successivo alla data di \"Termine calcolo interessi\" è pari a:",null,null,{"$f":"IF(R25<>0,Q$6*INDEX($B$9:$B$102,MATCH(P$6,$A$9:$A$102,1))/100/365,0)","v":0},"L'interesse dovuto per ogni giorno successivo alla data di \"Termine calcolo interessi\" è pari a:",null,null,{"$f":"IF(V25<>0,U$6*INDEX($B$9:$B$102,MATCH(T$6,$A$9:$A$102,1))/100/365,0)","v":0},"L'interesse dovuto per ogni giorno successivo alla data di \"Termine calcolo interessi\" è pari a:",null,null,{"$f":"IF(Z25<>0,Y$6*INDEX($B$9:$B$102,MATCH(X$6,$A$9:$A$102,1))/100/365,0)","v":0},"L'interesse dovuto per ogni giorno successivo alla data di \"Termine calcolo interessi\" è pari a:",null,null,{"$f":"IF(AD25<>0,AC$6*INDEX($B$9:$B$102,MATCH(AB$6,$A$9:$A$102,1))/100/365,0)","v":0},"L'interesse dovuto per ogni giorno successivo alla data di \"Termine calcolo interessi\" è pari a:",null,null,{"$f":"IF(AH25<>0,AG$6*INDEX($B$9:$B$102,MATCH(AF$6,$A$9:$A$102,1))/100/365,0)","v":0}]

{"sheet":"inter.legale(vedi prima riga)","index":6,"n_rows":26,"n_cols":34,"rows_kept":26,"cut":false,"hidden":false,"merged":[[4,33,6,33],[6,26,6,28],[6,30,6,32],[0,0,0,33],[1,0,1,1],[3,0,6,1],[3,2,3,5],[3,6,3,9],[3,10,3,13],[3,14,3,17],[3,18,3,21],[3,22,3,25],[3,26,3,29],[3,30,3,33],[4,5,6,5],[4,9,6,9],[24,0,25,1],[24,2,24,3],[24,6,24,7],[24,10,24,11],[24,14,24,15],[2,4,2,5],[25,26,25,28],[24,18,24,19],[24,22,24,23],[24,26,24,27],[4,13,6,13],[4,17,6,17],[4,21,6,21],[6,14,6,16],[6,18,6,20],[24,30,24,31],[6,2,6,4],[6,6,6,8],[6,10,6,12],[25,30,25,32],[25,2,25,4],[25,6,25,8],[25,10,25,12],[25,14,25,16],[25,18,25,20],[25,22,25,24],[6,22,6,24],[4,25,6,25],[4,29,6,29]]}
[{"$f":"\"INTERESSE LEGALE PER IL BIENNIO \" & LEFT(RIGHT(menù!$A$3,10),9)","v":"INTERESSE LEGALE PER IL BIENNIO 2017-2018"}]
["Cooperativa:"]
[{"$f":"ragionesociale","v":0},null,null,null,{"$f":"IF(AND(ragionesociale<>\"\",MID(CELL(\"nomefile\",ragionesociale),FIND(\"[\",CELL(\"nomefile\",ragionesociale))-6,6)<>\"Varie\\\",MID(CELL(\"nomefile\",ragionesociale),1,34)=\"C:\\Documenti\\Cooperative associate\"),\"Progressivo \" & MID(CELL(\"nomefile\",ragionesociale),FIND(\"-\",CELL(\"nomefile\",ragionesociale))-3,3),\"\")","v":""}]
["L'elaborazione considera l'anno civile (365 giorni), senza calcolare l'anatocismo.",null,{"$f":"\"CALCOLO INTERESSI SUL CONTRIBUTO DI REVISIONE PER IL BIENNIO \" & RIGHT('contr.biennio(vedi prima riga)'!$G$28,9)","v":"CALCOLO INTERESSI SUL CONTRIBUTO DI REVISIONE PER IL BIENNIO 2011-2012"},null,null,null,{"$f":"\"CALCOLO INTERESSI SUL CONTRIBUTO DI REVISIONE PER IL BIENNIO \" &  RIGHT('contr.biennio(vedi prima riga)'!$H$28,9)","v":"CALCOLO INTERESSI SUL CONTRIBUTO DI REVISIONE PER IL BIENNIO 2013-2014"},null,null,null,{"$f":"\"CALCOLO INTERESSI SUL CONTRIBUTO DI REVISIONE PER IL BIENNIO \" &  RIGHT('contr.biennio(vedi prima riga)'!$I$28,9)","v":"CALCOLO INTERESSI SUL CONTRIBUTO DI REVISIONE PER IL BIENNIO 2015-2016"},null,null,null,{"$f":"\"CALCOLO INTERESSI SUL CONTRIBUTO 3% PER L'ESERCIZIO \" &  RIGHT('contr.biennio(vedi prima riga)'!$F$47,9)","v":"CALCOLO INTERESSI SUL CONTRIBUTO 3% PER L'ESERCIZIO 2011"},null,null,null,{"$f":"\"CALCOLO INTERESSI SUL CONTRIBUTO 3% PER L'ESERCIZIO \" &  RIGHT('contr.biennio(vedi prima riga)'!$G$47,9)","v":"CALCOLO INTERESSI SUL CONTRIBUTO 3% PER L'ESERCIZIO 2012"},null,null,null,{"$f":"\"CALCOLO INTERESSI SUL CONTRIBUTO 3% PER L'ESERCIZIO \" &  RIGHT('contr.biennio(vedi prima riga)'!$H$47,9)","v":"CALCOLO INTERESSI SUL CONTRIBUTO 3% PER L'ESERCIZIO 2013"},null,null,null,{"$f":"\"CALCOLO INTERESSI SUL CONTRIBUTO 3% PER L'ESERCIZIO \" &  RIGHT('contr.biennio(vedi prima riga)'!$I$47,9)","v":"CALCOLO INTERESSI SUL CONTRIBUTO 3% PER L'ESERCIZIO 2014"},null,null,null,{"$f":"\"CALCOLO INTERESSI SUL CONTRIBUTO 3% PER L'ESERCIZIO \" &  RIGHT('contr.biennio(vedi prima riga)'!$J$47,9)","v":"CALCOLO INTERESSI SUL CONTRIBUTO 3% PER L'ESERCIZIO 2015"}]
[null,null,"Decorrenza interessi\n(gg.mm.aa)","Termine calcolo interessi\n(gg.mm.aa)","contributo biennale di revisione",null,"Decorrenza interessi\n(gg.mm.aa)","Termine calcolo interessi\n(gg.mm.aa)","contributo biennale di revisione",null,"Decorrenza interessi\n(gg.mm.aa)","Termine calcolo interessi\n(gg.mm.aa)","contributo biennale di revisione",null,"Decorrenza interessi\n(gg.mm.aa)","Termine calcolo interessi\n(gg.mm.aa)","Imponibile",null,"Decorrenza interessi\n(gg.mm.aa)","Termine calcolo interessi\n(gg.mm.aa)","Imponibile",null,"Decorrenza interessi\n(gg.mm.aa)","Termine calcolo interessi\n(gg.mm.aa)","Imponibile",null,"Decorrenza interessi\n(gg.mm.aa)","Termine calcolo interessi\n(gg.mm.aa)","Imponibile",null,"Decorrenza interessi\n(gg.mm.aa)","Termine calcolo interessi\n(gg.mm.aa)","Imponibile"]
[null,null,{"$f":"IF('contr.biennio(vedi prima riga)'!$G$35<>\"\",IF('contr.biennio(vedi prima riga)'!$G$32<>\"\",'contr.biennio(vedi prima riga)'!$G$33,'contr.biennio(vedi prima riga)'!$G$30),\"\")","v":""},{"$f":"IF('contr.biennio(vedi prima riga)'!$G$35<>\"\",'contr.biennio(vedi prima riga)'!$G$35,\"\")","v":""},{"$f":"IF('contr.biennio(vedi prima riga)'!$G$35<>\"\",'contr.biennio(vedi prima riga)'!$G$34,\"\")","v":""},null,{"$f":"IF('contr.biennio(vedi prima riga)'!$H$35<>\"\",IF('contr.biennio(vedi prima riga)'!$H$32<>\"\",'contr.biennio(vedi prima riga)'!$H$33,'contr.biennio(vedi prima riga)'!$H$30),\"\")","v":""},{"$f":"IF('contr.biennio(vedi prima riga)'!$H$35<>\"\",'contr.biennio(vedi prima riga)'!$H$35,\"\")","v":""},{"$f":"IF('contr.biennio(vedi prima riga)'!$H$35<>\"\",'contr.biennio(vedi prima riga)'!$H$34,\"\")","v":""},null,{"$f":"IF('contr.biennio(vedi prima riga)'!$I$35<>\"\",IF('contr.biennio(vedi prima riga)'!$I$32<>\"\",'contr.biennio(vedi prima riga)'!$I$33,'contr.biennio(vedi prima riga)'!$I$30),\"\")","v":""},{"$f":"IF('contr.biennio(vedi prima riga)'!$I$35<>\"\",'contr.biennio(vedi prima riga)'!$I$35,\"\")","v":""},{"$f":"IF('contr.biennio(vedi prima riga)'!$I$35<>\"\",'contr.biennio(vedi prima riga)'!$I$34,\"\")","v":""},null,{"$f":"IF('contr.biennio(vedi prima riga)'!$F$57<>\"\",'contr.biennio(vedi prima riga)'!$F$56,\"\")","v":""},{"$f":"IF('contr.biennio(vedi prima riga)'!$F$57<>\"\",'contr.biennio(vedi prima riga)'!$F$57,\"\")","v":""},{"$f":"'contr.biennio(vedi prima riga)'!$F$54","v":0},null,{"$f":"IF('contr.biennio(vedi prima riga)'!$G$57<>\"\",'contr.biennio(vedi prima riga)'!$G$56,\"\")","v":""},{"$f":"IF('contr.biennio(vedi prima riga)'!$G$57<>\"\",'contr.biennio(vedi prima riga)'!$G$57,\"\")","v":""},{"$f":"'contr.biennio(vedi prima riga)'!$G$54","v":0},null,{"$f":"IF('contr.biennio(vedi prima riga)'!$H$57<>\"\",'contr.biennio(vedi prima riga)'!$H$56,\"\")","v":""},{"$f":"IF('contr.biennio(vedi prima riga)'!$H$57<>\"\",'contr.biennio(vedi prima riga)'!$H$57,\"\")","v":""},{"$f":"'contr.biennio(vedi prima riga)'!$H$54","v":0},null,{"$f":"IF('contr.biennio(vedi prima riga)'!$I$57<>\"\",'contr.biennio(vedi prima riga)'!$I$56,\"\")","v":""},{"$f":"IF('contr.biennio(vedi prima riga)'!$I$57<>\"\",'contr.biennio(vedi prima riga)'!$I$57,\"\")","v":""},{"$f":"'contr.biennio(vedi prima riga)'!$I$54","v":0},null,{"$f":"IF('contr.biennio(vedi prima riga)'!$J$57<>\"\",'contr.biennio(vedi prima riga)'!$J$56,\"\")","v":""},{"$f":"IF('contr.biennio(vedi prima riga)'!$J$57<>\"\",'contr.biennio(vedi prima riga)'!$J$57,\"\")","v":""},{"$f":"'contr.biennio(vedi prima riga)'!$J$54","v":0}]
[null,null,{"$f":"IF(AND(C6=\"\",D6=\"\",E6=\"\"),\"\",IF(AND(C6<>\"\",D6<>\"\",E6<>\"\"),IF(C6<C$9,\"data decorrenza minore data decorrenza minima conosciuta prima colonna\",\"\"),\"data decorrenza o data termine o importo su cui calcolare gli interessi non comunicato\"))","v":""},null,null,null,{"$f":"IF(AND(G6=\"\",H6=\"\",I6=\"\"),\"\",IF(AND(G6<>\"\",H6<>\"\",I6<>\"\"),IF(G6<G$9,\"data decorrenza minore data decorrenza minima conosciuta prima colonna\",\"\"),\"data decorrenza o data termine o importo su cui calcolare gli interessi non comunicato\"))","v":""},null,null,null,{"$f":"IF(AND(K6=\"\",L6=\"\",M6=\"\"),\"\",IF(AND(K6<>\"\",L6<>\"\",M6<>\"\"),IF(K6<K$9,\"data decorrenza minore data decorrenza minima conosciuta prima colonna\",\"\"),\"data decorrenza o data termine o importo su cui calcolare gli interessi non comunicato\"))","v":""},null,null,null,{"$f":"IF(AND(O$6<>0,O$6<$A$9),\"decorrenza antecedente o termine successivo alle date limiti\",\"\")","v":""},null,null,null,{"$f":"IF(AND(S$6<>0,S$6<$A$9),\"decorrenza antecedente o termine successivo alle date limiti\",\"\")","v":""},null,null,null,{"$f":"IF(AND(W$6<>0,W$6<$A$9),\"decorrenza antecedente o termine successivo alle date limiti\",\"\")","v":""},null,null,null,{"$f":"IF(AND(AA$6<>0,AA$6<$A$9),\"decorrenza antecedente o termine successivo alle date limiti\",\"\")","v":""},null,null,null,{"$f":"IF(AND(AE$6<>0,AE$6<$A$9),\"decorrenza antecedente o termine successivo alle date limiti\",\"\")","v":""}]
["Decorrenza\n(gg.mm.aa)","Tasso %","Decorrenza interessi\n(gg.mm.aa)","Termine calcolo interessi\n(gg.mm.aa)","Giorni","Interesse sul contributo biennale di revisione","Decorrenza interessi\n(gg.mm.aa)","Termine calcolo interessi\n(gg.mm.aa)","Giorni","Interesse sul contributo biennale di revisione","Decorrenza interessi\n(gg.mm.aa)","Termine calcolo interessi\n(gg.mm.aa)","Giorni","Interesse sul contributo biennale di revisione","Decorrenza interessi\n(gg.mm.aa)","Termine calcolo interessi\n(gg.mm.aa)","Giorni","Interesse","Decorrenza interessi\n(gg.mm.aa)","Termine calcolo interessi\n(gg.mm.aa)","Giorni","Interesse","Decorrenza interessi\n(gg.mm.aa)","Termine calcolo interessi\n(gg.mm.aa)","Giorni","Interesse","Decorrenza interessi\n(gg.mm.aa)","Termine calcolo interessi\n(gg.mm.aa)","Giorni","Interesse","Decorrenza interessi\n(gg.mm.aa)","Termine calcolo interessi\n(gg.mm.aa)","Giorni","Interesse"]
["1990-01-01",5,{"$f":"IF(OR(MID(C8,1,10)=\"Decorrenza\",C8=0),IF(AND(C$6<$A10,C$6>=$A9),C$6,0),IF(D$6<$A9,0,$A9))","v":"00:00:00"},{"$f":"IF(C9<>0,IF($A10<>\"\",IF(D$6<$A10,D$6,$A10-1),E$6),0)","v":"00:00:00"},{"$f":"IF(OR(C9<>0,D9<>0),IF(YEAR(C9)=YEAR(D9),D9-C9+1,DATE(YEAR(C9),12,31)-C9+1+D9-DATE(YEAR(D9),1,1)+1+365*(YEAR(D9)-YEAR(C9)-1)),0)","v":0},{"$f":"IF(E9<>0,E$6*$B9/100/365*E9,0)","v":0},{"$f":"IF(OR(MID(G8,1,10)=\"Decorrenza\",G8=0),IF(AND(G$6<$A10,G$6>=$A9),G$6,0),IF(H$6<$A9,0,$A9))","v":"00:00:00"},{"$f":"IF(G9<>0,IF($A10<>\"\",IF(H$6<$A10,H$6,$A10-1),I$6),0)","v":"00:00:00"},{"$f":"IF(OR(G9<>0,H9<>0),IF(YEAR(G9)=YEAR(H9),H9-G9+1,DATE(YEAR(G9),12,31)-G9+1+H9-DATE(YEAR(H9),1,1)+1+365*(YEAR(H9)-YEAR(G9)-1)),0)","v":0},{"$f":"IF(I9<>0,I$6*$B9/100/365*I9,0)","v":0},{"$f":"IF(OR(MID(K8,1,10)=\"Decorrenza\",K8=0),IF(AND(K$6<$A10,K$6>=$A9),K$6,0),IF(L$6<$A9,0,$A9))","v":"00:00:00"},{"$f":"IF(K9<>0,IF($A10<>\"\",IF(L$6<$A10,L$6,$A10-1),M$6),0)","v":"00:00:00"},{"$f":"IF(OR(K9<>0,L9<>0),IF(YEAR(K9)=YEAR(L9),L9-K9+1,DATE(YEAR(K9),12,31)-K9+1+L9-DATE(YEAR(L9),1,1)+1+365*(YEAR(L9)-YEAR(K9)-1)),0)","v":0},{"$f":"IF(M9<>0,M$6*$B9/100/365*M9,0)","v":0},{"$f":"IF(OR(MID(O8,1,10)=\"Decorrenza\",O8=0),IF(AND(O$6<$A10,O$6>=$A9),O$6,0),IF(P$6<$A9,0,$A9))","v":"00:00:00"},{"$f":"IF(O9<>0,IF($A10<>\"\",IF(P$6<$A10,P$6,$A10-1),Q$6),0)","v":"00:00:00"},{"$f":"IF(OR(O9<>0,P9<>0),IF(YEAR(O9)=YEAR(P9),P9-O9+1,DATE(YEAR(O9),12,31)-O9+1+P9-DATE(YEAR(P9),1,1)+1+365*(YEAR(P9)-YEAR(O9)-1)),0)","v":0},{"$f":"IF(Q9<>0,Q$6*$B9/100/365*Q9,0)","v":0},{"$f":"IF(OR(MID(S8,1,10)=\"Decorrenza\",S8=0),IF(AND(S$6<$A10,S$6>=$A9),S$6,0),IF(T$6<$A9,0,$A9))","v":"00:00:00"},{"$f":"IF(S9<>0,IF($A10<>\"\",IF(T$6<$A10,T$6,$A10-1),U$6),0)","v":"00:00:00"},{"$f":"IF(OR(S9<>0,T9<>0),IF(YEAR(S9)=YEAR(T9),T9-S9+1,DATE(YEAR(S9),12,31)-S9+1+T9-DATE(YEAR(T9),1,1)+1+365*(YEAR(T9)-YEAR(S9)-1)),0)","v":0},{"$f":"IF(U9<>0,U$6*$B9/100/365*U9,0)","v":0},{"$f":"IF(OR(MID(W8,1,10)=\"Decorrenza\",W8=0),IF(AND(W$6<$A10,W$6>=$A9),W$6,0),IF(X$6<$A9,0,$A9))","v":"00:00:00"},{"$f":"IF(W9<>0,IF($A10<>\"\",IF(X$6<$A10,X$6,$A10-1),Y$6),0)","v":"00:00:00"},{"$f":"IF(OR(W9<>0,X9<>0),IF(YEAR(W9)=YEAR(X9),X9-W9+1,DATE(YEAR(W9),12,31)-W9+1+X9-DATE(YEAR(X9),1,1)+1+365*(YEAR(X9)-YEAR(W9)-1)),0)","v":0},{"$f":"IF(Y9<>0,Y$6*$B9/100/365*Y9,0)","v":0},{"$f":"IF(OR(MID(AA8,1,10)=\"Decorrenza\",AA8=0),IF(AND(AA$6<$A10,AA$6>=$A9),AA$6,0),IF(AB$6<$A9,0,$A9))","v":"00:00:00"},{"$f":"IF(AA9<>0,IF($A10<>\"\",IF(AB$6<$A10,AB$6,$A10-1),AC$6),0)","v":"00:00:00"},{"$f":"IF(OR(AA9<>0,AB9<>0),IF(YEAR(AA9)=YEAR(AB9),AB9-AA9+1,DATE(YEAR(AA9),12,31)-AA9+1+AB9-DATE(YEAR(AB9),1,1)+1+365*(YEAR(AB9)-YEAR(AA9)-1)),0)","v":0},{"$f":"IF(AC9<>0,AC$6*$B9/100/365*AC9,0)","v":0},{"$f":"IF(OR(MID(AE8,1,10)=\"Decorrenza\",AE8=0),IF(AND(AE$6<$A10,AE$6>=$A9),AE$6,0),IF(AF$6<$A9,0,$A9))","v":"00:00:00"},{"$f":"IF(AE9<>0,IF($A10<>\"\",IF(AF$6<$A10,AF$6,$A10-1),AG$6),0)","v":"00:00:00"},{"$f":"IF(OR(AE9<>0,AF9<>0),IF(YEAR(AE9)=YEAR(AF9),AF9-AE9+1,DATE(YEAR(AE9),12,31)-AE9+1+AF9-DATE(YEAR(AF9),1,1)+1+365*(YEAR(AF9)-YEAR(AE9)-1)),0)","v":0},{"$f":"IF(AG9<>0,AG$6*$B9/100/365*AG9,0)","v":0}]
["1990-12-16",10,{"$f":"IF(OR(MID(C9,1,10)=\"Decorrenza\",C9=0),IF(AND(C$6<$A11,C$6>=$A10),C$6,0),IF(D$6<$A10,0,$A10))","v":"00:00:00"},"00:00:00",{"$f":"IF(OR(C10<>0,D10<>0),IF(YEAR(C10)=YEAR(D10),D10-C10+1,DATE(YEAR(C10),12,31)-C10+1+D10-DATE(YEAR(D10),1,1)+1+365*(YEAR(D10)-YEAR(C10)-1)),0)","v":0},{"$f":"IF(E10<>0,E$6*$B10/100/365*E10,0)","v":0},{"$f":"IF(OR(MID(G9,1,10)=\"Decorrenza\",G9=0),IF(AND(G$6<$A11,G$6>=$A10),G$6,0),IF(H$6<$A10,0,$A10))","v":"00:00:00"},"00:00:00",{"$f":"IF(OR(G10<>0,H10<>0),IF(YEAR(G10)=YEAR(H10),H10-G10+1,DATE(YEAR(G10),12,31)-G10+1+H10-DATE(YEAR(H10),1,1)+1+365*(YEAR(H10)-YEAR(G10)-1)),0)","v":0},{"$f":"IF(I10<>0,I$6*$B10/100/365*I10,0)","v":0},{"$f":"IF(OR(MID(K9,1,10)=\"Decorrenza\",K9=0),IF(AND(K$6<$A11,K$6>=$A10),K$6,0),IF(L$6<$A10,0,$A10))","v":"00:00:00"},"00:00:00",{"$f":"IF(OR(K10<>0,L10<>0),IF(YEAR(K10)=YEAR(L10),L10-K10+1,DATE(YEAR(K10),12,31)-K10+1+L10-DATE(YEAR(L10),1,1)+1+365*(YEAR(L10)-YEAR(K10)-1)),0)","v":0},{"$f":"IF(M10<>0,M$6*$B10/100/365*M10,0)","v":0},{"$f":"IF(OR(MID(O9,1,10)=\"Decorrenza\",O9=0),IF(AND(O$6<$A11,O$6>=$A10),O$6,0),IF(P$6<$A10,0,$A10))","v":"00:00:00"},"00:00:00",{"$f":"IF(OR(O10<>0,P10<>0),IF(YEAR(O10)=YEAR(P10),P10-O10+1,DATE(YEAR(O10),12,31)-O10+1+P10-DATE(YEAR(P10),1,1)+1+365*(YEAR(P10)-YEAR(O10)-1)),0)","v":0},{"$f":"IF(Q10<>0,Q$6*$B10/100/365*Q10,0)","v":0},{"$f":"IF(OR(MID(S9,1,10)=\"Decorrenza\",S9=0),IF(AND(S$6<$A11,S$6>=$A10),S$6,0),IF(T$6<$A10,0,$A10))","v":"00:00:00"},"00:00:00",{"$f":"IF(OR(S10<>0,T10<>0),IF(YEAR(S10)=YEAR(T10),T10-S10+1,DATE(YEAR(S10),12,31)-S10+1+T10-DATE(YEAR(T10),1,1)+1+365*(YEAR(T10)-YEAR(S10)-1)),0)","v":0},{"$f":"IF(U10<>0,U$6*$B10/100/365*U10,0)","v":0},{"$f":"IF(OR(MID(W9,1,10)=\"Decorrenza\",W9=0),IF(AND(W$6<$A11,W$6>=$A10),W$6,0),IF(X$6<$A10,0,$A10))","v":"00:00:00"},"00:00:00",{"$f":"IF(OR(W10<>0,X10<>0),IF(YEAR(W10)=YEAR(X10),X10-W10+1,DATE(YEAR(W10),12,31)-W10+1+X10-DATE(YEAR(X10),1,1)+1+365*(YEAR(X10)-YEAR(W10)-1)),0)","v":0},{"$f":"IF(Y10<>0,Y$6*$B10/100/365*Y10,0)","v":0},{"$f":"IF(OR(MID(AA9,1,10)=\"Decorrenza\",AA9=0),IF(AND(AA$6<$A11,AA$6>=$A10),AA$6,0),IF(AB$6<$A10,0,$A10))","v":"00:00:00"},"00:00:00",{"$f":"IF(OR(AA10<>0,AB10<>0),IF(YEAR(AA10)=YEAR(AB10),AB10-AA10+1,DATE(YEAR(AA10),12,31)-AA10+1+AB10-DATE(YEAR(AB10),1,1)+1+365*(YEAR(AB10)-YEAR(AA10)-1)),0)","v":0},{"$f":"IF(AC10<>0,AC$6*$B10/100/365*AC10,0)","v":0},{"$f":"IF(OR(MID(AE9,1,10)=\"Decorrenza\",AE9=0),IF(AND(AE$6<$A11,AE$6>=$A10),AE$6,0),IF(AF$6<$A10,0,$A10))","v":"00:00:00"},"00:00:00",{"$f":"IF(OR(AE10<>0,AF10<>0),IF(YEAR(AE10)=YEAR(AF10),AF10-AE10+1,DATE(YEAR(AE10),12,31)-AE10+1+AF10-DATE(YEAR(AF10),1,1)+1+365*(YEAR(AF10)-YEAR(AE10)-1)),0)","v":0},{"$f":"IF(AG10<>0,AG$6*$B10/100/365*AG10,0)","v":0}]
["1997-01-01",5,"00:00:00","00:00:00",0,0,"00:00:00","00:00:00",0,0,"00:00:00","00:00:00",0,0,"00:00:00","00:00:00",0,0,"00:00:00","00:00:00",0,0,"00:00:00","00:00:00",0,0,"00:00:00","00:00:00",0,0,"00:00:00","00:00:00",0,0]
["1999-01-01",2.5,"00:00:00","00:00:00",0,0,"00:00:00","00:00:00",0,0,"00:00:00","00:00:00",0,0,"00:00:00","00:00:00",0,0,"00:00:00","00:00:00",0,0,"00:00:00","00:00:00",0,0,"00:00:00","00:00:00",0,0,"00:00:00","00:00:00",0,0]
["2001-01-01",3.5,"00:00:00","00:00:00",0,0,"00:00:00","00:00:00",0,0,"00:00:00","00:00:00",0,0,"00:00:00","00:00:00",0,0,"00:00:00","00:00:00",0,0,"00:00:00","00:00:00",0,0,"00:00:00","00:00:00",0,0,"00:00:00","00:00:00",0,0]
["2002-01-01",3,"00:00:00","00:00:00",0,0,"00:00:00","00:00:00",0,0,"00:00:00","00:00:00",0,0,"00:00:00","00:00:00",0,0,"00:00:00","00:00:00",0,0,"00:00:00","00:00:00",0,0,"00:00:00","00:00:00",0,0,"00:00:00","00:00:00",0,0]
["2004-01-01",2.5,"00:00:00","00:00:00",0,0,"00:00:00","00:00:00",0,0,"00:00:00","00:00:00",0,0,"00:00:00","00:00:00",0,0,"00:00:00","00:00:00",0,0,"00:00:00","00:00:00",0,0,"00:00:00","00:00:00",0,0,"00:00:00","00:00:00",0,0]
["2008-01-01",3,"00:00:00","00:00:00",0,0,"00:00:00","00:00:00",0,0,"00:00:00","00:00:00",0,0,"00:00:00","00:00:00",0,0,"00:00:00","00:00:00",0,0,"00:00:00","00:00:00",0,0,"00:00:00","00:00:00",0,0,"00:00:00","00:00:00",0,0]
["2010-01-01",1,"00:00:00","00:00:00",0,0,"00:00:00","00:00:00",0,0,"00:00:00","00:00:00",0,0,"00:00:00","00:00:00",0,0,"00:00:00","00:00:00",0,0,"00:00:00","00:00:00",0,0,"00:00:00","00:00:00",0,0,"00:00:00","00:00:00",0,0]
["2011-01-01",1.5,{"$f":"IF(OR(MID(C17,1,10)=\"Decorrenza\",C17=0),IF(AND(C$6<$A19,C$6>=$A18),C$6,0),IF(D$6<$A18,0,$A18))","v":"00:00:00"},{"$f":"IF(C18<>0,IF($A19<>\"\",IF(D$6<$A19,D$6,$A19-1),E$6),0)","v":"00:00:00"},{"$f":"IF(OR(C18<>0,D18<>0),IF(YEAR(C18)=YEAR(D18),D18-C18+1,DATE(YEAR(C18),12,31)-C18+1+D18-DATE(YEAR(D18),1,1)+1+365*(YEAR(D18)-YEAR(C18)-1)),0)","v":0},{"$f":"IF(E18<>0,E$6*$B18/100/365*E18,0)","v":0},{"$f":"IF(OR(MID(G17,1,10)=\"Decorrenza\",G17=0),IF(AND(G$6<$A19,G$6>=$A18),G$6,0),IF(H$6<$A18,0,$A18))","v":"00:00:00"},{"$f":"IF(G18<>0,IF($A19<>\"\",IF(H$6<$A19,H$6,$A19-1),I$6),0)","v":"00:00:00"},{"$f":"IF(OR(G18<>0,H18<>0),IF(YEAR(G18)=YEAR(H18),H18-G18+1,DATE(YEAR(G18),12,31)-G18+1+H18-DATE(YEAR(H18),1,1)+1+365*(YEAR(H18)-YEAR(G18)-1)),0)","v":0},{"$f":"IF(I18<>0,I$6*$B18/100/365*I18,0)","v":0},{"$f":"IF(OR(MID(K17,1,10)=\"Decorrenza\",K17=0),IF(AND(K$6<$A19,K$6>=$A18),K$6,0),IF(L$6<$A18,0,$A18))","v":"00:00:00"},{"$f":"IF(K18<>0,IF($A19<>\"\",IF(L$6<$A19,L$6,$A19-1),M$6),0)","v":"00:00:00"},{"$f":"IF(OR(K18<>0,L18<>0),IF(YEAR(K18)=YEAR(L18),L18-K18+1,DATE(YEAR(K18),12,31)-K18+1+L18-DATE(YEAR(L18),1,1)+1+365*(YEAR(L18)-YEAR(K18)-1)),0)","v":0},{"$f":"IF(M18<>0,M$6*$B18/100/365*M18,0)","v":0},{"$f":"IF(OR(MID(O17,1,10)=\"Decorrenza\",O17=0),IF(AND(O$6<$A19,O$6>=$A18),O$6,0),IF(P$6<$A18,0,$A18))","v":"00:00:00"},{"$f":"IF(O18<>0,IF($A19<>\"\",IF(P$6<$A19,P$6,$A19-1),Q$6),0)","v":"00:00:00"},{"$f":"IF(OR(O18<>0,P18<>0),IF(YEAR(O18)=YEAR(P18),P18-O18+1,DATE(YEAR(O18),12,31)-O18+1+P18-DATE(YEAR(P18),1,1)+1+365*(YEAR(P18)-YEAR(O18)-1)),0)","v":0},{"$f":"IF(Q18<>0,Q$6*$B18/100/365*Q18,0)","v":0},{"$f":"IF(OR(MID(S17,1,10)=\"Decorrenza\",S17=0),IF(AND(S$6<$A19,S$6>=$A18),S$6,0),IF(T$6<$A18,0,$A18))","v":"00:00:00"},{"$f":"IF(S18<>0,IF($A19<>\"\",IF(T$6<$A19,T$6,$A19-1),U$6),0)","v":"00:00:00"},{"$f":"IF(OR(S18<>0,T18<>0),IF(YEAR(S18)=YEAR(T18),T18-S18+1,DATE(YEAR(S18),12,31)-S18+1+T18-DATE(YEAR(T18),1,1)+1+365*(YEAR(T18)-YEAR(S18)-1)),0)","v":0},{"$f":"IF(U18<>0,U$6*$B18/100/365*U18,0)","v":0},{"$f":"IF(OR(MID(W17,1,10)=\"Decorrenza\",W17=0),IF(AND(W$6<$A19,W$6>=$A18),W$6,0),IF(X$6<$A18,0,$A18))","v":"00:00:00"},{"$f":"IF(W18<>0,IF($A19<>\"\",IF(X$6<$A19,X$6,$A19-1),Y$6),0)","v":"00:00:00"},{"$f":"IF(OR(W18<>0,X18<>0),IF(YEAR(W18)=YEAR(X18),X18-W18+1,DATE(YEAR(W18),12,31)-W18+1+X18-DATE(YEAR(X18),1,1)+1+365*(YEAR(X18)-YEAR(W18)-1)),0)","v":0},{"$f":"IF(Y18<>0,Y$6*$B18/100/365*Y18,0)","v":0},{"$f":"IF(OR(MID(AA17,1,10)=\"Decorrenza\",AA17=0),IF(AND(AA$6<$A19,AA$6>=$A18),AA$6,0),IF(AB$6<$A18,0,$A18))","v":"00:00:00"},{"$f":"IF(AA18<>0,IF($A19<>\"\",IF(AB$6<$A19,AB$6,$A19-1),AC$6),0)","v":"00:00:00"},{"$f":"IF(OR(AA18<>0,AB18<>0),IF(YEAR(AA18)=YEAR(AB18),AB18-AA18+1,DATE(YEAR(AA18),12,31)-AA18+1+AB18-DATE(YEAR(AB18),1,1)+1+365*(YEAR(AB18)-YEAR(AA18)-1)),0)","v":0},{"$f":"IF(AC18<>0,AC$6*$B18/100/365*AC18,0)","v":0},{"$f":"IF(OR(MID(AE17,1,10)=\"Decorrenza\",AE17=0),IF(AND(AE$6<$A19,AE$6>=$A18),AE$6,0),IF(AF$6<$A18,0,$A18))","v":"00:00:00"},{"$f":"IF(AE18<>0,IF($A19<>\"\",IF(AF$6<$A19,AF$6,$A19-1),AG$6),0)","v":"00:00:00"},{"$f":"IF(OR(AE18<>0,AF18<>0),IF(YEAR(AE18)=YEAR(AF18),AF18-AE18+1,DATE(YEAR(AE18),12,31)-AE18+1+AF18-DATE(YEAR(AF18),1,1)+1+365*(YEAR(AF18)-YEAR(AE18)-1)),0)","v":0},{"$f":"IF(AG18<>0,AG$6*$B18/100/365*AG18,0)","v":0}]
["2012-01-01",2.5,"00:00:00","00:00:00",0,0,"00:00:00","00:00:00",0,0,"00:00:00","00:00:00",0,0,"00:00:00","00:00:00",0,0,"00:00:00","00:00:00",0,0,"00:00:00","00:00:00",0,0,"00:00:00","00:00:00",0,0,"00:00:00","00:00:00",0,0]
["2013-01-01",2.5,"00:00:00","00:00:00",0,0,"00:00:00","00:00:00",0,0,"00:00:00","00:00:00",0,0,"00:00:00","00:00:00",0,0,"00:00:00","00:00:00",0,0,"00:00:00","00:00:00",0,0,"00:00:00","00:00:00",0,0,"00:00:00","00:00:00",0,0]
["2014-01-01",1,"00:00:00","00:00:00",0,0,"00:00:00","00:00:00",0,0,"00:00:00","00:00:00",0,0,"00:00:00","00:00:00",0,0,"00:00:00","00:00:00",0,0,"00:00:00","00:00:00",0,0,"00:00:00","00:00:00",0,0,"00:00:00","00:00:00",0,0]
["2015-01-01",0.5,{"$f":"IF(OR(MID(C21,1,10)=\"Decorrenza\",C21=0),IF(AND(C$6<$A23,C$6>=$A22),C$6,0),IF(D$6<$A22,0,$A22))","v":"00:00:00"},{"$f":"IF(C22<>0,IF($A23<>\"\",IF(D$6<$A23,D$6,$A23-1),E$6),0)","v":"00:00:00"},{"$f":"IF(OR(C22<>0,D22<>0),IF(YEAR(C22)=YEAR(D22),D22-C22+1,DATE(YEAR(C22),12,31)-C22+1+D22-DATE(YEAR(D22),1,1)+1+365*(YEAR(D22)-YEAR(C22)-1)),0)","v":0},{"$f":"IF(E22<>0,E$6*$B22/100/365*E22,0)","v":0},{"$f":"IF(OR(MID(G21,1,10)=\"Decorrenza\",G21=0),IF(AND(G$6<$A23,G$6>=$A22),G$6,0),IF(H$6<$A22,0,$A22))","v":"00:00:00"},{"$f":"IF(G22<>0,IF($A23<>\"\",IF(H$6<$A23,H$6,$A23-1),I$6),0)","v":"00:00:00"},{"$f":"IF(OR(G22<>0,H22<>0),IF(YEAR(G22)=YEAR(H22),H22-G22+1,DATE(YEAR(G22),12,31)-G22+1+H22-DATE(YEAR(H22),1,1)+1+365*(YEAR(H22)-YEAR(G22)-1)),0)","v":0},{"$f":"IF(I22<>0,I$6*$B22/100/365*I22,0)","v":0},{"$f":"IF(OR(MID(K21,1,10)=\"Decorrenza\",K21=0),IF(AND(K$6<$A23,K$6>=$A22),K$6,0),IF(L$6<$A22,0,$A22))","v":"00:00:00"},{"$f":"IF(K22<>0,IF($A23<>\"\",IF(L$6<$A23,L$6,$A23-1),M$6),0)","v":"00:00:00"},{"$f":"IF(OR(K22<>0,L22<>0),IF(YEAR(K22)=YEAR(L22),L22-K22+1,DATE(YEAR(K22),12,31)-K22+1+L22-DATE(YEAR(L22),1,1)+1+365*(YEAR(L22)-YEAR(K22)-1)),0)","v":0},{"$f":"IF(M22<>0,M$6*$B22/100/365*M22,0)","v":0},{"$f":"IF(OR(MID(O21,1,10)=\"Decorrenza\",O21=0),IF(AND(O$6<$A23,O$6>=$A22),O$6,0),IF(P$6<$A22,0,$A22))","v":"00:00:00"},{"$f":"IF(O22<>0,IF($A23<>\"\",IF(P$6<$A23,P$6,$A23-1),Q$6),0)","v":"00:00:00"},{"$f":"IF(OR(O22<>0,P22<>0),IF(YEAR(O22)=YEAR(P22),P22-O22+1,DATE(YEAR(O22),12,31)-O22+1+P22-DATE(YEAR(P22),1,1)+1+365*(YEAR(P22)-YEAR(O22)-1)),0)","v":0},{"$f":"IF(Q22<>0,Q$6*$B22/100/365*Q22,0)","v":0},{"$f":"IF(OR(MID(S21,1,10)=\"Decorrenza\",S21=0),IF(AND(S$6<$A23,S$6>=$A22),S$6,0),IF(T$6<$A22,0,$A22))","v":"00:00:00"},{"$f":"IF(S22<>0,IF($A23<>\"\",IF(T$6<$A23,T$6,$A23-1),U$6),0)","v":"00:00:00"},{"$f":"IF(OR(S22<>0,T22<>0),IF(YEAR(S22)=YEAR(T22),T22-S22+1,DATE(YEAR(S22),12,31)-S22+1+T22-DATE(YEAR(T22),1,1)+1+365*(YEAR(T22)-YEAR(S22)-1)),0)","v":0},{"$f":"IF(U22<>0,U$6*$B22/100/365*U22,0)","v":0},{"$f":"IF(OR(MID(W21,1,10)=\"Decorrenza\",W21=0),IF(AND(W$6<$A23,W$6>=$A22),W$6,0),IF(X$6<$A22,0,$A22))","v":"00:00:00"},{"$f":"IF(W22<>0,IF($A23<>\"\",IF(X$6<$A23,X$6,$A23-1),Y$6),0)","v":"00:00:00"},{"$f":"IF(OR(W22<>0,X22<>0),IF(YEAR(W22)=YEAR(X22),X22-W22+1,DATE(YEAR(W22),12,31)-W22+1+X22-DATE(YEAR(X22),1,1)+1+365*(YEAR(X22)-YEAR(W22)-1)),0)","v":0},{"$f":"IF(Y22<>0,Y$6*$B22/100/365*Y22,0)","v":0},{"$f":"IF(OR(MID(AA21,1,10)=\"Decorrenza\",AA21=0),IF(AND(AA$6<$A23,AA$6>=$A22),AA$6,0),IF(AB$6<$A22,0,$A22))","v":"00:00:00"},{"$f":"IF(AA22<>0,IF($A23<>\"\",IF(AB$6<$A23,AB$6,$A23-1),AC$6),0)","v":"00:00:00"},{"$f":"IF(OR(AA22<>0,AB22<>0),IF(YEAR(AA22)=YEAR(AB22),AB22-AA22+1,DATE(YEAR(AA22),12,31)-AA22+1+AB22-DATE(YEAR(AB22),1,1)+1+365*(YEAR(AB22)-YEAR(AA22)-1)),0)","v":0},{"$f":"IF(AC22<>0,AC$6*$B22/100/365*AC22,0)","v":0},{"$f":"IF(OR(MID(AE21,1,10)=\"Decorrenza\",AE21=0),IF(AND(AE$6<$A23,AE$6>=$A22),AE$6,0),IF(AF$6<$A22,0,$A22))","v":"00:00:00"},{"$f":"IF(AE22<>0,IF($A23<>\"\",IF(AF$6<$A23,AF$6,$A23-1),AG$6),0)","v":"00:00:00"},{"$f":"IF(OR(AE22<>0,AF22<>0),IF(YEAR(AE22)=YEAR(AF22),AF22-AE22+1,DATE(YEAR(AE22),12,31)-AE22+1+AF22-DATE(YEAR(AF22),1,1)+1+365*(YEAR(AF22)-YEAR(AE22)-1)),0)","v":0},{"$f":"IF(AG22<>0,AG$6*$B22/100/365*AG22,0)","v":0}]
["2016-01-01",0.2,"00:00:00","00:00:00",0,0,"00:00:00","00:00:00",0,0,"00:00:00","00:00:00",0,0,"00:00:00","00:00:00",0,0,"00:00:00","00:00:00",0,0,"00:00:00","00:00:00",0,0,"00:00:00","00:00:00",0,0,"00:00:00","00:00:00",0,0]
["2017-01-01",0.1,"00:00:00","00:00:00",0,0,"00:00:00","00:00:00",0,0,"00:00:00","00:00:00",0,0,"00:00:00","00:00:00",0,0,"00:00:00","00:00:00",0,0,"00:00:00","00:00:00",0,0,"00:00:00","00:00:00",0,0,"00:00:00","00:00:00",0,0]
[73050,null,"TOTALI",null,{"$f":"SUM(E$9:E24)","v":0},{"$f":"ROUND(SUM(F$9:F24),2)","v":0},"TOTALI",null,{"$f":"SUM(I$9:I24)","v":0},{"$f":"ROUND(SUM(J$9:J24),2)","v":0},"TOTALI",null,{"$f":"SUM(M$9:M24)","v":0},{"$f":"ROUND(SUM(N$9:N24),2)","v":0},"TOTALI",null,{"$f":"SUM(Q$9:Q24)","v":0},{"$f":"ROUND(SUM(R$9:R24),2)","v":0},"TOTALI",null,{"$f":"SUM(U$9:U24)","v":0},{"$f":"ROUND(SUM(V$9:V24),2)","v":0},"TOTALI",null,{"$f":"SUM(Y$9:Y24)","v":0},{"$f":"ROUND(SUM(Z$9:Z24),2)","v":0},"TOTALI",null,{"$f":"SUM(AC$9:AC24)","v":0},{"$f":"ROUND(SUM(AD$9:AD24),2)","v":0},"TOTALI",null,{"$f":"SUM(AG$9:AG24)","v":0},{"$f":"ROUND(SUM(AH$9:AH24),2)","v":0}]
[null,null,"L'interesse dovuto per ogni giorno successivo alla data di \"Termine calcolo interessi\" è pari a:",null,null,{"$f":"IF(F25<>0,E$6*INDEX($B$9:$B$102,MATCH(D$6,$A$9:$A$102,1))/100/365,0)","v":0},"L'interesse dovuto per ogni giorno successivo alla data di \"Termine calcolo interessi\" è pari a:",null,null,{"$f":"IF(J25<>0,I$6*INDEX($B$9:$B$102,MATCH(H$6,$A$9:$A$102,1))/100/365,0)","v":0},"L'interesse dovuto per ogni giorno successivo alla data di \"Termine calcolo interessi\" è pari a:",null,null,{"$f":"IF(N25<>0,M$6*INDEX($B$9:$B$102,MATCH(L$6,$A$9:$A$102,1))/100/365,0)","v":0},"L'interesse dovuto per ogni giorno successivo alla data di \"Termine calcolo interessi\" è pari a:",null,null,{"$f":"IF(R25<>0,Q$6*INDEX($B$9:$B$102,MATCH(P$6,$A$9:$A$102,1))/100/365,0)","v":0},"L'interesse dovuto per ogni giorno successivo alla data di \"Termine calcolo interessi\" è pari a:",null,null,{"$f":"IF(V25<>0,U$6*INDEX($B$9:$B$102,MATCH(T$6,$A$9:$A$102,1))/100/365,0)","v":0},"L'interesse dovuto per ogni giorno successivo alla data di \"Termine calcolo interessi\" è pari a:",null,null,{"$f":"IF(Z25<>0,Y$6*INDEX($B$9:$B$102,MATCH(X$6,$A$9:$A$102,1))/100/365,0)","v":0},"L'interesse dovuto per ogni giorno successivo alla data di \"Termine calcolo interessi\" è pari a:",null,null,{"$f":"IF(AD25<>0,AC$6*INDEX($B$9:$B$102,MATCH(AB$6,$A$9:$A$102,1))/100/365,0)","v":0},"L'interesse dovuto per ogni giorno successivo alla data di \"Termine calcolo interessi\" è pari a:",null,null,{"$f":"IF(AH25<>0,AG$6*INDEX($B$9:$B$102,MATCH(AF$6,$A$9:$A$102,1))/100/365,0)","v":0}]

{"sheet":"comp.revisore (vedi prima riga)","index":7,"n_rows":44,"n_cols":10,"rows_kept":44,"cut":false,"hidden":false,"merged":[[2,9,4,9],[4,0,5,0],[0,0,0,9]]}
[{"$f":"\"COMPENSO AL REVISORE PER IL BIENNIO \" & LEFT(RIGHT(menù!$A$3,10),9)","v":"COMPENSO AL REVISORE PER IL BIENNIO 2017-2018"}]
["DIGITARE solo i dati nelle celle bianche, esprimendo gli importi in €uro con 2 decimali",null,null,null,null,null,null,null,"Indice fascia","fascia risultante"]
[{"$f":"IF(AND(ragionesociale<>\"\",MID(CELL(\"nomefile\",ragionesociale),FIND(\"[\",CELL(\"nomefile\",ragionesociale))-6,6)<>\"Varie\\\",MID(CELL(\"nomefile\",ragionesociale),1,34)=\"C:\\Documenti\\Cooperative associate\"),\"Progressivo \" & MID(CELL(\"nomefile\",ragionesociale),FIND(\"-\",CELL(\"nomefile\",ragionesociale))-3,3),\"\")","v":""},null,null,"Ragione sociale:",{"$f":"ragionesociale","v":0},null,null,"fascia per n° soci",{"$f":"IF($A$14<>0,MATCH($A$14,$B$6:$D$6,1),0)","v":0},{"$f":"IF($A$14<>0,INDEX($B$4:$F$4,MAX($I$3:$I$5)),\"Mancano dati\")","v":"Mancano dati"}]
["Fasce:",{"$f":"\"A\"","v":"A"},{"$f":"\"B\"","v":"B"},{"$f":"\"C\"","v":"C"},{"$f":"\"D\"","v":"D"},{"$f":"\"E\"","v":"E"},null,"fascia per capitale",{"$f":"MATCH($B$14,$B$7:$D$7,1)","v":1}]
["Numero soci:","a partire da","a partire da","a partire da","a partire da","a partire da",null,"fascia per fatturato",{"$f":"MATCH($C$14,$B$8:$F$8,1)","v":1}]
[null,0,101,501,501,501,null,null,"compenso base",{"$f":"IF(AND($I$3<>0,$I$4<>0,$I$5<>0),ROUND(INDEX($B$11:$F$11,MAX($I$3:$I$5)),0),0)","v":0}]
["Capitale sociale versato:",0,5160.01,40000.01,40000.01,40000.01]
["Fatturato:",0,75000.009999999995,300000.01,1000000.01,2000000.01]
["Contributo:",280,680,1350,1730,2380]
["% Compenso base:",0.6,0.3,0.3,0.25,0.25]
["Compenso:",{"$f":"ROUND(B9*B10,0)","v":168},{"$f":"ROUND(C9*C10,0)","v":204},{"$f":"ROUND(D9*D10,0)","v":405},{"$f":"ROUND(E9*E10,0)","v":433},{"$f":"ROUND(F9*F10,0)","v":595}]
[null,"P A R A M E T R I    A L   31.12.2008:"]
["Numero soci","Cap.soc.vers.","Valore della produzione:","Fascia"]
[{"$f":"numerosoci","v":0},{"$f":"capitaleversato","v":0},{"$f":"valoredellaproduzione","v":0},{"$f":"$J$3","v":"Mancano dati"}]
["DIGITARE uno dei seguenti numeri, a seconda del caso che ricorre:",null,null,null,null,{"$f":"IF(AND($E$15<>\"\",$E$15<>1,$E$15<>2),\"digitato numero errato\",0)","v":0}]
["1 - Revisione effettuata"]
["2 - Revisione non effettuata"]
["Compenso spettante in relazione alla fascia",null,null,"(a)",{"$f":"IF($E$15=1,$J$6,0)","v":0}]
["MAGGIORAZIONE in relazione alla tipologia della cooperativa:"]
["DIGITARE uno dei seguenti numeri, a seconda del caso, se ricorre:",null,null,null,null,{"$f":"IF(OR(AND($D$14=\"Mancano dati\",E20<>\"\"),AND($D$14<>\"Mancano dati\",E20<>1,E20<>2,E20<>3,E20<>4,E20<>\"\")),\"digitato numero errato\",\"\")","v":""}]
["1 - Enti Cooperativi Sociali."]
["2 - Enti Cooperativi Edilizi iscritti relativo albo (art. 13 L.59/92) con programma già avviato o realizzato."]
["3 - Enti Cooperativi Edilizi non iscritti relativo albo (art. 13 L.59/92)."]
[{"$f":"\" oppure iscritte all'albo ma con progr.non ancora avviato.\"","v":" oppure iscritte all'albo ma con progr.non ancora avviato."}]
["Ispezionabili annualmente:"]
["4 - per valore della produzione, per possesso azioni di controllo"]
["     su Srl o Spa, per dimensioni riserve o prestiti sociali - art.15 L. 59/92."]
[{"$f":"IF($E$20=1,\"Aum.compenso base 10%\",IF(OR($E$20=2,$E$20=4),\"Aum.compenso base 25%\",IF($E$20=3,\"Aum.compenso base 10% (Coope.Edil.progr. avviato\",IF($E$20=5,\"Aum.compenso base 15% (Cooperative Sociali, ecc.)\",\"\"))))","v":""},null,null,{"$f":"IF(OR($E$20=2,$E$20=4),\"(b=a+25%*a)\",IF($E$20=3,\"(b=a+10%*a)\",IF($E$20=1,\"(b=a+10%*a)\",IF($E$20=5,\"(b=a+15%*a)\",\"(b)\"))))","v":"(b)"},{"$f":"IF($E$20=1,ROUND($E$18*15%,0),IF($E$20=2,ROUND($E$18*30%,0),IF($E$20=3,ROUND($E$18*10%,0),IF($E$20=4,ROUND($E$18*25%,0),0))))","v":0}]
["Compenso spettante per revisione effettuata",null,null,null,{"$f":"\"(c=a+b)\"","v":"(c=a+b)"},{"$f":"IF(SUM($E$18,$E$28)<>0,ROUND(SUM($E$18,$E$28),0),0)","v":0}]
["RIMBORSO SPESE FORFETARIO:",null,null,null,"(d)",{"$f":"IF($F$29<>0,100,0)","v":0}]
["Compenso per revisione effettuata e rimborso spese in funzione della distanza",null,null,null,null,"(e=c+d)",{"$f":"IF($E$18<>0,ROUND($F$29+$F$30,0),0)","v":0}]
["DIGITARE uno dei seguenti numeri, a seconda del caso che ricorre:",null,null,null,null,{"$f":"IF(OR(AND(OR($E$15=\"\",$E$15=2),$E$32<>\"\",$E$32<>2),AND($E$32<>1,$E$32<>2,$E$32<>\"\")),\"digitato numero errato\",0)","v":0}]
["1 - Supplemento ispettivo o Accertamento successivo a diffida: effettuato"]
["2 - Supplemento ispettivo o Accertamento successivo a diffida: non effettuato"]
[{"$f":"IF($E$32=1,\"Compenso per supplemento ispettivo o accertamento effettuato\",\"\")","v":""},null,null,null,"(f=40%*c)",{"$f":"IF($E$32=1,ROUND(40%*$F$29,0),0)","v":0}]
["RIMBORSO SPESE FORFETARIO:",null,null,null,"(g)",{"$f":"IF(AND($E$32=1,$G$31<>0),30,0)","v":0}]
["Compenso per supl.isp.o accert.effettuato e rimborso spese in funzione della distanza",null,null,null,null,"(h=f+g)",{"$f":"ROUND($F$35+$F$36,0)","v":0}]
["COMPENSO TOT. PER REVISIONE E SUPPL.ISP.O ACCERT. EFFETTUATO",null,null,null,null,"(i=e+h)",{"$f":"SUM($G$31,$G$37)","v":0}]
["MANCATA REVISIONE O MANCATO ACCERTAMENTO SU DIFFIDA:"]
["RIMBORSO SPESE FORFETARIO in relazione alla distanza tra la sede legale dell'ente e la sede di servizio del revisore:"]
["DIGITARE uno dei seguenti numeri, a seconda del caso che ricorre:",null,null,null,null,{"$f":"IF(OR(AND($E$41<>\"\",$E$41<>1,$E$41<>2),AND($E$15=1,$E$32=1,$E$41<>\"\")),\"digitato numero errato\",\"\")","v":""}]
["1 - Nel Comune ove ha sede l'ufficio del revisore o fuori dal territorio comunale e distante non più di 30 km: € 50,00"]
["2 - Fuori dal Comune ove ha sede l'ufficio del revisore e distanti più di 30 km: € 100,00"]
[{"$f":"IF(AND($E$15<>\"\",$E$15<>2,$E$41<>\"\",$F$41<>\"digitato numero errato\",$F$32<>\"digitato numero errato\"),\"COMPENSO SPETTANTE PER MANCATO ACCERTAMENTO\",IF(AND(OR($E$15=\"\",$E$15=2),$E$41<>\"\",$F$41<>\"digitato numero errato\",$F$32<>\"digitato numero errato\"),\"COMPENSO PER MANCATA REVISIONE\",\"\"))","v":""},null,null,null,null,null,{"$f":"IF($A$44<>\"\",IF($E$41=1,50,IF($E$41=2,100,0)),0)","v":0}]

{"sheet":"comp.revisore(vedi prima riga)","index":8,"n_rows":50,"n_cols":10,"rows_kept":50,"cut":false,"hidden":false,"merged":[[2,9,4,9],[4,0,5,0],[0,0,0,9]]}
[{"$f":"\"COMPENSO AL REVISORE PER IL BIENNIO \" & LEFT(RIGHT(menù!$A$4,10),9)","v":"COMPENSO AL REVISORE PER IL BIENNIO 2015-2016"}]
["DIGITARE solo i dati nelle celle bianche, esprimendo gli importi in €uro con 2 decimali",null,null,null,null,null,null,null,"Indice fascia","fascia risultante"]
[{"$f":"IF(AND(ragionesociale<>\"\",MID(CELL(\"nomefile\",ragionesociale),FIND(\"[\",CELL(\"nomefile\",ragionesociale))-6,6)<>\"Varie\\\",MID(CELL(\"nomefile\",ragionesociale),1,34)=\"C:\\Documenti\\Cooperative associate\"),\"Progressivo \" & MID(CELL(\"nomefile\",ragionesociale),FIND(\"-\",CELL(\"nomefile\",ragionesociale))-3,3),\"\")","v":""},null,null,"Ragione sociale:",{"$f":"ragionesociale","v":0},null,null,"fascia per n° soci",{"$f":"IF($A$14<>0,MATCH($A$14,$B$6:$D$6,1),0)","v":0},{"$f":"IF($A$14<>0,INDEX($B$4:$F$4,MAX($I$3:$I$5)),\"Mancano dati\")","v":"Mancano dati"}]
["Fasce:",{"$f":"\"A\"","v":"A"},{"$f":"\"B\"","v":"B"},{"$f":"\"C\"","v":"C"},{"$f":"\"D\"","v":"D"},{"$f":"\"E\"","v":"E"},null,"fascia per capitale",{"$f":"MATCH($B$14,$B$7:$D$7,1)","v":1}]
["Numero soci:","a partire da","a partire da","a partire da",null,null,null,"fascia per fatturato",{"$f":"MATCH($C$14,$B$8:$F$8,1)","v":1}]
[null,0,101,501,null,null,null,null,"compenso base",{"$f":"IF(AND($I$3<>0,$I$4<>0,$I$5<>0),ROUND(INDEX($B$11:$F$11,MAX($I$3:$I$5)),0),0)","v":0}]
["Capitale sociale versato:",0,5160.01,40000.01]
["Fatturato:",0,75000.009999999995,300000.01,1000000.01,2000000.01]
["Contributo:",260,630,1250,1600,2200]
["% Compenso base:",0.6,0.3,0.3,0.25,0.25]
["Compenso:",{"$f":"ROUND(B9*B10,0)","v":156},{"$f":"ROUND(C9*C10,0)","v":189},{"$f":"ROUND(D9*D10,0)","v":375},{"$f":"ROUND(E9*E10,0)","v":400},{"$f":"ROUND(F9*F10,0)","v":550}]
[null,"P A R A M E T R I    A L   31.12.2008:"]
["Numero soci","Cap.soc.vers.","Valore della produzione:","Fascia"]
[{"$f":"numerosoci","v":0},{"$f":"capitaleversato","v":0},{"$f":"valoredellaproduzione","v":0},{"$f":"$J$3","v":"Mancano dati"}]
["DIGITARE uno dei seguenti numeri, a seconda del caso che ricorre:",null,null,null,null,{"$f":"IF(AND($E$15<>\"\",$E$15<>1,$E$15<>2),\"digitato numero errato\",0)","v":0}]
["1 - Revisione effettuata"]
["2 - Revisione non effettuata"]
["Compenso spettante in relazione alla fascia",null,null,"(a)",{"$f":"IF($E$15=1,$J$6,0)","v":0}]
["MAGGIORAZIONE in relazione alla tipologia della cooperativa:"]
["DIGITARE uno dei seguenti numeri, a seconda del caso, se ricorre:",null,null,null,null,{"$f":"IF(OR(AND($D$14=\"Mancano dati\",E20<>\"\"),AND($D$14<>\"Mancano dati\",E20<>1,E20<>2,E20<>3,E20<>4,E20<>\"\")),\"digitato numero errato\",\"\")","v":""}]
["1 - Enti Cooperativi Sociali."]
["2 - Enti Cooperativi Edilizi iscritti relativo albo (art. 13 L.59/92) con programma già avviato o realizzato."]
["3 - Enti Cooperativi Edilizi non iscritti relativo albo (art. 13 L.59/92)."]
[{"$f":"\" oppure iscritte all'albo ma con progr.non ancora avviato.\"","v":" oppure iscritte all'albo ma con progr.non ancora avviato."}]
["Ispezionabili annualmente:"]
["4 - per valore della produzione, per possesso azioni di controllo"]
["     su Srl o Spa, per dimensioni riserve o prestiti sociali - art.15 L. 59/92."]
[{"$f":"IF($E$20=1,\"Aum.compenso base 10%\",IF(OR($E$20=2,$E$20=4),\"Aum.compenso base 25%\",IF($E$20=3,\"Aum.compenso base 10% (Coope.Edil.progr. avviato\",IF($E$20=5,\"Aum.compenso base 15% (Cooperative Sociali, ecc.)\",\"\"))))","v":""},null,null,{"$f":"IF(OR($E$20=2,$E$20=4),\"(b=a+25%*a)\",IF($E$20=3,\"(b=a+10%*a)\",IF($E$20=1,\"(b=a+10%*a)\",IF($E$20=5,\"(b=a+15%*a)\",\"(b)\"))))","v":"(b)"},{"$f":"IF($E$20=1,ROUND($E$18*15%,0),IF($E$20=2,ROUND($E$18*30%,0),IF($E$20=3,ROUND($E$18*10%,0),IF($E$20=4,ROUND($E$18*25%,0),0))))","v":0}]
["Compenso spettante per revisione effettuata",null,null,null,{"$f":"\"(c=a+b)\"","v":"(c=a+b)"},{"$f":"IF(SUM($E$18,$E$28)<>0,ROUND(SUM($E$18,$E$28),0),0)","v":0}]
[]
["RIMBORSO SPESE FORFETARIO in relazione alla distanza tra la sede legale dell'ente e la sede di servizio del revisore:"]
["DIGITARE uno dei seguenti numeri, a seconda del caso che ricorre:",null,null,null,null,{"$f":"IF(OR(AND($F$29=0,$E$32<>\"\"),AND($E$32<>1,$E$32<>2,$E$32<>\"\")),\"digitato numero errato\",\"\")","v":""}]
["1 - Nel Comune ove ha sede l'ufficio del revisore o fuori dal territorio comunale e distante non più di 30 km: € 75,00"]
["2 - Fuori dal Comune ove ha sede l'ufficio del revisore e distanti più di 30 km: € 150,00"]
[null,null,null,null,"(d)",{"$f":"IF(AND($F$29<>0,$E$32=1),75,IF(AND($F$29<>0,$E$32=2),150,0))","v":0}]
["Compenso per revisione effettuata e rimborso spese in funzione della distanza",null,null,null,null,"(e=c+d)",{"$f":"IF($E$18<>0,ROUND($F$29+$F$35,0),0)","v":0}]
["DIGITARE uno dei seguenti numeri, a seconda del caso che ricorre:",null,null,null,null,{"$f":"IF(OR(AND($F$29=0,$E$37<>\"\"),AND($E$37<>1,$E$37<>2,$E$37<>\"\")),\"digitato numero errato\",0)","v":0}]
["1 - Supplemento ispettivo o Accertamento successivo a diffida: effettuato"]
["2 - Supplemento ispettivo o Accertamento successivo a diffida: non effettuato"]
[{"$f":"IF($E$37=1,\"Compenso per supplemento ispettivo o accertamento effettuato\",\"\")","v":""},null,null,null,"(f=40%*c)",{"$f":"IF($E$37=1,ROUND(40%*$F$29,0),0)","v":0}]
["RIMBORSO SPESE FORFETARIO in relazione alla distanza tra la sede legale dell'ente e la sede di servizio del revisore:"]
[null,null,null,null,"(g)",{"$f":"IF(AND($E$32=1,$E$37=1,$G$36<>0),20,IF(AND($E$32=2,$E$37=1,$G$36<>0),40,0))","v":0}]
["Compenso per supl.isp.o accert.effettuato e rimborso spese in funzione della distanza",null,null,null,null,"(h=f+g)",{"$f":"ROUND($F$40+$F$42,0)","v":0}]
["COMPENSO TOT. PER REVISIONE E SUPPL.ISP.O ACCERT. EFFETTUATO",null,null,null,null,"(i=e+h)",{"$f":"SUM($G$36,$G$43)","v":0}]
["MANCATA REVISIONE O MANCATO ACCERTAMENTO SU DIFFIDA:"]
["RIMBORSO SPESE FORFETARIO in relazione alla distanza tra la sede legale dell'ente e la sede di servizio del revisore:"]
["DIGITARE uno dei seguenti numeri, a seconda del caso che ricorre:",null,null,null,null,{"$f":"IF(OR(AND(OR($E$15=\"\",$E$15=2),OR($E$37=\"\",$E$37=2),$E$47<>\"\"),AND($E$15=1,$E$37=1,$E$47<>\"\")),\"digitato numero errato\",IF($E$47<>\"\",IF($E$32<>\"\",IF($E$47<>$E$32,\"digitato numero errato\",\"\"),\"\"),\"\"))","v":""}]
["1 - Nel Comune ove ha sede l'ufficio del revisore o fuori dal territorio comunale e distante non più di 30 km: € 75,00"]
["2 - Fuori dal Comune ove ha sede l'ufficio del revisore e distanti più di 30 km: € 150,00"]
[{"$f":"IF(AND(OR($E$47=1,$E$47=2),$F$47<>\"digitato numero errato\"),\"COMPENSO SPETTANTE PER MANCATA REVISIONE O PER MANCATO ACCERTAMENTO\",\"\")","v":""},null,null,null,null,null,{"$f":"IF(AND($E$47=1,$F$47<>\"digitato numero errato\"),50,IF(AND($E$47=2,$F$47<>\"digitato numero errato\"),100,0))","v":0}]

{"sheet":"calcoli","index":9,"n_rows":103,"n_cols":5,"rows_kept":103,"cut":false,"hidden":false,"merged":[[73,0,73,1],[74,0,74,1],[79,0,79,2],[80,0,80,2],[39,0,39,2],[41,0,41,2],[56,0,56,1],[57,0,57,1],[58,0,58,1],[0,0,0,2],[7,0,7,2],[11,0,11,2],[15,0,15,2],[19,0,19,2],[90,0,90,2],[40,0,40,2],[44,0,44,2],[46,0,46,2],[55,0,55,2],[52,0,52,2],[53,0,53,2],[54,0,54,2],[75,0,75,2],[76,0,76,1],[77,0,77,1],[78,0,78,1],[89,0,89,2],[69,0,69,1],[70,0,70,1],[72,0,72,1],[28,0,28,2],[2,0,2,2],[33,0,33,2],[29,0,29,2],[31,0,31,2],[27,0,27,2],[29,3,29,4],[46,3,46,4],[66,0,66,2],[65,0,65,2],[71,0,71,2],[67,0,67,2],[59,0,59,1],[60,0,60,1],[61,0,61,1],[62,0,62,1],[63,0,63,1],[64,0,64,1],[68,0,68,1]]}
[{"$f":"IF(AND(ragionesociale<>\"\",MID(CELL(\"nomefile\",ragionesociale),FIND(\"[\",CELL(\"nomefile\",ragionesociale))-6,6)<>\"Varie\\\",MID(CELL(\"nomefile\",ragionesociale),1,34)=\"C:\\Documenti\\Cooperative associate\"),\"Progressivo \" & MID(CELL(\"nomefile\",ragionesociale),FIND(\"-\",CELL(\"nomefile\",ragionesociale))-3,3),\"\")","v":""},null,null,"Ragione sociale",{"$f":"ragionesociale","v":0}]
[null,"Penultimo esercizio precedente","Ultimo esercizio precedente","N° iscr.albo soc.cooperative"]
["Verifica della prevalenza",null,null,"N° iscr.associazione"]
[null,{"$f":"RIGHT('contr.biennio (vedi prima riga)'!$A$1,4)-2","v":2016},{"$f":"RIGHT('contr.biennio (vedi prima riga)'!$A$1,4)-1","v":2017},"Indirizzo sede legale"]
["A1 verso soci",null,null,"Località sede legale",""]
["Totale A1",null,null,"Indirizzo sede operativa",""]
["% Ricavi delle vendite e delle prestazioni dei soci rispetto al totale  (X)",{"$f":"IF(B6<>\"\",ROUND(B5/B6%,2) & \"%\",0)","v":0},{"$f":"IF(C6<>\"\",ROUND(C5/C6%,2) & \"%\",0)","v":0},"Località sede operativa",""]
[null,null,null,"Codice fiscale"]
["B9 verso soci",null,null,"REA"]
["Totale B9",null,null,"Settore",""]
["% Costo del lavoro dei soci rispetto al totale (Y)",{"$f":"IF(B10<>\"\",ROUND(B9/B10%,2) & \"%\",0)","v":0},{"$f":"IF(C10<>\"\",ROUND(C9/C10%,2) & \"%\",0)","v":0},"Revisione A/B (annuale/biennale)"]
[null,null,null,"Data adesione"]
["B6 conferiti dai soci",null,null,"Data scadenza"]
["Totale B6",null,null,"Data ultima revisione"]
["% Costo dei beni conferiti dai soci rispetto al totale (W)",{"$f":"IF(B14<>\"\",ROUND(B13/B14%,2) & \"%\",0)","v":0},{"$f":"IF(C14<>\"\",ROUND(C13/C14%,2) & \"%\",0)","v":0},"Codice attività"]
[null,null,null,"Data ultima modifica statutaria"]
["B7 conferiti dai soci",null,null,"Persona di riferimento cooperativa e n° di telefono"]
["Totale B7",null,null,"Legale rappresentante",""]
["% Costo della prestazione dei servizi ricevuti dai soci rispetto al totale (K)",{"$f":"IF(B18<>\"\",ROUND(B17/B18%,2) & \"%\",0)","v":0},{"$f":"IF(C18<>\"\",ROUND(C17/C18%,2) & \"%\",0)","v":0},"Indirizzo residenza legale rappresentante"]
[null,null,null,"Località residenza legale rappresentante",""]
["A1*X%",{"$f":"IF(B$7<>0,B$5*B$7,0)","v":0},{"$f":"IF(C$7<>0,C$5*C$7,0)","v":0},"Liquidatore",""]
["B9*Y%",{"$f":"IF(B$11<>0,B$9*B$11,0)","v":0},{"$f":"IF(C$98<>0,C$9*C$11,0)","v":0},"Indirizzo residenza liquidatore",""]
["B6*W%",{"$f":"IF(B$15<>0,B$13*B$15,0)","v":0},{"$f":"IF(C$15<>0,C$13*C$15,0)","v":0},"Località residenza liquidatore",""]
["B7*K%",{"$f":"IF(B$19<>0,B$17*B$19,0)","v":0},{"$f":"IF(C$19<>0,C$17*C$19,0)","v":0},"Curatore fallimentare",""]
[{"$f":"\"Sommatoria \" & A21 & \" \" & A22 & \" \" & A23 & \" \" & A24","v":"Sommatoria A1*X% B9*Y% B6*W% B7*K%"},{"$f":"SUM(B21,B22,B23,B24)","v":0},{"$f":"SUM(C21,C22,C23,C24)","v":0},"Indirizzo residenza curatore fallimentare",""]
[{"$f":"\"Sommatoria A1 B9 B6 B7\"","v":"Sommatoria A1 B9 B6 B7"},{"$f":"SUM(B$5,B$9,B$13,B$17)","v":0},{"$f":"SUM(C$5,C$9,C$13,C$17)","v":0},"Località residenza curatore fallimentare",""]
["% Media ponderata",{"$f":"IF(B$26<>0,ROUND(B$25/B$26,2),0)","v":0},{"$f":"IF(C$26<>0,ROUND(C$25/C$26,2),0)","v":0},"Note cooperativa",""]
[null,null,null,"Revisore attuale",""]
["Verifica Ristorni",null,null,"Revisori precedenti",""]
["Verifica avanzo di gestione",null,null,"CONTATTI"]
["A) Avanzo di gestione: Rigo 23 del conto economico",null,null,"Estremi invio raccomandata notifica incarico\n(n./data)"]
["Variazioni in aumento:",null,null,"Data ricevuta raccomandata notifica incarico"]
[{"$f":"\"- eventuali ristorni imputati a conto economico\"","v":"- eventuali ristorni imputati a conto economico"},null,null,"Estremi invio raccomandata diffida a consentire la revisione (n./data)",""]
["Variazioni in riduzione:",null,null,"Data ricevuta raccomandata diffida a consentire la revisione"]
[{"$f":"\"- eventuale D (solo se saldo positivo)\"","v":"- eventuale D (solo se saldo positivo)"},null,null,"Estremi invio raccomandata diffida\na consentire l'accertamento (n./data)",""]
[{"$f":"\"- eventuale E (solo se saldo positivo)\"","v":"- eventuale E (solo se saldo positivo)"},null,null,"Data ricevuta raccomandata diffida a consentire l'accertamento"]
["Totale",{"$f":"IF(SUM(B31,B33,B35:B36)<>0,SUM(B31,B33,B35:B36),0)","v":0},{"$f":"IF(SUM(C31,C33,C35:C36)<>0,SUM(C31,C33,C35:C36),0)","v":0},"Codice consulente"]
["Percentuale di prevalenza",{"$f":"IF(B$8<>0,B$9/B$8,0)","v":0},{"$f":"IF(C$8<>0,C$9/C$8,0)","v":0},"Persona/studio di riferimento"]
["B) Avanzo di gestione generato dai soci: A * percentuale di prevalenza",{"$f":"IF(B37<>0,B37*B38,0)","v":0},{"$f":"IF(C37<>0,C37*C38,0)","v":0},{"$f":"\"- N° tel.\"","v":"- N° tel."},""]
[null,null,null,{"$f":"\"- N° fax\"","v":"- N° fax"}]
["Verifica importo del ristorno",null,null,{"$f":"\"- E-mail\"","v":"- E-mail"},""]
["Cooperative di lavoro",null,null,"Data appuntamento in corso",""]
["C) Trattamenti retributivi complessivi corrisposti ai soci",null,null,"Modalità appuntamento",""]
["D) Ristorno",null,null,"Note consulente",""]
["Cooprative di utenza",null,null,"Sede di servizio"]
["E) Ristorno",null,null,"Recapiti telefonici e fax"]
["Cooperative di apporto",null,null,"COMPENSI"]
["F) Ristorno",null,null,"Data verbale inizio revisione"]
["G) Liquidazioni salariali o del prezzo del servizio",null,null,"Data verbale fine revisione"]
["H) Aumento gratuito del capitale sociale",null,null,"Data accertamento"]
["I) Distribuzione gratuita dei titoli (art. 5, L. 59/1992)",null,null,"Data relazione mancata revisione"]
[null,null,null,"Data relazione mancato accertamento"]
["N.B.: E), F) e la somma di G)+H)+I) non può essere superiore a B)",null,null,"Revisione conclusa/inviata\n(C/I)",""]
["D) non può essere superiore né a B) né al 30% di C)",null,null,"Accert.concluso/inviato\n(C/I)",""]
[null,null,null,"Importo compenso revisione calcolato dall'Ente pagatore",""]
["Verifica prestito da soci",null,null,"Risc. revis.",""]
["a) valore degli immobili risultante da dichiarazione ICI",null,null,"Importo compenso accertamento calcolato dall'Enteb pagatore",""]
["b) valore degli immobili risultante dall'ultimo bilancio",null,null,"Risc. acc.",""]
["c) valore per rettifica: (a-b)/ 2 (eventuale)",null,{"$f":"IF(AND(C$57<>\"\",C$57>=C$58),(C$57-C$5)/2,0)","v":0}]
["d) patrimonio netto dell'ultimo bilancio",null,null,"Note in generale"]
["e) patrimonio netto rettificato (c+d)",null,{"$f":"C59+C60","v":0}]
["f) prestito sociale alla data della revisione"]
["g) rapporto CICR (f / e)",null,{"$f":"IF(C61<>0,C62/C61,0)","v":0}]
["numero soci alla data revisione"]
["gg/mm/aa di chiusura dell'ultimo esercizio"]
[]
["Indici"]
["Capitale circolante netto:"]
["Attivo circolante (a)"]
["Passività a breve (b)"]
["CCN (a-b)",null,{"$f":"C69-C70","v":0}]
["Indice di indipendenza finanziaria:"]
["Patrimonio netto"]
["Capitale investito"]
["Indice di indipendenza finanziaria (a:b)",null,{"$f":"IF(C74<>\"\",IF(VALUE(C74)<>0,C73/VALUE(C74),\"Indice non significativo\"),\"\")","v":""}]
["Incidenza oneri finanziari netti sui ricavi"]
["Risultato gestione finanziaria (a)"]
["Ricavi vendite e prestazioni (b)"]
["Incidenza oneri finanziari netti sui ricavi (a:b)",null,{"$f":"IF(C78<>\"\",IF(C78<>0,ROUND(C77/C78,2),\"Indice non significativo\"),\"\")","v":""}]
[]
["Devoluzione ai fondi mutualistici"]
["a) risultato dell'esercizio"]
["b) eventuali preaccantonamenti a riserva indivisibile"]
["c) eventuale accantonamento art. 11 L. 59"]
["d) eventuali perdite di esercizio"]
["e) eventuali ristorni (deliberati dall’assemblea di bilancio)"]
["segno algebrico",{"$f":"IF(B$88>=0,\"+\",\"-\")","v":"+"},{"$f":"IF(C$88>=0,\"+\",\"-\")","v":"+"}]
["f) BASE DI CALCOLO: a + b + c - d - e ",{"$f":"IF(B82+B83+B84-B85-B86>0,B82+B83+B84-B85-B86,0)","v":0},{"$f":"IF(C82+C83+C84-C85-C86>0,C82+C83+C84-C85-C86,0)","v":0}]
["g) Importo complessivo art. 11 L. 59 (f*x/100)1)",{"$f":"IF(B88<>\"\",B88*3%,0)","v":0},{"$f":"IF(C88<>\"\",C88*3%,0)","v":0}]
[]
["Calcolo Valore della produzione per calcolo contributo revisione per le cooperative edilizie:"]
["BII S.P. ultimo esercizio:","(a)"]
["BII S.P. terzultimo esercizio:","(b)"]
["1a differenza:","(c=a-b)",{"$f":"C92-C93","v":0}]
["CI S.P. ultimo esercizio:","(d)"]
["CI S.P. terzultimo esercizio:","(e)"]
["2a differenza:","(f=d-e)",{"$f":"C95-C96","v":0}]
["A2 C.E. ultimo esercizio:","(g)"]
["A4 C.E. ultimo esercizio:","(h)"]
["max","[i=max(g;h)]",{"$f":"MAX(C98:C99)","v":0}]
["A (costi sostenuti) C.E. ultimo esercizio:","(l)"]
["3a differenza:","(m=i-l)",{"$f":"C100-C101","v":0}]
["Valore della produzione","[n=max(c;f;m)]",{"$f":"MAX(C94,C97,C102)","v":0}]

{"sheet":"costo del lavoro","index":10,"n_rows":38,"n_cols":16,"rows_kept":38,"cut":false,"hidden":false,"merged":[[37,13,37,15],[37,0,37,4],[0,14,0,15],[37,8,37,12],[0,6,0,7],[0,0,0,4],[0,8,0,12],[36,0,36,1],[36,8,36,9],[37,5,37,7]]}
["COSTO DEL LAVORO anno ",null,null,null,null,null,null,null,"COSTO DEL LAVORO anno "]
["socio/non socio\n(s/n)","nominativo lavoratore","emolumenti lordi","contributi azienda\n(inps, inail)","tfr","totale soci\n(a)","totale non soci\n(b)","totale soci e non soci\n(c=a+b)","socio/non socio\n(s/n)","nominativo lavoratore","emolumenti lordi","contributi azienda","tfr","totale soci\n(a)","totale non soci\n(b)","totale soci e non soci\n(c=a+b)"]
[null,null,null,null,null,{"$f":"IF(UPPER(A3)=\"S\",SUM(C3:E3),0)","v":0},{"$f":"IF(UPPER(A3)=\"N\",SUM(C3:E3),0)","v":0},{"$f":"SUM(F3:G3)","v":0},null,null,null,null,null,{"$f":"IF(UPPER(I3)=\"S\",SUM(K3:M3),0)","v":0},{"$f":"IF(UPPER(I3)=\"N\",SUM(K3:M3),0)","v":0},{"$f":"SUM(N3:O3)","v":0}]
[null,null,null,null,null,{"$f":"IF(UPPER(A4)=\"S\",SUM(C4:E4),0)","v":0},{"$f":"IF(UPPER(A4)=\"N\",SUM(C4:E4),0)","v":0},{"$f":"SUM(F4:G4)","v":0},null,null,null,null,null,{"$f":"IF(UPPER(I4)=\"S\",SUM(K4:M4),0)","v":0},{"$f":"IF(UPPER(I4)=\"N\",SUM(K4:M4),0)","v":0},{"$f":"SUM(N4:O4)","v":0}]
[null,null,null,null,null,0,0,0,null,null,null,null,null,0,0,0]
[null,null,null,null,null,0,0,0,null,null,null,null,null,0,0,0]
[null,null,null,null,null,0,0,0,null,null,null,null,null,0,0,0]
[null,null,null,null,null,0,0,0,null,null,null,null,null,0,0,0]
[null,null,null,null,null,0,0,0,null,null,null,null,null,0,0,0]
[null,null,null,null,null,0,0,0,null,null,null,null,null,0,0,0]
[null,null,null,null,null,0,0,0,null,null,null,null,null,0,0,0]
[null,null,null,null,null,0,0,0,null,null,null,null,null,0,0,0]
[null,null,null,null,null,0,0,0,null,null,null,null,null,0,0,0]
[null,null,null,null,null,0,0,0,null,null,null,null,null,0,0,0]
[null,null,null,null,null,0,0,0,null,null,null,null,null,0,0,0]
[null,null,null,null,null,0,0,0,null,null,null,null,null,0,0,0]
[null,null,null,null,null,0,0,0,null,null,null,null,null,0,0,0]
[null,null,null,null,null,0,0,0,null,null,null,null,null,0,0,0]
[null,null,null,null,null,0,0,0,null,null,null,null,null,0,0,0]
[null,null,null,null,null,0,0,0,null,null,null,null,null,0,0,0]
[null,null,null,null,null,0,0,0,null,null,null,null,null,0,0,0]
[null,null,null,null,null,0,0,0,null,null,null,null,null,0,0,0]
[null,null,null,null,null,0,0,0,null,null,null,null,null,0,0,0]
[null,null,null,null,null,0,0,0,null,null,null,null,null,0,0,0]
[null,null,null,null,null,0,0,0,null,null,null,null,null,0,0,0]
[null,null,null,null,null,0,0,0,null,null,null,null,null,0,0,0]
[null,null,null,null,null,0,0,0,null,null,null,null,null,0,0,0]
[null,null,null,null,null,0,0,0,null,null,null,null,null,0,0,0]
[null,null,null,null,null,0,0,0,null,null,null,null,null,0,0,0]
[null,null,null,null,null,0,0,0,null,null,null,null,null,0,0,0]
[null,null,null,null,null,0,0,0,null,null,null,null,null,0,0,0]
[null,null,null,null,null,0,0,0,null,null,null,null,null,0,0,0]
[null,null,null,null,null,0,0,0,null,null,null,null,null,0,0,0]
[null,null,null,null,null,0,0,0,null,null,null,null,null,0,0,0]
[null,null,null,null,null,0,0,0,null,null,null,null,null,0,0,0]
[null,null,null,null,null,0,0,0,null,null,null,null,null,0,0,0]
["TOTALI",null,{"$f":"SUM(C3:C36)","v":0},{"$f":"SUM(D3:D36)","v":0},{"$f":"SUM(E3:E36)","v":0},{"$f":"SUM(F$3:F36)","v":0},{"$f":"SUM(G$3:G36)","v":0},{"$f":"SUM(H3:H36)","v":0},"TOTALI",null,{"$f":"SUM(K3:K36)","v":0},{"$f":"SUM(L3:L36)","v":0},{"$f":"SUM(M3:M36)","v":0},{"$f":"SUM(N$3:N36)","v":0},{"$f":"SUM(O$3:O36)","v":0},{"$f":"SUM(P3:P36)","v":0}]
["PERCENTUALE DI PREVALENZA (tot.a/tot.c)",null,null,null,null,{"$f":"IF(H37<>0,F37/H37,0)","v":0},null,null,"PERCENTUALE DI PREVALENZA (tot.a/tot.c)",null,null,null,null,{"$f":"IF(P37<>0,N37/P37,0)","v":0}]

{"sheet":"documentazione da verificare","index":11,"n_rows":71,"n_cols":3,"rows_kept":71,"cut":false,"hidden":false,"merged":[[41,0,54,0],[1,0,1,1],[56,0,59,0],[61,0,63,0],[17,0,17,1],[25,0,25,1],[29,0,29,1],[34,0,34,1],[36,0,36,1],[37,0,39,0],[18,0,24,0],[26,0,28,0],[30,0,33,0]]}
[null,{"$f":"ragionesociale","v":0}]
["DOCUMENTI DA ESIBIRE"]
["1)","Se la revisione viene effettuata alla presenza del legale rappresentante, fotocopia del documento del legale rappresentante stesso, in corso di validità."]
["2)","Se la revisione viene effettuata alla presenza di persona delegata dal legale rappresentante, delega in originale e fotocopia del documento del legale rappresentante e del delegato, in corso di validità."]
["3)","Recente visura camerale storica.",{"$f":"ragionesocialecalcoli","v":{"$error":"#NAME?"}}]
["4)","Atto Costitutivo e Statuto Vigente."]
["5)","Copia degli ultimi due bilanci depositati (stato patrimoniale, conto economico, nota integrativa, eventuale relazione degli Amministratori, eventuale relazione dell’Organo di controllo, verbale di approvazione da parte dell'assemblea dei soci)."]
["6)","Mod. S1 per l'iscrizione al R.I. e mod. B per il deposito del bilancio d'esercizio, oltre ad altri modelli per situazioni specifiche (liquidazione, cessione, ecc.), dal bilancio dell'esercizio 2013 in poi. Fino al bilancio 2012: mod. C/17."]
["7)","Ricevuta di deposito c/o il Registro delel Imprese) del mod. S1 e/o B, dal bilancio dell'esercizio 2013 in poi. Ricevuta di deposito del bilancio ed allegati e del mod. C17, fino al bilancio 2012."]
["8)","Ricevuta del versamento del contributo biennale a norma del relativo D. M. per gli ultimi due bienni (bienni 2009/2010 e 2011/2012)."]
["9)","Ricevuta del versamento del 3% ai fondi mutualistici (art. 11 Legge 31/01/1952, n° 59) su eventuali utili conseguiti negli ultimi due esercizi."]
["10)","Ricevuta del versamento della tassa annuale di iscrizione alla C.C.I.A.A."]
["11)","Ultime due dichiarazioni dei redditi presentate, con relativa ricevuta di presentazione."]
["12)","Il numero di soci alla data della revisione ed al 31/12 dei due precedenti esercizi."]
["13)","Eventuali regolamenti interni che disciplinano la vita sociale."]
["14)","Se la cooperativa ha beneficiato di contributi pubblici: il provvedimento di erogazione del contributo pubblico."]
["15)","Nel caso la cooperativa abbia vertenze giudiziarie in corso: la relativa documentazione."]
[]
["16)","LIBRI SOCIALI (tassa di concessione governativa € 67,00 x ogni 500 pag. x ogni libro; coop.edil.\n                             € 16,75 x ogni 500 pag.; Onlus esentate):"]
[null,{"$f":"\"- Il libro dei soci.\"","v":"- Il libro dei soci."}]
[null,{"$f":"\"- il libro delle assemblee dei soci.\"","v":"- il libro delle assemblee dei soci."}]
[null,{"$f":"\"- Il libro delle assemblee del Consiglio di Amministrazione.\"","v":"- Il libro delle assemblee del Consiglio di Amministrazione."}]
[null,{"$f":"\"- Il Registro delle Deliberazioni dell'Amministratore Unico (se istituito). Non è richiesto il pagamento\n  della tassa di concessione governativa.\"","v":"- Il Registro delle Deliberazioni dell'Amministratore Unico (se istituito). Non è richiesto il pagamento\n  della tassa di concessione governativa."}]
[null,{"$f":"\"- Il Libro delle assemblee del Collegio Sindacale quando presente.\"","v":"- Il Libro delle assemblee del Collegio Sindacale quando presente."}]
[null,{"$f":"\"- Il Libro delle assemblee del Controllo Contabile quando presente.\"","v":"- Il Libro delle assemblee del Controllo Contabile quando presente."}]
[]
["17)","LIBRI CONTABILI (imposta di bollo € 32,00 x ogni 100 pag. x ogni libro; Onlus e cooperative\n                                    edilizie esentate):"]
[null,{"$f":"\"- Il Libro giornale (deve contenere la doppia numerazione, una per numerare la pagina nell’ambito\n       del volume, l’altra per individuare il volume, nel caso il libro si compone di più volumi).\"","v":"- Il Libro giornale (deve contenere la doppia numerazione, una per numerare la pagina nell’ambito\n       del volume, l’altra per individuare il volume, nel caso il libro si compone di più volumi)."}]
[null,{"$f":"\"- Il Libro degli inventari (deve contenere la doppia numerazione, una per numerare la pagina\n       nell’ambito del volume, l’altra per individuare il volume, nel caso il libro si compone di più\n       volumi).\"","v":"- Il Libro degli inventari (deve contenere la doppia numerazione, una per numerare la pagina\n       nell’ambito del volume, l’altra per individuare il volume, nel caso il libro si compone di più\n       volumi)."}]
[]
["18)","LIBRI FISCALI:"]
[null,{"$f":"\"- Il Libro Iva acquisti.\"","v":"- Il Libro Iva acquisti."}]
[null,{"$f":"\"- Il Libro Iva vendite.\"","v":"- Il Libro Iva vendite."}]
[null,{"$f":"\"- Il Libro Iva fatture differite (eventuale).\"","v":"- Il Libro Iva fatture differite (eventuale)."}]
[]
["19)","ALTRI EVENTUALI LIBRI E DOCUMENTI."]
[]
["20)","La ricevuta di invio mod. Unico - Società di capitali per i due esercizi del biennio di verifica."]
[null,"La ricevuta di invio mod. Irap per i due esercizi del biennio di verifica."]
[null,"La ricevuta di invio mod. 770 per i due esercizi del biennio di verifica, se nell'esercizio se sono state emesse\n   fatture."]
[]
["21)","Nel caso in cui lo scambio mutualistico sia il costo del lavoro:"]
[]
[null,"- Il Regolamento L. 142/2001, delibera di approvazione, deposito presso la DPL."]
[null,"- Il numero totale dei soci lavoratori alla data della revisione."]
[null,"- Il numero dei soci che svolgono funzioni amministrative e/o tecniche alla data della revisione."]
[null,"- Il numero dei dipendenti terzi alla data della revisione, distinto per impiegati e salariati."]
[null,"- La dichiarazione dei contributi previdenziali e assistenziali degli ultimi due anni (DM/10, F24 ecc.)\n   o in alternativa il modello DURC in corso di validità oppure la situazione debitoria  rilasciata\n   dall'Inps."]
[null,"- Il contratto, la lettera di assunzione, il modello UNILAV.\""]
[null," - Il libro unico del lavoro (precedentemente si esibiva il libro matricola; è sufficiente esibire copia  autenticata dal\n   consulente)."]
[null,"- Il libro degli infortuni."]
[null,"- I modelli DM10 Inps trasmessi (dal cassetto previdenziale aziende)."]
[null,"- I modelli F24, per la verifica dei versamenti dei contributi Inps."]
[null,"- Un prospetto recante il costo totale annuo del lavoro per ciascun anno del biennio oggetto di verifica e per ciascun\n   lavoratore, sottoscritto dall’amministratore o dal professionista delegato, distinguendo i lavoratori soci dai non\n   soci. Esibire inoltre la documentazione utilizzata per la redazione del prospetto."]
[null,"  Per la redazione di detto prospetto può essere utilizzato il\n   foglio excel \"documentazione da verificare\", presente sulla cartella \"contributo, interessi\n   sanzione compenso.varie.xls\", scaricabile dal sito www.cristofaro.too.it"]
[]
["22)","Per le cooperative sociali:"]
[]
[null,"- La copia dell'iscrizione all'Albo regionale, se istituito."]
[null,"- L'elenco delle eventuali convenzioni stipulate con enti pubblici e privati."]
[]
["23)","Per le cooperative Edilizie iscritte all'Albo delle Cooperative edilizie:"]
[]
[null,"- la copia della relazione annuale."]
[]
[null,"POTRA' INOLTRE ESSERE RICHIESTA LA ESIBIZIONE DEI SEGUENTI ALTRI DOCUMENTI"]
[]
["24)","Le licenze, le autorizzazioni, i permessi vari relativi alla specifica attività svolta."]
["25)","Revisione precedente."]
["26)","La situazione economico-patrimoniale aggiornata alla data della verifica."]
["27)","Le domande di ammissione e/o di dimissione dei soci."]